BEGIN:VCALENDAR
VERSION:2.0
PRODID:-//Lake Limerick Country Club - ECPv6.15.20//NONSGML v1.0//EN
CALSCALE:GREGORIAN
METHOD:PUBLISH
X-WR-CALNAME:Lake Limerick Country Club
X-ORIGINAL-URL:https://lakelimerick.com
X-WR-CALDESC:Events for Lake Limerick Country Club
REFRESH-INTERVAL;VALUE=DURATION:PT1H
X-Robots-Tag:noindex
X-PUBLISHED-TTL:PT1H
BEGIN:VTIMEZONE
TZID:America/Los_Angeles
BEGIN:DAYLIGHT
TZOFFSETFROM:-0800
TZOFFSETTO:-0700
TZNAME:PDT
DTSTART:20250309T100000
END:DAYLIGHT
BEGIN:STANDARD
TZOFFSETFROM:-0700
TZOFFSETTO:-0800
TZNAME:PST
DTSTART:20251102T090000
END:STANDARD
BEGIN:DAYLIGHT
TZOFFSETFROM:-0800
TZOFFSETTO:-0700
TZNAME:PDT
DTSTART:20260308T100000
END:DAYLIGHT
BEGIN:STANDARD
TZOFFSETFROM:-0700
TZOFFSETTO:-0800
TZNAME:PST
DTSTART:20261101T090000
END:STANDARD
BEGIN:DAYLIGHT
TZOFFSETFROM:-0800
TZOFFSETTO:-0700
TZNAME:PDT
DTSTART:20270314T100000
END:DAYLIGHT
BEGIN:STANDARD
TZOFFSETFROM:-0700
TZOFFSETTO:-0800
TZNAME:PST
DTSTART:20271107T090000
END:STANDARD
END:VTIMEZONE
BEGIN:VEVENT
DTSTART;TZID=America/Los_Angeles:20260425T060000
DTEND;TZID=America/Los_Angeles:20260425T130000
DTSTAMP:20260425T095426
CREATED:20260331T205351Z
LAST-MODIFIED:20260331T205740Z
UID:10006319-1777096800-1777122000@lakelimerick.com
SUMMARY:2026 Annual Fishing Derby
DESCRIPTION:2025_0425-Fishing-Derby-Rules
URL:https://lakelimerick.com/event/annual-2026-fishing-derby/
LOCATION:WA
END:VEVENT
BEGIN:VEVENT
DTSTART;TZID=America/Los_Angeles:20260425T133000
DTEND;TZID=America/Los_Angeles:20260425T200000
DTSTAMP:20260425T095426
CREATED:20260319T200530Z
LAST-MODIFIED:20260319T200530Z
UID:10006215-1777123800-1777147200@lakelimerick.com
SUMMARY:Private Event
DESCRIPTION:
URL:https://lakelimerick.com/event/private-event-8/
LOCATION:Great Hall & Crow’s Nest\, 790 E Saint Andrews Drive\, Shelton\, WA\, 98584\, United States
CATEGORIES:Private Event
END:VEVENT
END:VCALENDAR