BEGIN:VCALENDAR
VERSION:2.0
PRODID:-//Lake Limerick Country Club - ECPv6.15.20//NONSGML v1.0//EN
CALSCALE:GREGORIAN
METHOD:PUBLISH
X-WR-CALNAME:Lake Limerick Country Club
X-ORIGINAL-URL:https://lakelimerick.com
X-WR-CALDESC:Events for Lake Limerick Country Club
REFRESH-INTERVAL;VALUE=DURATION:PT1H
X-Robots-Tag:noindex
X-PUBLISHED-TTL:PT1H
BEGIN:VTIMEZONE
TZID:America/Los_Angeles
BEGIN:DAYLIGHT
TZOFFSETFROM:-0800
TZOFFSETTO:-0700
TZNAME:PDT
DTSTART:20290311T100000
END:DAYLIGHT
BEGIN:STANDARD
TZOFFSETFROM:-0700
TZOFFSETTO:-0800
TZNAME:PST
DTSTART:20291104T090000
END:STANDARD
BEGIN:DAYLIGHT
TZOFFSETFROM:-0800
TZOFFSETTO:-0700
TZNAME:PDT
DTSTART:20300310T100000
END:DAYLIGHT
BEGIN:STANDARD
TZOFFSETFROM:-0700
TZOFFSETTO:-0800
TZNAME:PST
DTSTART:20301103T090000
END:STANDARD
BEGIN:DAYLIGHT
TZOFFSETFROM:-0800
TZOFFSETTO:-0700
TZNAME:PDT
DTSTART:20310309T100000
END:DAYLIGHT
BEGIN:STANDARD
TZOFFSETFROM:-0700
TZOFFSETTO:-0800
TZNAME:PST
DTSTART:20311102T090000
END:STANDARD
END:VTIMEZONE
BEGIN:VEVENT
DTSTART;TZID=America/Los_Angeles:20300910T090000
DTEND;TZID=America/Los_Angeles:20300910T100000
DTSTAMP:20260425T033052
CREATED:20260424T201354Z
LAST-MODIFIED:20260424T201354Z
UID:10007450-1915261200-1915264800@lakelimerick.com
SUMMARY:Office Meeting
DESCRIPTION:
URL:https://lakelimerick.com/event/office-meeting/2030-09-10/
LOCATION:The Crows Nest\, 790 E Saint Andrews Drive\, Shelton\, WA\, 98584\, United States
CATEGORIES:Staff
END:VEVENT
BEGIN:VEVENT
DTSTART;TZID=America/Los_Angeles:20300910T100000
DTEND;TZID=America/Los_Angeles:20300910T110000
DTSTAMP:20260425T033052
CREATED:20260424T161730Z
LAST-MODIFIED:20260424T161730Z
UID:10006816-1915264800-1915268400@lakelimerick.com
SUMMARY:General Manager (Meeting)
DESCRIPTION:
URL:https://lakelimerick.com/event/general-manager-meeting-2/2030-09-10/
LOCATION:The Crows Nest\, 790 E Saint Andrews Drive\, Shelton\, WA\, 98584\, United States
CATEGORIES:Staff
END:VEVENT
BEGIN:VEVENT
DTSTART;TZID=America/Los_Angeles:20300910T100000
DTEND;TZID=America/Los_Angeles:20300910T120000
DTSTAMP:20260425T033052
CREATED:20260210T214236Z
LAST-MODIFIED:20260210T214236Z
UID:10005794-1915264800-1915272000@lakelimerick.com
SUMMARY:Mason Water Group
DESCRIPTION:
URL:https://lakelimerick.com/event/mason-water-group/2030-09-10/
LOCATION:Great Hall & Crow’s Nest\, 790 E Saint Andrews Drive\, Shelton\, WA\, 98584\, United States
CATEGORIES:Staff
END:VEVENT
BEGIN:VEVENT
DTSTART;TZID=America/Los_Angeles:20300910T120000
DTEND;TZID=America/Los_Angeles:20300910T130000
DTSTAMP:20260425T033052
CREATED:20260424T201707Z
LAST-MODIFIED:20260424T201707Z
UID:10007743-1915272000-1915275600@lakelimerick.com
SUMMARY:Office Meeting
DESCRIPTION:
URL:https://lakelimerick.com/event/office-meeting-2/2030-09-10/
LOCATION:The Crows Nest\, 790 E Saint Andrews Drive\, Shelton\, WA\, 98584\, United States
CATEGORIES:Staff
END:VEVENT
BEGIN:VEVENT
DTSTART;TZID=America/Los_Angeles:20300910T140000
DTEND;TZID=America/Los_Angeles:20300910T153000
DTSTAMP:20260425T033052
CREATED:20250731T203306Z
LAST-MODIFIED:20250831T023524Z
UID:10002912-1915279200-1915284600@lakelimerick.com
SUMMARY:Socrates Café
DESCRIPTION:Join the Conversation!\nMeetings are held on the 2nd Tuesday of each month at 2:00 pm\nin the Crows Nest\, upstairs from the Great Hall. \n \n  \nWhat is Socrates Café? \nIt is a gathering of people interested in examining philosophical and ethical questions by challenging commonly held beliefs\, dogmas\, theories\, and convictions using critical thinking and the Socratic method or Socrates debate.  (Named after the Greek philosopher\, Socrates\, this is “a form of cooperative argumentative dialogue between individuals\, based on asking and answering questions to stimulate critical thinking and to draw our ideas and underlying presumptions.”) \nPlease consider joining us to listen\, participate\, contribute\, or provide your most provocative insights and thoughts!
URL:https://lakelimerick.com/event/socrates-cafe/2030-09-10/
LOCATION:The Crows Nest\, 790 E Saint Andrews Drive\, Shelton\, WA\, 98584\, United States
CATEGORIES:Community Events
END:VEVENT
END:VCALENDAR