BEGIN:VCALENDAR
VERSION:2.0
PRODID:-//Lake Limerick Country Club - ECPv6.15.20//NONSGML v1.0//EN
CALSCALE:GREGORIAN
METHOD:PUBLISH
X-ORIGINAL-URL:https://lakelimerick.com
X-WR-CALDESC:Events for Lake Limerick Country Club
REFRESH-INTERVAL;VALUE=DURATION:PT1H
X-Robots-Tag:noindex
X-PUBLISHED-TTL:PT1H
BEGIN:VTIMEZONE
TZID:America/Los_Angeles
BEGIN:DAYLIGHT
TZOFFSETFROM:-0800
TZOFFSETTO:-0700
TZNAME:PDT
DTSTART:20270314T100000
END:DAYLIGHT
BEGIN:STANDARD
TZOFFSETFROM:-0700
TZOFFSETTO:-0800
TZNAME:PST
DTSTART:20271107T090000
END:STANDARD
BEGIN:DAYLIGHT
TZOFFSETFROM:-0800
TZOFFSETTO:-0700
TZNAME:PDT
DTSTART:20280312T100000
END:DAYLIGHT
BEGIN:STANDARD
TZOFFSETFROM:-0700
TZOFFSETTO:-0800
TZNAME:PST
DTSTART:20281105T090000
END:STANDARD
BEGIN:DAYLIGHT
TZOFFSETFROM:-0800
TZOFFSETTO:-0700
TZNAME:PDT
DTSTART:20290311T100000
END:DAYLIGHT
BEGIN:STANDARD
TZOFFSETFROM:-0700
TZOFFSETTO:-0800
TZNAME:PST
DTSTART:20291104T090000
END:STANDARD
BEGIN:DAYLIGHT
TZOFFSETFROM:-0800
TZOFFSETTO:-0700
TZNAME:PDT
DTSTART:20300310T100000
END:DAYLIGHT
BEGIN:STANDARD
TZOFFSETFROM:-0700
TZOFFSETTO:-0800
TZNAME:PST
DTSTART:20301103T090000
END:STANDARD
END:VTIMEZONE
BEGIN:VEVENT
DTSTART;TZID=America/Los_Angeles:20281207T153000
DTEND;TZID=America/Los_Angeles:20281207T163000
DTSTAMP:20260425T052309
CREATED:20260424T172735Z
LAST-MODIFIED:20260424T172735Z
UID:10006911-1859815800-1859819400@lakelimerick.com
SUMMARY:Special Board Meeting
DESCRIPTION:2026 Special Board Meetings Agenda \nThis meeting takes place on the second Thursday of each month at 3:30 PM in the Crow’s Nest. \nMeeting ID: 820 7716 5853\nPasscode: 438634\n 
URL:https://lakelimerick.com/event/executive-committee-meeting-2-4/2028-12-07/
LOCATION:Virtual and Crow’s Nest\, 790 East Saint Andrews\, Shelton\, WA\, 98584\, United States
CATEGORIES:BoD Meetings
END:VEVENT
BEGIN:VEVENT
DTSTART;TZID=America/Los_Angeles:20281214T153000
DTEND;TZID=America/Los_Angeles:20281214T163000
DTSTAMP:20260425T052309
CREATED:20260212T230226Z
LAST-MODIFIED:20260424T173130Z
UID:10006964-1860420600-1860424200@lakelimerick.com
SUMMARY:Special Board Meeting (Hybrid)
DESCRIPTION:2026 Special Board Meetings Agenda \nThis meeting takes place on the second Thursday of each month at 3:30 PM in the Crow’s Nest. \nZOOM Link\nMeeting ID: 820 7716 5853\nPasscode: 438634
URL:https://lakelimerick.com/event/executive-committee-meeting-2/2028-12-14/
LOCATION:Virtual and Crow’s Nest\, 790 East Saint Andrews\, Shelton\, WA\, 98584\, United States
CATEGORIES:BoD Meetings
END:VEVENT
BEGIN:VEVENT
DTSTART;TZID=America/Los_Angeles:20281216T090000
DTEND;TZID=America/Los_Angeles:20281216T113000
DTSTAMP:20260425T052309
CREATED:20260416T031026Z
LAST-MODIFIED:20260416T031026Z
UID:10002666-1860570000-1860579000@lakelimerick.com
SUMMARY:Board of Director's Meeting (Hybrid)
DESCRIPTION:Board of Directors Meeting\nBoard Meeting Agenda \nTime:  9AM-12PM \nLocation:  The Great Hall \nZoom Link: Link  \nMeeting ID: 893 7542 8274 \n Passcode: 208260
URL:https://lakelimerick.com/event/2375-3-3/2028-12-16/
LOCATION:The Great Hall\, 790 E St Andrews Drive\, Shelton\, WA\, 98584\, United States
CATEGORIES:BoD Meetings
END:VEVENT
BEGIN:VEVENT
DTSTART;TZID=America/Los_Angeles:20281216T113000
DTEND;TZID=America/Los_Angeles:20281216T140000
DTSTAMP:20260425T052309
CREATED:20251202T015134Z
LAST-MODIFIED:20251202T015134Z
UID:10003702-1860579000-1860588000@lakelimerick.com
SUMMARY:Board Meeting (Closed Session)
DESCRIPTION:
URL:https://lakelimerick.com/event/board-meeting-closed-session-2/2028-12-16/
LOCATION:Great Hall & Crow’s Nest\, 790 E Saint Andrews Drive\, Shelton\, WA\, 98584\, United States
CATEGORIES:BoD Meetings
END:VEVENT
BEGIN:VEVENT
DTSTART;TZID=America/Los_Angeles:20290104T153000
DTEND;TZID=America/Los_Angeles:20290104T163000
DTSTAMP:20260425T052309
CREATED:20260424T172735Z
LAST-MODIFIED:20260424T172735Z
UID:10006912-1862235000-1862238600@lakelimerick.com
SUMMARY:Special Board Meeting
DESCRIPTION:2026 Special Board Meetings Agenda \nThis meeting takes place on the second Thursday of each month at 3:30 PM in the Crow’s Nest. \nMeeting ID: 820 7716 5853\nPasscode: 438634\n 
URL:https://lakelimerick.com/event/executive-committee-meeting-2-4/2029-01-04/
LOCATION:Virtual and Crow’s Nest\, 790 East Saint Andrews\, Shelton\, WA\, 98584\, United States
CATEGORIES:BoD Meetings
END:VEVENT
BEGIN:VEVENT
DTSTART;TZID=America/Los_Angeles:20290111T153000
DTEND;TZID=America/Los_Angeles:20290111T163000
DTSTAMP:20260425T052309
CREATED:20260212T230226Z
LAST-MODIFIED:20260424T173130Z
UID:10006965-1862839800-1862843400@lakelimerick.com
SUMMARY:Special Board Meeting (Hybrid)
DESCRIPTION:2026 Special Board Meetings Agenda \nThis meeting takes place on the second Thursday of each month at 3:30 PM in the Crow’s Nest. \nZOOM Link\nMeeting ID: 820 7716 5853\nPasscode: 438634
URL:https://lakelimerick.com/event/executive-committee-meeting-2/2029-01-11/
LOCATION:Virtual and Crow’s Nest\, 790 East Saint Andrews\, Shelton\, WA\, 98584\, United States
CATEGORIES:BoD Meetings
END:VEVENT
BEGIN:VEVENT
DTSTART;TZID=America/Los_Angeles:20290120T090000
DTEND;TZID=America/Los_Angeles:20290120T113000
DTSTAMP:20260425T052309
CREATED:20260416T031026Z
LAST-MODIFIED:20260416T031026Z
UID:10002667-1863594000-1863603000@lakelimerick.com
SUMMARY:Board of Director's Meeting (Hybrid)
DESCRIPTION:Board of Directors Meeting\nBoard Meeting Agenda \nTime:  9AM-12PM \nLocation:  The Great Hall \nZoom Link: Link  \nMeeting ID: 893 7542 8274 \n Passcode: 208260
URL:https://lakelimerick.com/event/2375-3-3/2029-01-20/
LOCATION:The Great Hall\, 790 E St Andrews Drive\, Shelton\, WA\, 98584\, United States
CATEGORIES:BoD Meetings
END:VEVENT
BEGIN:VEVENT
DTSTART;TZID=America/Los_Angeles:20290120T113000
DTEND;TZID=America/Los_Angeles:20290120T140000
DTSTAMP:20260425T052309
CREATED:20251202T015134Z
LAST-MODIFIED:20251202T015134Z
UID:10003703-1863603000-1863612000@lakelimerick.com
SUMMARY:Board Meeting (Closed Session)
DESCRIPTION:
URL:https://lakelimerick.com/event/board-meeting-closed-session-2/2029-01-20/
LOCATION:Great Hall & Crow’s Nest\, 790 E Saint Andrews Drive\, Shelton\, WA\, 98584\, United States
CATEGORIES:BoD Meetings
END:VEVENT
BEGIN:VEVENT
DTSTART;TZID=America/Los_Angeles:20290201T153000
DTEND;TZID=America/Los_Angeles:20290201T163000
DTSTAMP:20260425T052309
CREATED:20260424T172735Z
LAST-MODIFIED:20260424T172735Z
UID:10006913-1864654200-1864657800@lakelimerick.com
SUMMARY:Special Board Meeting
DESCRIPTION:2026 Special Board Meetings Agenda \nThis meeting takes place on the second Thursday of each month at 3:30 PM in the Crow’s Nest. \nMeeting ID: 820 7716 5853\nPasscode: 438634\n 
URL:https://lakelimerick.com/event/executive-committee-meeting-2-4/2029-02-01/
LOCATION:Virtual and Crow’s Nest\, 790 East Saint Andrews\, Shelton\, WA\, 98584\, United States
CATEGORIES:BoD Meetings
END:VEVENT
BEGIN:VEVENT
DTSTART;TZID=America/Los_Angeles:20290208T153000
DTEND;TZID=America/Los_Angeles:20290208T163000
DTSTAMP:20260425T052309
CREATED:20260212T230226Z
LAST-MODIFIED:20260424T173130Z
UID:10006966-1865259000-1865262600@lakelimerick.com
SUMMARY:Special Board Meeting (Hybrid)
DESCRIPTION:2026 Special Board Meetings Agenda \nThis meeting takes place on the second Thursday of each month at 3:30 PM in the Crow’s Nest. \nZOOM Link\nMeeting ID: 820 7716 5853\nPasscode: 438634
URL:https://lakelimerick.com/event/executive-committee-meeting-2/2029-02-08/
LOCATION:Virtual and Crow’s Nest\, 790 East Saint Andrews\, Shelton\, WA\, 98584\, United States
CATEGORIES:BoD Meetings
END:VEVENT
BEGIN:VEVENT
DTSTART;TZID=America/Los_Angeles:20290217T090000
DTEND;TZID=America/Los_Angeles:20290217T113000
DTSTAMP:20260425T052309
CREATED:20260416T031026Z
LAST-MODIFIED:20260416T031026Z
UID:10002668-1866013200-1866022200@lakelimerick.com
SUMMARY:Board of Director's Meeting (Hybrid)
DESCRIPTION:Board of Directors Meeting\nBoard Meeting Agenda \nTime:  9AM-12PM \nLocation:  The Great Hall \nZoom Link: Link  \nMeeting ID: 893 7542 8274 \n Passcode: 208260
URL:https://lakelimerick.com/event/2375-3-3/2029-02-17/
LOCATION:The Great Hall\, 790 E St Andrews Drive\, Shelton\, WA\, 98584\, United States
CATEGORIES:BoD Meetings
END:VEVENT
BEGIN:VEVENT
DTSTART;TZID=America/Los_Angeles:20290217T113000
DTEND;TZID=America/Los_Angeles:20290217T140000
DTSTAMP:20260425T052309
CREATED:20251202T015134Z
LAST-MODIFIED:20251202T015134Z
UID:10003704-1866022200-1866031200@lakelimerick.com
SUMMARY:Board Meeting (Closed Session)
DESCRIPTION:
URL:https://lakelimerick.com/event/board-meeting-closed-session-2/2029-02-17/
LOCATION:Great Hall & Crow’s Nest\, 790 E Saint Andrews Drive\, Shelton\, WA\, 98584\, United States
CATEGORIES:BoD Meetings
END:VEVENT
BEGIN:VEVENT
DTSTART;TZID=America/Los_Angeles:20290301T153000
DTEND;TZID=America/Los_Angeles:20290301T163000
DTSTAMP:20260425T052309
CREATED:20260424T172735Z
LAST-MODIFIED:20260424T172735Z
UID:10006914-1867073400-1867077000@lakelimerick.com
SUMMARY:Special Board Meeting
DESCRIPTION:2026 Special Board Meetings Agenda \nThis meeting takes place on the second Thursday of each month at 3:30 PM in the Crow’s Nest. \nMeeting ID: 820 7716 5853\nPasscode: 438634\n 
URL:https://lakelimerick.com/event/executive-committee-meeting-2-4/2029-03-01/
LOCATION:Virtual and Crow’s Nest\, 790 East Saint Andrews\, Shelton\, WA\, 98584\, United States
CATEGORIES:BoD Meetings
END:VEVENT
BEGIN:VEVENT
DTSTART;TZID=America/Los_Angeles:20290308T153000
DTEND;TZID=America/Los_Angeles:20290308T163000
DTSTAMP:20260425T052309
CREATED:20260212T230226Z
LAST-MODIFIED:20260424T173130Z
UID:10006967-1867678200-1867681800@lakelimerick.com
SUMMARY:Special Board Meeting (Hybrid)
DESCRIPTION:2026 Special Board Meetings Agenda \nThis meeting takes place on the second Thursday of each month at 3:30 PM in the Crow’s Nest. \nZOOM Link\nMeeting ID: 820 7716 5853\nPasscode: 438634
URL:https://lakelimerick.com/event/executive-committee-meeting-2/2029-03-08/
LOCATION:Virtual and Crow’s Nest\, 790 East Saint Andrews\, Shelton\, WA\, 98584\, United States
CATEGORIES:BoD Meetings
END:VEVENT
BEGIN:VEVENT
DTSTART;TZID=America/Los_Angeles:20290317T090000
DTEND;TZID=America/Los_Angeles:20290317T113000
DTSTAMP:20260425T052309
CREATED:20260416T031026Z
LAST-MODIFIED:20260416T031026Z
UID:10002669-1868432400-1868441400@lakelimerick.com
SUMMARY:Board of Director's Meeting (Hybrid)
DESCRIPTION:Board of Directors Meeting\nBoard Meeting Agenda \nTime:  9AM-12PM \nLocation:  The Great Hall \nZoom Link: Link  \nMeeting ID: 893 7542 8274 \n Passcode: 208260
URL:https://lakelimerick.com/event/2375-3-3/2029-03-17/
LOCATION:The Great Hall\, 790 E St Andrews Drive\, Shelton\, WA\, 98584\, United States
CATEGORIES:BoD Meetings
END:VEVENT
BEGIN:VEVENT
DTSTART;TZID=America/Los_Angeles:20290317T113000
DTEND;TZID=America/Los_Angeles:20290317T140000
DTSTAMP:20260425T052309
CREATED:20251202T015134Z
LAST-MODIFIED:20251202T015134Z
UID:10003705-1868441400-1868450400@lakelimerick.com
SUMMARY:Board Meeting (Closed Session)
DESCRIPTION:
URL:https://lakelimerick.com/event/board-meeting-closed-session-2/2029-03-17/
LOCATION:Great Hall & Crow’s Nest\, 790 E Saint Andrews Drive\, Shelton\, WA\, 98584\, United States
CATEGORIES:BoD Meetings
END:VEVENT
BEGIN:VEVENT
DTSTART;TZID=America/Los_Angeles:20290405T153000
DTEND;TZID=America/Los_Angeles:20290405T163000
DTSTAMP:20260425T052309
CREATED:20260424T172735Z
LAST-MODIFIED:20260424T172735Z
UID:10006915-1870097400-1870101000@lakelimerick.com
SUMMARY:Special Board Meeting
DESCRIPTION:2026 Special Board Meetings Agenda \nThis meeting takes place on the second Thursday of each month at 3:30 PM in the Crow’s Nest. \nMeeting ID: 820 7716 5853\nPasscode: 438634\n 
URL:https://lakelimerick.com/event/executive-committee-meeting-2-4/2029-04-05/
LOCATION:Virtual and Crow’s Nest\, 790 East Saint Andrews\, Shelton\, WA\, 98584\, United States
CATEGORIES:BoD Meetings
END:VEVENT
BEGIN:VEVENT
DTSTART;TZID=America/Los_Angeles:20290412T153000
DTEND;TZID=America/Los_Angeles:20290412T163000
DTSTAMP:20260425T052309
CREATED:20260212T230226Z
LAST-MODIFIED:20260424T173130Z
UID:10006968-1870702200-1870705800@lakelimerick.com
SUMMARY:Special Board Meeting (Hybrid)
DESCRIPTION:2026 Special Board Meetings Agenda \nThis meeting takes place on the second Thursday of each month at 3:30 PM in the Crow’s Nest. \nZOOM Link\nMeeting ID: 820 7716 5853\nPasscode: 438634
URL:https://lakelimerick.com/event/executive-committee-meeting-2/2029-04-12/
LOCATION:Virtual and Crow’s Nest\, 790 East Saint Andrews\, Shelton\, WA\, 98584\, United States
CATEGORIES:BoD Meetings
END:VEVENT
BEGIN:VEVENT
DTSTART;TZID=America/Los_Angeles:20290421T090000
DTEND;TZID=America/Los_Angeles:20290421T113000
DTSTAMP:20260425T052309
CREATED:20260416T031026Z
LAST-MODIFIED:20260416T031026Z
UID:10002670-1871456400-1871465400@lakelimerick.com
SUMMARY:Board of Director's Meeting (Hybrid)
DESCRIPTION:Board of Directors Meeting\nBoard Meeting Agenda \nTime:  9AM-12PM \nLocation:  The Great Hall \nZoom Link: Link  \nMeeting ID: 893 7542 8274 \n Passcode: 208260
URL:https://lakelimerick.com/event/2375-3-3/2029-04-21/
LOCATION:The Great Hall\, 790 E St Andrews Drive\, Shelton\, WA\, 98584\, United States
CATEGORIES:BoD Meetings
END:VEVENT
BEGIN:VEVENT
DTSTART;TZID=America/Los_Angeles:20290421T113000
DTEND;TZID=America/Los_Angeles:20290421T140000
DTSTAMP:20260425T052309
CREATED:20251202T015134Z
LAST-MODIFIED:20251202T015134Z
UID:10003706-1871465400-1871474400@lakelimerick.com
SUMMARY:Board Meeting (Closed Session)
DESCRIPTION:
URL:https://lakelimerick.com/event/board-meeting-closed-session-2/2029-04-21/
LOCATION:Great Hall & Crow’s Nest\, 790 E Saint Andrews Drive\, Shelton\, WA\, 98584\, United States
CATEGORIES:BoD Meetings
END:VEVENT
BEGIN:VEVENT
DTSTART;TZID=America/Los_Angeles:20290503T153000
DTEND;TZID=America/Los_Angeles:20290503T163000
DTSTAMP:20260425T052309
CREATED:20260424T172735Z
LAST-MODIFIED:20260424T172735Z
UID:10006916-1872516600-1872520200@lakelimerick.com
SUMMARY:Special Board Meeting
DESCRIPTION:2026 Special Board Meetings Agenda \nThis meeting takes place on the second Thursday of each month at 3:30 PM in the Crow’s Nest. \nMeeting ID: 820 7716 5853\nPasscode: 438634\n 
URL:https://lakelimerick.com/event/executive-committee-meeting-2-4/2029-05-03/
LOCATION:Virtual and Crow’s Nest\, 790 East Saint Andrews\, Shelton\, WA\, 98584\, United States
CATEGORIES:BoD Meetings
END:VEVENT
BEGIN:VEVENT
DTSTART;TZID=America/Los_Angeles:20290510T153000
DTEND;TZID=America/Los_Angeles:20290510T163000
DTSTAMP:20260425T052309
CREATED:20260212T230226Z
LAST-MODIFIED:20260424T173130Z
UID:10006969-1873121400-1873125000@lakelimerick.com
SUMMARY:Special Board Meeting (Hybrid)
DESCRIPTION:2026 Special Board Meetings Agenda \nThis meeting takes place on the second Thursday of each month at 3:30 PM in the Crow’s Nest. \nZOOM Link\nMeeting ID: 820 7716 5853\nPasscode: 438634
URL:https://lakelimerick.com/event/executive-committee-meeting-2/2029-05-10/
LOCATION:Virtual and Crow’s Nest\, 790 East Saint Andrews\, Shelton\, WA\, 98584\, United States
CATEGORIES:BoD Meetings
END:VEVENT
BEGIN:VEVENT
DTSTART;TZID=America/Los_Angeles:20290519T090000
DTEND;TZID=America/Los_Angeles:20290519T113000
DTSTAMP:20260425T052309
CREATED:20260416T031026Z
LAST-MODIFIED:20260416T031026Z
UID:10002671-1873875600-1873884600@lakelimerick.com
SUMMARY:Board of Director's Meeting (Hybrid)
DESCRIPTION:Board of Directors Meeting\nBoard Meeting Agenda \nTime:  9AM-12PM \nLocation:  The Great Hall \nZoom Link: Link  \nMeeting ID: 893 7542 8274 \n Passcode: 208260
URL:https://lakelimerick.com/event/2375-3-3/2029-05-19/
LOCATION:The Great Hall\, 790 E St Andrews Drive\, Shelton\, WA\, 98584\, United States
CATEGORIES:BoD Meetings
END:VEVENT
BEGIN:VEVENT
DTSTART;TZID=America/Los_Angeles:20290519T113000
DTEND;TZID=America/Los_Angeles:20290519T140000
DTSTAMP:20260425T052309
CREATED:20251202T015134Z
LAST-MODIFIED:20251202T015134Z
UID:10003707-1873884600-1873893600@lakelimerick.com
SUMMARY:Board Meeting (Closed Session)
DESCRIPTION:
URL:https://lakelimerick.com/event/board-meeting-closed-session-2/2029-05-19/
LOCATION:Great Hall & Crow’s Nest\, 790 E Saint Andrews Drive\, Shelton\, WA\, 98584\, United States
CATEGORIES:BoD Meetings
END:VEVENT
BEGIN:VEVENT
DTSTART;TZID=America/Los_Angeles:20290607T153000
DTEND;TZID=America/Los_Angeles:20290607T163000
DTSTAMP:20260425T052309
CREATED:20260424T172735Z
LAST-MODIFIED:20260424T172735Z
UID:10006917-1875540600-1875544200@lakelimerick.com
SUMMARY:Special Board Meeting
DESCRIPTION:2026 Special Board Meetings Agenda \nThis meeting takes place on the second Thursday of each month at 3:30 PM in the Crow’s Nest. \nMeeting ID: 820 7716 5853\nPasscode: 438634\n 
URL:https://lakelimerick.com/event/executive-committee-meeting-2-4/2029-06-07/
LOCATION:Virtual and Crow’s Nest\, 790 East Saint Andrews\, Shelton\, WA\, 98584\, United States
CATEGORIES:BoD Meetings
END:VEVENT
BEGIN:VEVENT
DTSTART;TZID=America/Los_Angeles:20290614T153000
DTEND;TZID=America/Los_Angeles:20290614T163000
DTSTAMP:20260425T052309
CREATED:20260212T230226Z
LAST-MODIFIED:20260424T173130Z
UID:10006970-1876145400-1876149000@lakelimerick.com
SUMMARY:Special Board Meeting (Hybrid)
DESCRIPTION:2026 Special Board Meetings Agenda \nThis meeting takes place on the second Thursday of each month at 3:30 PM in the Crow’s Nest. \nZOOM Link\nMeeting ID: 820 7716 5853\nPasscode: 438634
URL:https://lakelimerick.com/event/executive-committee-meeting-2/2029-06-14/
LOCATION:Virtual and Crow’s Nest\, 790 East Saint Andrews\, Shelton\, WA\, 98584\, United States
CATEGORIES:BoD Meetings
END:VEVENT
BEGIN:VEVENT
DTSTART;TZID=America/Los_Angeles:20290616T090000
DTEND;TZID=America/Los_Angeles:20290616T113000
DTSTAMP:20260425T052309
CREATED:20260416T031026Z
LAST-MODIFIED:20260416T031026Z
UID:10002672-1876294800-1876303800@lakelimerick.com
SUMMARY:Board of Director's Meeting (Hybrid)
DESCRIPTION:Board of Directors Meeting\nBoard Meeting Agenda \nTime:  9AM-12PM \nLocation:  The Great Hall \nZoom Link: Link  \nMeeting ID: 893 7542 8274 \n Passcode: 208260
URL:https://lakelimerick.com/event/2375-3-3/2029-06-16/
LOCATION:The Great Hall\, 790 E St Andrews Drive\, Shelton\, WA\, 98584\, United States
CATEGORIES:BoD Meetings
END:VEVENT
BEGIN:VEVENT
DTSTART;TZID=America/Los_Angeles:20290616T113000
DTEND;TZID=America/Los_Angeles:20290616T140000
DTSTAMP:20260425T052309
CREATED:20251202T015134Z
LAST-MODIFIED:20251202T015134Z
UID:10003708-1876303800-1876312800@lakelimerick.com
SUMMARY:Board Meeting (Closed Session)
DESCRIPTION:
URL:https://lakelimerick.com/event/board-meeting-closed-session-2/2029-06-16/
LOCATION:Great Hall & Crow’s Nest\, 790 E Saint Andrews Drive\, Shelton\, WA\, 98584\, United States
CATEGORIES:BoD Meetings
END:VEVENT
BEGIN:VEVENT
DTSTART;TZID=America/Los_Angeles:20290705T153000
DTEND;TZID=America/Los_Angeles:20290705T163000
DTSTAMP:20260425T052309
CREATED:20260424T172735Z
LAST-MODIFIED:20260424T172735Z
UID:10006918-1877959800-1877963400@lakelimerick.com
SUMMARY:Special Board Meeting
DESCRIPTION:2026 Special Board Meetings Agenda \nThis meeting takes place on the second Thursday of each month at 3:30 PM in the Crow’s Nest. \nMeeting ID: 820 7716 5853\nPasscode: 438634\n 
URL:https://lakelimerick.com/event/executive-committee-meeting-2-4/2029-07-05/
LOCATION:Virtual and Crow’s Nest\, 790 East Saint Andrews\, Shelton\, WA\, 98584\, United States
CATEGORIES:BoD Meetings
END:VEVENT
BEGIN:VEVENT
DTSTART;TZID=America/Los_Angeles:20290712T153000
DTEND;TZID=America/Los_Angeles:20290712T163000
DTSTAMP:20260425T052309
CREATED:20260212T230226Z
LAST-MODIFIED:20260424T173130Z
UID:10006971-1878564600-1878568200@lakelimerick.com
SUMMARY:Special Board Meeting (Hybrid)
DESCRIPTION:2026 Special Board Meetings Agenda \nThis meeting takes place on the second Thursday of each month at 3:30 PM in the Crow’s Nest. \nZOOM Link\nMeeting ID: 820 7716 5853\nPasscode: 438634
URL:https://lakelimerick.com/event/executive-committee-meeting-2/2029-07-12/
LOCATION:Virtual and Crow’s Nest\, 790 East Saint Andrews\, Shelton\, WA\, 98584\, United States
CATEGORIES:BoD Meetings
END:VEVENT
END:VCALENDAR