BEGIN:VCALENDAR
VERSION:2.0
PRODID:-//Lake Limerick Country Club - ECPv6.15.20//NONSGML v1.0//EN
CALSCALE:GREGORIAN
METHOD:PUBLISH
X-ORIGINAL-URL:https://lakelimerick.com
X-WR-CALDESC:Events for Lake Limerick Country Club
REFRESH-INTERVAL;VALUE=DURATION:PT1H
X-Robots-Tag:noindex
X-PUBLISHED-TTL:PT1H
BEGIN:VTIMEZONE
TZID:America/Los_Angeles
BEGIN:DAYLIGHT
TZOFFSETFROM:-0800
TZOFFSETTO:-0700
TZNAME:PDT
DTSTART:20240310T100000
END:DAYLIGHT
BEGIN:STANDARD
TZOFFSETFROM:-0700
TZOFFSETTO:-0800
TZNAME:PST
DTSTART:20241103T090000
END:STANDARD
BEGIN:DAYLIGHT
TZOFFSETFROM:-0800
TZOFFSETTO:-0700
TZNAME:PDT
DTSTART:20250309T100000
END:DAYLIGHT
BEGIN:STANDARD
TZOFFSETFROM:-0700
TZOFFSETTO:-0800
TZNAME:PST
DTSTART:20251102T090000
END:STANDARD
BEGIN:DAYLIGHT
TZOFFSETFROM:-0800
TZOFFSETTO:-0700
TZNAME:PDT
DTSTART:20260308T100000
END:DAYLIGHT
BEGIN:STANDARD
TZOFFSETFROM:-0700
TZOFFSETTO:-0800
TZNAME:PST
DTSTART:20261101T090000
END:STANDARD
END:VTIMEZONE
BEGIN:VEVENT
DTSTART;TZID=America/Los_Angeles:20251103T100000
DTEND;TZID=America/Los_Angeles:20251103T120000
DTSTAMP:20260422T030936
CREATED:20250730T212451Z
LAST-MODIFIED:20250730T212911Z
UID:10001174-1762164000-1762171200@lakelimerick.com
SUMMARY:Compliance Committee Meeting
DESCRIPTION:Time:  10am-12pm \nLocation (HYBRID):  Crow’s Nest or Zoom \nZoom Link: Zoom \nMeeting ID: 838 4345 1516 \nPasscode: 011276
URL:https://lakelimerick.com/event/compliance-committee-meeting/2025-11-03/
LOCATION:The Crows Nest\, 790 E Saint Andrews Drive\, Shelton\, WA\, 98584\, United States
CATEGORIES:Committee Meetings
END:VEVENT
BEGIN:VEVENT
DTSTART;TZID=America/Los_Angeles:20251104T133000
DTEND;TZID=America/Los_Angeles:20251104T153000
DTSTAMP:20260422T030936
CREATED:20250730T213312Z
LAST-MODIFIED:20250803T083113Z
UID:10001234-1762263000-1762270200@lakelimerick.com
SUMMARY:Greens Committee Meeting
DESCRIPTION:
URL:https://lakelimerick.com/event/greens-committee-meeting/2025-11-04/
LOCATION:LLCC Pro Shop\, 811 E Saint Andrews Drive\, Shelton\, WA\, 98584\, United States
CATEGORIES:Committee Meetings
END:VEVENT
BEGIN:VEVENT
DTSTART;TZID=America/Los_Angeles:20251104T140000
DTEND;TZID=America/Los_Angeles:20251104T153000
DTSTAMP:20260422T030936
CREATED:20251030T175451Z
LAST-MODIFIED:20251103T231516Z
UID:10003560-1762264800-1762270200@lakelimerick.com
SUMMARY:Lake/Dams/Parks-Park Planning Meeting
DESCRIPTION:Executive Park Planning \nLake/Dams/Parks Park Planning Meeting 2-3:30 pm in the Crow’s Nest
URL:https://lakelimerick.com/event/lake-dams-parks-park-planning-meeting/
LOCATION:Great Hall & Crow’s Nest\, 790 E Saint Andrews Drive\, Shelton\, WA\, 98584\, United States
CATEGORIES:Committee Meetings
END:VEVENT
BEGIN:VEVENT
DTSTART;TZID=America/Los_Angeles:20251105T110000
DTEND;TZID=America/Los_Angeles:20251105T113000
DTSTAMP:20260422T030936
CREATED:20251103T173701Z
LAST-MODIFIED:20251103T173701Z
UID:10003561-1762340400-1762342200@lakelimerick.com
SUMMARY:Water Dept. Meeting
DESCRIPTION:
URL:https://lakelimerick.com/event/water-dept-meeting/
LOCATION:The Crows Nest\, 790 E Saint Andrews Drive\, Shelton\, WA\, 98584\, United States
CATEGORIES:Committee Meetings
END:VEVENT
BEGIN:VEVENT
DTSTART;TZID=America/Los_Angeles:20251105T143000
DTEND;TZID=America/Los_Angeles:20251105T163000
DTSTAMP:20260422T030936
CREATED:20250730T214820Z
LAST-MODIFIED:20250730T214820Z
UID:10001615-1762353000-1762360200@lakelimerick.com
SUMMARY:Inn Committee
DESCRIPTION:Time:  2:30pm-4:30pm \nLocation:  Crow’s Nest
URL:https://lakelimerick.com/event/inn-committee/2025-11-05/
LOCATION:The Crows Nest\, 790 E Saint Andrews Drive\, Shelton\, WA\, 98584\, United States
CATEGORIES:Committee Meetings
END:VEVENT
BEGIN:VEVENT
DTSTART;TZID=America/Los_Angeles:20251106T180000
DTEND;TZID=America/Los_Angeles:20251106T190000
DTSTAMP:20260422T030936
CREATED:20250730T214241Z
LAST-MODIFIED:20260129T202438Z
UID:10001555-1762452000-1762455600@lakelimerick.com
SUMMARY:Greenbelts & Trails Committee
DESCRIPTION:Meets 1st Thursday of each month at 6:00pm in the Crow’s Nest (Inn Upstairs) \nOur focus is to work on being more intentional with the appearance\, use\, & upkeep of our greenbelt areas and entranceways. Work to mitigate safety concerns.  Provide opportunities to volunteer on the committee\, and or\, in helping adopt various areas for upkeep and neighborhood watch as plans progress.
URL:https://lakelimerick.com/event/greenbelts-trees-trails-committee/2025-11-06/
LOCATION:The Crows Nest\, 790 E Saint Andrews Drive\, Shelton\, WA\, 98584\, United States
CATEGORIES:Committee Meetings
END:VEVENT
BEGIN:VEVENT
DTSTART;TZID=America/Los_Angeles:20251107T153000
DTEND;TZID=America/Los_Angeles:20251107T170000
DTSTAMP:20260422T030936
CREATED:20251104T163647Z
LAST-MODIFIED:20251104T163647Z
UID:10001675-1762529400-1762534800@lakelimerick.com
SUMMARY:Architectural Committee
DESCRIPTION:Meeting has been moved to the 7th of November\, due to members unable to attend and giving the committee time to present to the board the next weekend.
URL:https://lakelimerick.com/event/architecture-committee-2/
LOCATION:The Crows Nest\, 790 E Saint Andrews Drive\, Shelton\, WA\, 98584\, United States
CATEGORIES:Committee Meetings
ORGANIZER;CN="Architecture Committee":MAILTO:arch@lakelimerick.net
END:VEVENT
END:VCALENDAR