BEGIN:VCALENDAR
VERSION:2.0
PRODID:-//Lake Limerick Country Club - ECPv6.15.20//NONSGML v1.0//EN
CALSCALE:GREGORIAN
METHOD:PUBLISH
X-ORIGINAL-URL:https://lakelimerick.com
X-WR-CALDESC:Events for Lake Limerick Country Club
REFRESH-INTERVAL;VALUE=DURATION:PT1H
X-Robots-Tag:noindex
X-PUBLISHED-TTL:PT1H
BEGIN:VTIMEZONE
TZID:America/Los_Angeles
BEGIN:DAYLIGHT
TZOFFSETFROM:-0800
TZOFFSETTO:-0700
TZNAME:PDT
DTSTART:20250309T100000
END:DAYLIGHT
BEGIN:STANDARD
TZOFFSETFROM:-0700
TZOFFSETTO:-0800
TZNAME:PST
DTSTART:20251102T090000
END:STANDARD
BEGIN:DAYLIGHT
TZOFFSETFROM:-0800
TZOFFSETTO:-0700
TZNAME:PDT
DTSTART:20260308T100000
END:DAYLIGHT
BEGIN:STANDARD
TZOFFSETFROM:-0700
TZOFFSETTO:-0800
TZNAME:PST
DTSTART:20261101T090000
END:STANDARD
BEGIN:DAYLIGHT
TZOFFSETFROM:-0800
TZOFFSETTO:-0700
TZNAME:PDT
DTSTART:20270314T100000
END:DAYLIGHT
BEGIN:STANDARD
TZOFFSETFROM:-0700
TZOFFSETTO:-0800
TZNAME:PST
DTSTART:20271107T090000
END:STANDARD
END:VTIMEZONE
BEGIN:VEVENT
DTSTART;TZID=America/Los_Angeles:20260422T100000
DTEND;TZID=America/Los_Angeles:20260422T130000
DTSTAMP:20260425T055752
CREATED:20260422T153318Z
LAST-MODIFIED:20260422T153318Z
UID:10006361-1776852000-1776862800@lakelimerick.com
SUMMARY:Inn Island Bridge Meeting
DESCRIPTION:
URL:https://lakelimerick.com/event/inn-island-bridge-meeting-2/
LOCATION:The Crows Nest\, 790 E Saint Andrews Drive\, Shelton\, WA\, 98584\, United States
CATEGORIES:Committee Meetings
END:VEVENT
BEGIN:VEVENT
DTSTART;TZID=America/Los_Angeles:20260423T113000
DTEND;TZID=America/Los_Angeles:20260423T130000
DTSTAMP:20260425T055752
CREATED:20260112T201546Z
LAST-MODIFIED:20260112T201546Z
UID:10005076-1776943800-1776949200@lakelimerick.com
SUMMARY:Park Strategic Planning Sub-Team
DESCRIPTION:
URL:https://lakelimerick.com/event/park-strategic-planning-sub-team/2026-04-23/
LOCATION:The Crows Nest\, 790 E Saint Andrews Drive\, Shelton\, WA\, 98584\, United States
CATEGORIES:Committee Meetings
END:VEVENT
BEGIN:VEVENT
DTSTART;TZID=America/Los_Angeles:20260423T153000
DTEND;TZID=America/Los_Angeles:20260423T173000
DTSTAMP:20260425T055752
CREATED:20260421T151205Z
LAST-MODIFIED:20260421T151319Z
UID:10006360-1776958200-1776965400@lakelimerick.com
SUMMARY:Water Meeting April 23 2026 (Hybrid)
DESCRIPTION:Topic: Water System Utility Committee Hybrid Zoom Meeting \n\n\nTime: Apr 23\, 2026 03:30 PM Pacific Time (US and Canada) \n\n\nJoin Zoom Meeting \n\n\nhttps://us06web.zoom.us/j/85390094214?pwd=NBAdsvkEAjp1EvUaUaKfNqztXNTQGA.1 \n\n\n\n\n\nView meeting insights with Zoom AI Companion \n\n\nhttps://us06web.zoom.us/launch/edl?muid=f6713932-2f99-428c-aa2d-e1df717bda56 \n\n\n\n\n\nMeeting ID: 853 9009 4214 \n\n\nPasscode: 751743 \n\n\n\n\n\nOne tap mobile \n\n\n+12532050468\,\,85390094214#\,\,\,\,*751743# US \n\n\n+12532158782\,\,85390094214#\,\,\,\,*751743# US (Tacoma) \n\n\n\n\n\nJoin instructions \n\n\nhttps://us06web.zoom.us/meetings/85390094214/invitations?signature=Coa0nN5bjbZ7RwaTw33KoGznwgTrkM4G5Zfm3DwCZxw \n\n\n\n\n\nI’m looking forward to a productive meeting and re-welcoming Phyllis Antonsen and Don Bird as our newest re-elected members.
URL:https://lakelimerick.com/event/water-meeting-april-23-2026-hybrid/
LOCATION:The Crows Nest\, 790 E Saint Andrews Drive\, Shelton\, WA\, 98584\, United States
CATEGORIES:Committee Meetings
END:VEVENT
BEGIN:VEVENT
DTSTART;TZID=America/Los_Angeles:20260423T153000
DTEND;TZID=America/Los_Angeles:20260423T180000
DTSTAMP:20260425T055752
CREATED:20260326T155844Z
LAST-MODIFIED:20260326T163938Z
UID:10006224-1776958200-1776967200@lakelimerick.com
SUMMARY:Water Committee Meeting (Hybrid)
DESCRIPTION:Water System Utility Committee Meeting \n \nCrow’s Nest or Zoom \nZoom Link \nMeeting ID:  882 7511 6055 \nPasscode:  822 423
URL:https://lakelimerick.com/event/water-committee-meeting-hybrid/
LOCATION:The Crows Nest\, 790 E Saint Andrews Drive\, Shelton\, WA\, 98584\, United States
CATEGORIES:Committee Meetings
END:VEVENT
END:VCALENDAR