BEGIN:VCALENDAR
VERSION:2.0
PRODID:-//Lake Limerick Country Club - ECPv6.15.20//NONSGML v1.0//EN
CALSCALE:GREGORIAN
METHOD:PUBLISH
X-ORIGINAL-URL:https://lakelimerick.com
X-WR-CALDESC:Events for Lake Limerick Country Club
REFRESH-INTERVAL;VALUE=DURATION:PT1H
X-Robots-Tag:noindex
X-PUBLISHED-TTL:PT1H
BEGIN:VTIMEZONE
TZID:America/Los_Angeles
BEGIN:DAYLIGHT
TZOFFSETFROM:-0800
TZOFFSETTO:-0700
TZNAME:PDT
DTSTART:20250309T100000
END:DAYLIGHT
BEGIN:STANDARD
TZOFFSETFROM:-0700
TZOFFSETTO:-0800
TZNAME:PST
DTSTART:20251102T090000
END:STANDARD
BEGIN:DAYLIGHT
TZOFFSETFROM:-0800
TZOFFSETTO:-0700
TZNAME:PDT
DTSTART:20260308T100000
END:DAYLIGHT
BEGIN:STANDARD
TZOFFSETFROM:-0700
TZOFFSETTO:-0800
TZNAME:PST
DTSTART:20261101T090000
END:STANDARD
BEGIN:DAYLIGHT
TZOFFSETFROM:-0800
TZOFFSETTO:-0700
TZNAME:PDT
DTSTART:20270314T100000
END:DAYLIGHT
BEGIN:STANDARD
TZOFFSETFROM:-0700
TZOFFSETTO:-0800
TZNAME:PST
DTSTART:20271107T090000
END:STANDARD
END:VTIMEZONE
BEGIN:VEVENT
DTSTART;TZID=America/Los_Angeles:20260821T100000
DTEND;TZID=America/Los_Angeles:20260821T110000
DTSTAMP:20260425T074603
CREATED:20260424T161730Z
LAST-MODIFIED:20260424T161730Z
UID:10006393-1787306400-1787310000@lakelimerick.com
SUMMARY:General Manager (Meeting)
DESCRIPTION:
URL:https://lakelimerick.com/event/general-manager-meeting-2/2026-08-21/
LOCATION:The Crows Nest\, 790 E Saint Andrews Drive\, Shelton\, WA\, 98584\, United States
CATEGORIES:Staff
END:VEVENT
BEGIN:VEVENT
DTSTART;TZID=America/Los_Angeles:20260825T090000
DTEND;TZID=America/Los_Angeles:20260825T100000
DTSTAMP:20260425T074603
CREATED:20260424T201354Z
LAST-MODIFIED:20260424T201354Z
UID:10007028-1787648400-1787652000@lakelimerick.com
SUMMARY:Office Meeting
DESCRIPTION:
URL:https://lakelimerick.com/event/office-meeting/2026-08-25/
LOCATION:The Crows Nest\, 790 E Saint Andrews Drive\, Shelton\, WA\, 98584\, United States
CATEGORIES:Staff
END:VEVENT
BEGIN:VEVENT
DTSTART;TZID=America/Los_Angeles:20260825T100000
DTEND;TZID=America/Los_Angeles:20260825T110000
DTSTAMP:20260425T074603
CREATED:20260424T161730Z
LAST-MODIFIED:20260424T161730Z
UID:10006394-1787652000-1787655600@lakelimerick.com
SUMMARY:General Manager (Meeting)
DESCRIPTION:
URL:https://lakelimerick.com/event/general-manager-meeting-2/2026-08-25/
LOCATION:The Crows Nest\, 790 E Saint Andrews Drive\, Shelton\, WA\, 98584\, United States
CATEGORIES:Staff
END:VEVENT
BEGIN:VEVENT
DTSTART;TZID=America/Los_Angeles:20260825T120000
DTEND;TZID=America/Los_Angeles:20260825T130000
DTSTAMP:20260425T074603
CREATED:20260424T201707Z
LAST-MODIFIED:20260424T201707Z
UID:10007532-1787659200-1787662800@lakelimerick.com
SUMMARY:Office Meeting
DESCRIPTION:
URL:https://lakelimerick.com/event/office-meeting-2/2026-08-25/
LOCATION:The Crows Nest\, 790 E Saint Andrews Drive\, Shelton\, WA\, 98584\, United States
CATEGORIES:Staff
END:VEVENT
BEGIN:VEVENT
DTSTART;TZID=America/Los_Angeles:20260828T090000
DTEND;TZID=America/Los_Angeles:20260828T100000
DTSTAMP:20260425T074603
CREATED:20260424T201354Z
LAST-MODIFIED:20260424T201354Z
UID:10007029-1787907600-1787911200@lakelimerick.com
SUMMARY:Office Meeting
DESCRIPTION:
URL:https://lakelimerick.com/event/office-meeting/2026-08-28/
LOCATION:The Crows Nest\, 790 E Saint Andrews Drive\, Shelton\, WA\, 98584\, United States
CATEGORIES:Staff
END:VEVENT
BEGIN:VEVENT
DTSTART;TZID=America/Los_Angeles:20260828T100000
DTEND;TZID=America/Los_Angeles:20260828T110000
DTSTAMP:20260425T074603
CREATED:20260424T161730Z
LAST-MODIFIED:20260424T161730Z
UID:10006395-1787911200-1787914800@lakelimerick.com
SUMMARY:General Manager (Meeting)
DESCRIPTION:
URL:https://lakelimerick.com/event/general-manager-meeting-2/2026-08-28/
LOCATION:The Crows Nest\, 790 E Saint Andrews Drive\, Shelton\, WA\, 98584\, United States
CATEGORIES:Staff
END:VEVENT
BEGIN:VEVENT
DTSTART;TZID=America/Los_Angeles:20260901T090000
DTEND;TZID=America/Los_Angeles:20260901T100000
DTSTAMP:20260425T074603
CREATED:20260424T201354Z
LAST-MODIFIED:20260424T201354Z
UID:10007030-1788253200-1788256800@lakelimerick.com
SUMMARY:Office Meeting
DESCRIPTION:
URL:https://lakelimerick.com/event/office-meeting/2026-09-01/
LOCATION:The Crows Nest\, 790 E Saint Andrews Drive\, Shelton\, WA\, 98584\, United States
CATEGORIES:Staff
END:VEVENT
BEGIN:VEVENT
DTSTART;TZID=America/Los_Angeles:20260901T100000
DTEND;TZID=America/Los_Angeles:20260901T110000
DTSTAMP:20260425T074603
CREATED:20260424T161730Z
LAST-MODIFIED:20260424T161730Z
UID:10006396-1788256800-1788260400@lakelimerick.com
SUMMARY:General Manager (Meeting)
DESCRIPTION:
URL:https://lakelimerick.com/event/general-manager-meeting-2/2026-09-01/
LOCATION:The Crows Nest\, 790 E Saint Andrews Drive\, Shelton\, WA\, 98584\, United States
CATEGORIES:Staff
END:VEVENT
BEGIN:VEVENT
DTSTART;TZID=America/Los_Angeles:20260901T120000
DTEND;TZID=America/Los_Angeles:20260901T130000
DTSTAMP:20260425T074603
CREATED:20260424T201707Z
LAST-MODIFIED:20260424T201707Z
UID:10007533-1788264000-1788267600@lakelimerick.com
SUMMARY:Office Meeting
DESCRIPTION:
URL:https://lakelimerick.com/event/office-meeting-2/2026-09-01/
LOCATION:The Crows Nest\, 790 E Saint Andrews Drive\, Shelton\, WA\, 98584\, United States
CATEGORIES:Staff
END:VEVENT
BEGIN:VEVENT
DTSTART;TZID=America/Los_Angeles:20260904T090000
DTEND;TZID=America/Los_Angeles:20260904T100000
DTSTAMP:20260425T074603
CREATED:20260424T201354Z
LAST-MODIFIED:20260424T201354Z
UID:10007031-1788512400-1788516000@lakelimerick.com
SUMMARY:Office Meeting
DESCRIPTION:
URL:https://lakelimerick.com/event/office-meeting/2026-09-04/
LOCATION:The Crows Nest\, 790 E Saint Andrews Drive\, Shelton\, WA\, 98584\, United States
CATEGORIES:Staff
END:VEVENT
BEGIN:VEVENT
DTSTART;TZID=America/Los_Angeles:20260904T100000
DTEND;TZID=America/Los_Angeles:20260904T110000
DTSTAMP:20260425T074603
CREATED:20260424T161730Z
LAST-MODIFIED:20260424T161730Z
UID:10006397-1788516000-1788519600@lakelimerick.com
SUMMARY:General Manager (Meeting)
DESCRIPTION:
URL:https://lakelimerick.com/event/general-manager-meeting-2/2026-09-04/
LOCATION:The Crows Nest\, 790 E Saint Andrews Drive\, Shelton\, WA\, 98584\, United States
CATEGORIES:Staff
END:VEVENT
BEGIN:VEVENT
DTSTART;TZID=America/Los_Angeles:20260908T090000
DTEND;TZID=America/Los_Angeles:20260908T100000
DTSTAMP:20260425T074603
CREATED:20260424T201354Z
LAST-MODIFIED:20260424T201354Z
UID:10007032-1788858000-1788861600@lakelimerick.com
SUMMARY:Office Meeting
DESCRIPTION:
URL:https://lakelimerick.com/event/office-meeting/2026-09-08/
LOCATION:The Crows Nest\, 790 E Saint Andrews Drive\, Shelton\, WA\, 98584\, United States
CATEGORIES:Staff
END:VEVENT
BEGIN:VEVENT
DTSTART;TZID=America/Los_Angeles:20260908T100000
DTEND;TZID=America/Los_Angeles:20260908T110000
DTSTAMP:20260425T074603
CREATED:20260424T161730Z
LAST-MODIFIED:20260424T161730Z
UID:10006398-1788861600-1788865200@lakelimerick.com
SUMMARY:General Manager (Meeting)
DESCRIPTION:
URL:https://lakelimerick.com/event/general-manager-meeting-2/2026-09-08/
LOCATION:The Crows Nest\, 790 E Saint Andrews Drive\, Shelton\, WA\, 98584\, United States
CATEGORIES:Staff
END:VEVENT
BEGIN:VEVENT
DTSTART;TZID=America/Los_Angeles:20260908T100000
DTEND;TZID=America/Los_Angeles:20260908T120000
DTSTAMP:20260425T074603
CREATED:20260210T214236Z
LAST-MODIFIED:20260210T214236Z
UID:10005746-1788861600-1788868800@lakelimerick.com
SUMMARY:Mason Water Group
DESCRIPTION:
URL:https://lakelimerick.com/event/mason-water-group/2026-09-08/
LOCATION:Great Hall & Crow’s Nest\, 790 E Saint Andrews Drive\, Shelton\, WA\, 98584\, United States
CATEGORIES:Staff
END:VEVENT
BEGIN:VEVENT
DTSTART;TZID=America/Los_Angeles:20260908T120000
DTEND;TZID=America/Los_Angeles:20260908T130000
DTSTAMP:20260425T074603
CREATED:20260424T201707Z
LAST-MODIFIED:20260424T201707Z
UID:10007534-1788868800-1788872400@lakelimerick.com
SUMMARY:Office Meeting
DESCRIPTION:
URL:https://lakelimerick.com/event/office-meeting-2/2026-09-08/
LOCATION:The Crows Nest\, 790 E Saint Andrews Drive\, Shelton\, WA\, 98584\, United States
CATEGORIES:Staff
END:VEVENT
BEGIN:VEVENT
DTSTART;TZID=America/Los_Angeles:20260911T090000
DTEND;TZID=America/Los_Angeles:20260911T100000
DTSTAMP:20260425T074603
CREATED:20260424T201354Z
LAST-MODIFIED:20260424T201354Z
UID:10007033-1789117200-1789120800@lakelimerick.com
SUMMARY:Office Meeting
DESCRIPTION:
URL:https://lakelimerick.com/event/office-meeting/2026-09-11/
LOCATION:The Crows Nest\, 790 E Saint Andrews Drive\, Shelton\, WA\, 98584\, United States
CATEGORIES:Staff
END:VEVENT
BEGIN:VEVENT
DTSTART;TZID=America/Los_Angeles:20260911T100000
DTEND;TZID=America/Los_Angeles:20260911T110000
DTSTAMP:20260425T074603
CREATED:20260424T161730Z
LAST-MODIFIED:20260424T161730Z
UID:10006399-1789120800-1789124400@lakelimerick.com
SUMMARY:General Manager (Meeting)
DESCRIPTION:
URL:https://lakelimerick.com/event/general-manager-meeting-2/2026-09-11/
LOCATION:The Crows Nest\, 790 E Saint Andrews Drive\, Shelton\, WA\, 98584\, United States
CATEGORIES:Staff
END:VEVENT
BEGIN:VEVENT
DTSTART;TZID=America/Los_Angeles:20260915T090000
DTEND;TZID=America/Los_Angeles:20260915T100000
DTSTAMP:20260425T074603
CREATED:20260424T201354Z
LAST-MODIFIED:20260424T201354Z
UID:10007034-1789462800-1789466400@lakelimerick.com
SUMMARY:Office Meeting
DESCRIPTION:
URL:https://lakelimerick.com/event/office-meeting/2026-09-15/
LOCATION:The Crows Nest\, 790 E Saint Andrews Drive\, Shelton\, WA\, 98584\, United States
CATEGORIES:Staff
END:VEVENT
BEGIN:VEVENT
DTSTART;TZID=America/Los_Angeles:20260915T100000
DTEND;TZID=America/Los_Angeles:20260915T110000
DTSTAMP:20260425T074603
CREATED:20260424T161730Z
LAST-MODIFIED:20260424T161730Z
UID:10006400-1789466400-1789470000@lakelimerick.com
SUMMARY:General Manager (Meeting)
DESCRIPTION:
URL:https://lakelimerick.com/event/general-manager-meeting-2/2026-09-15/
LOCATION:The Crows Nest\, 790 E Saint Andrews Drive\, Shelton\, WA\, 98584\, United States
CATEGORIES:Staff
END:VEVENT
BEGIN:VEVENT
DTSTART;TZID=America/Los_Angeles:20260915T120000
DTEND;TZID=America/Los_Angeles:20260915T130000
DTSTAMP:20260425T074603
CREATED:20260424T201707Z
LAST-MODIFIED:20260424T201707Z
UID:10007535-1789473600-1789477200@lakelimerick.com
SUMMARY:Office Meeting
DESCRIPTION:
URL:https://lakelimerick.com/event/office-meeting-2/2026-09-15/
LOCATION:The Crows Nest\, 790 E Saint Andrews Drive\, Shelton\, WA\, 98584\, United States
CATEGORIES:Staff
END:VEVENT
BEGIN:VEVENT
DTSTART;VALUE=DATE:20260918
DTEND;VALUE=DATE:20260919
DTSTAMP:20260425T074603
CREATED:20251027T191957Z
LAST-MODIFIED:20251027T191957Z
UID:10003508-1789689600-1789775999@lakelimerick.com
SUMMARY:BOD Meeting Set Up
DESCRIPTION:No events available today due to monthly BOD meeting equipment set up.
URL:https://lakelimerick.com/event/bod-meeting-set-up/2026-09-18/
LOCATION:WA
CATEGORIES:Staff
END:VEVENT
BEGIN:VEVENT
DTSTART;TZID=America/Los_Angeles:20260918T090000
DTEND;TZID=America/Los_Angeles:20260918T100000
DTSTAMP:20260425T074603
CREATED:20260424T201354Z
LAST-MODIFIED:20260424T201354Z
UID:10007035-1789722000-1789725600@lakelimerick.com
SUMMARY:Office Meeting
DESCRIPTION:
URL:https://lakelimerick.com/event/office-meeting/2026-09-18/
LOCATION:The Crows Nest\, 790 E Saint Andrews Drive\, Shelton\, WA\, 98584\, United States
CATEGORIES:Staff
END:VEVENT
BEGIN:VEVENT
DTSTART;TZID=America/Los_Angeles:20260918T100000
DTEND;TZID=America/Los_Angeles:20260918T110000
DTSTAMP:20260425T074603
CREATED:20260424T161730Z
LAST-MODIFIED:20260424T161730Z
UID:10006401-1789725600-1789729200@lakelimerick.com
SUMMARY:General Manager (Meeting)
DESCRIPTION:
URL:https://lakelimerick.com/event/general-manager-meeting-2/2026-09-18/
LOCATION:The Crows Nest\, 790 E Saint Andrews Drive\, Shelton\, WA\, 98584\, United States
CATEGORIES:Staff
END:VEVENT
BEGIN:VEVENT
DTSTART;TZID=America/Los_Angeles:20260922T090000
DTEND;TZID=America/Los_Angeles:20260922T100000
DTSTAMP:20260425T074603
CREATED:20260424T201354Z
LAST-MODIFIED:20260424T201354Z
UID:10007036-1790067600-1790071200@lakelimerick.com
SUMMARY:Office Meeting
DESCRIPTION:
URL:https://lakelimerick.com/event/office-meeting/2026-09-22/
LOCATION:The Crows Nest\, 790 E Saint Andrews Drive\, Shelton\, WA\, 98584\, United States
CATEGORIES:Staff
END:VEVENT
BEGIN:VEVENT
DTSTART;TZID=America/Los_Angeles:20260922T100000
DTEND;TZID=America/Los_Angeles:20260922T110000
DTSTAMP:20260425T074603
CREATED:20260424T161730Z
LAST-MODIFIED:20260424T161730Z
UID:10006402-1790071200-1790074800@lakelimerick.com
SUMMARY:General Manager (Meeting)
DESCRIPTION:
URL:https://lakelimerick.com/event/general-manager-meeting-2/2026-09-22/
LOCATION:The Crows Nest\, 790 E Saint Andrews Drive\, Shelton\, WA\, 98584\, United States
CATEGORIES:Staff
END:VEVENT
BEGIN:VEVENT
DTSTART;TZID=America/Los_Angeles:20260922T120000
DTEND;TZID=America/Los_Angeles:20260922T130000
DTSTAMP:20260425T074603
CREATED:20260424T201707Z
LAST-MODIFIED:20260424T201707Z
UID:10007536-1790078400-1790082000@lakelimerick.com
SUMMARY:Office Meeting
DESCRIPTION:
URL:https://lakelimerick.com/event/office-meeting-2/2026-09-22/
LOCATION:The Crows Nest\, 790 E Saint Andrews Drive\, Shelton\, WA\, 98584\, United States
CATEGORIES:Staff
END:VEVENT
BEGIN:VEVENT
DTSTART;TZID=America/Los_Angeles:20260925T090000
DTEND;TZID=America/Los_Angeles:20260925T100000
DTSTAMP:20260425T074603
CREATED:20260424T201354Z
LAST-MODIFIED:20260424T201354Z
UID:10007037-1790326800-1790330400@lakelimerick.com
SUMMARY:Office Meeting
DESCRIPTION:
URL:https://lakelimerick.com/event/office-meeting/2026-09-25/
LOCATION:The Crows Nest\, 790 E Saint Andrews Drive\, Shelton\, WA\, 98584\, United States
CATEGORIES:Staff
END:VEVENT
BEGIN:VEVENT
DTSTART;TZID=America/Los_Angeles:20260925T100000
DTEND;TZID=America/Los_Angeles:20260925T110000
DTSTAMP:20260425T074603
CREATED:20260424T161730Z
LAST-MODIFIED:20260424T161730Z
UID:10006403-1790330400-1790334000@lakelimerick.com
SUMMARY:General Manager (Meeting)
DESCRIPTION:
URL:https://lakelimerick.com/event/general-manager-meeting-2/2026-09-25/
LOCATION:The Crows Nest\, 790 E Saint Andrews Drive\, Shelton\, WA\, 98584\, United States
CATEGORIES:Staff
END:VEVENT
BEGIN:VEVENT
DTSTART;TZID=America/Los_Angeles:20260929T090000
DTEND;TZID=America/Los_Angeles:20260929T100000
DTSTAMP:20260425T074603
CREATED:20260424T201354Z
LAST-MODIFIED:20260424T201354Z
UID:10007038-1790672400-1790676000@lakelimerick.com
SUMMARY:Office Meeting
DESCRIPTION:
URL:https://lakelimerick.com/event/office-meeting/2026-09-29/
LOCATION:The Crows Nest\, 790 E Saint Andrews Drive\, Shelton\, WA\, 98584\, United States
CATEGORIES:Staff
END:VEVENT
BEGIN:VEVENT
DTSTART;TZID=America/Los_Angeles:20260929T100000
DTEND;TZID=America/Los_Angeles:20260929T110000
DTSTAMP:20260425T074603
CREATED:20260424T161730Z
LAST-MODIFIED:20260424T161730Z
UID:10006404-1790676000-1790679600@lakelimerick.com
SUMMARY:General Manager (Meeting)
DESCRIPTION:
URL:https://lakelimerick.com/event/general-manager-meeting-2/2026-09-29/
LOCATION:The Crows Nest\, 790 E Saint Andrews Drive\, Shelton\, WA\, 98584\, United States
CATEGORIES:Staff
END:VEVENT
END:VCALENDAR