BEGIN:VCALENDAR
VERSION:2.0
PRODID:-//Lake Limerick Country Club - ECPv6.15.20//NONSGML v1.0//EN
CALSCALE:GREGORIAN
METHOD:PUBLISH
X-ORIGINAL-URL:https://lakelimerick.com
X-WR-CALDESC:Events for Lake Limerick Country Club
REFRESH-INTERVAL;VALUE=DURATION:PT1H
X-Robots-Tag:noindex
X-PUBLISHED-TTL:PT1H
BEGIN:VTIMEZONE
TZID:America/Los_Angeles
BEGIN:DAYLIGHT
TZOFFSETFROM:-0800
TZOFFSETTO:-0700
TZNAME:PDT
DTSTART:20260308T100000
END:DAYLIGHT
BEGIN:STANDARD
TZOFFSETFROM:-0700
TZOFFSETTO:-0800
TZNAME:PST
DTSTART:20261101T090000
END:STANDARD
BEGIN:DAYLIGHT
TZOFFSETFROM:-0800
TZOFFSETTO:-0700
TZNAME:PDT
DTSTART:20270314T100000
END:DAYLIGHT
BEGIN:STANDARD
TZOFFSETFROM:-0700
TZOFFSETTO:-0800
TZNAME:PST
DTSTART:20271107T090000
END:STANDARD
BEGIN:DAYLIGHT
TZOFFSETFROM:-0800
TZOFFSETTO:-0700
TZNAME:PDT
DTSTART:20280312T100000
END:DAYLIGHT
BEGIN:STANDARD
TZOFFSETFROM:-0700
TZOFFSETTO:-0800
TZNAME:PST
DTSTART:20281105T090000
END:STANDARD
END:VTIMEZONE
BEGIN:VEVENT
DTSTART;TZID=America/Los_Angeles:20270126T100000
DTEND;TZID=America/Los_Angeles:20270126T110000
DTSTAMP:20260424T101741
CREATED:20260424T161730Z
LAST-MODIFIED:20260424T161730Z
UID:10006438-1800957600-1800961200@lakelimerick.com
SUMMARY:General Manager (Meeting)
DESCRIPTION:
URL:https://lakelimerick.com/event/general-manager-meeting-2/2027-01-26/
LOCATION:The Crows Nest\, 790 E Saint Andrews Drive\, Shelton\, WA\, 98584\, United States
CATEGORIES:Staff
END:VEVENT
BEGIN:VEVENT
DTSTART;TZID=America/Los_Angeles:20270129T100000
DTEND;TZID=America/Los_Angeles:20270129T110000
DTSTAMP:20260424T101741
CREATED:20260424T161730Z
LAST-MODIFIED:20260424T161730Z
UID:10006439-1801216800-1801220400@lakelimerick.com
SUMMARY:General Manager (Meeting)
DESCRIPTION:
URL:https://lakelimerick.com/event/general-manager-meeting-2/2027-01-29/
LOCATION:The Crows Nest\, 790 E Saint Andrews Drive\, Shelton\, WA\, 98584\, United States
CATEGORIES:Staff
END:VEVENT
BEGIN:VEVENT
DTSTART;TZID=America/Los_Angeles:20270202T100000
DTEND;TZID=America/Los_Angeles:20270202T110000
DTSTAMP:20260424T101741
CREATED:20260424T161730Z
LAST-MODIFIED:20260424T161730Z
UID:10006440-1801562400-1801566000@lakelimerick.com
SUMMARY:General Manager (Meeting)
DESCRIPTION:
URL:https://lakelimerick.com/event/general-manager-meeting-2/2027-02-02/
LOCATION:The Crows Nest\, 790 E Saint Andrews Drive\, Shelton\, WA\, 98584\, United States
CATEGORIES:Staff
END:VEVENT
BEGIN:VEVENT
DTSTART;TZID=America/Los_Angeles:20270205T100000
DTEND;TZID=America/Los_Angeles:20270205T110000
DTSTAMP:20260424T101741
CREATED:20260424T161730Z
LAST-MODIFIED:20260424T161730Z
UID:10006441-1801821600-1801825200@lakelimerick.com
SUMMARY:General Manager (Meeting)
DESCRIPTION:
URL:https://lakelimerick.com/event/general-manager-meeting-2/2027-02-05/
LOCATION:The Crows Nest\, 790 E Saint Andrews Drive\, Shelton\, WA\, 98584\, United States
CATEGORIES:Staff
END:VEVENT
BEGIN:VEVENT
DTSTART;TZID=America/Los_Angeles:20270209T100000
DTEND;TZID=America/Los_Angeles:20270209T110000
DTSTAMP:20260424T101741
CREATED:20260424T161730Z
LAST-MODIFIED:20260424T161730Z
UID:10006442-1802167200-1802170800@lakelimerick.com
SUMMARY:General Manager (Meeting)
DESCRIPTION:
URL:https://lakelimerick.com/event/general-manager-meeting-2/2027-02-09/
LOCATION:The Crows Nest\, 790 E Saint Andrews Drive\, Shelton\, WA\, 98584\, United States
CATEGORIES:Staff
END:VEVENT
BEGIN:VEVENT
DTSTART;TZID=America/Los_Angeles:20270209T100000
DTEND;TZID=America/Los_Angeles:20270209T120000
DTSTAMP:20260424T101741
CREATED:20260210T214236Z
LAST-MODIFIED:20260210T214236Z
UID:10005751-1802167200-1802174400@lakelimerick.com
SUMMARY:Mason Water Group
DESCRIPTION:
URL:https://lakelimerick.com/event/mason-water-group/2027-02-09/
LOCATION:Great Hall & Crow’s Nest\, 790 E Saint Andrews Drive\, Shelton\, WA\, 98584\, United States
CATEGORIES:Staff
END:VEVENT
BEGIN:VEVENT
DTSTART;TZID=America/Los_Angeles:20270212T100000
DTEND;TZID=America/Los_Angeles:20270212T110000
DTSTAMP:20260424T101741
CREATED:20260424T161730Z
LAST-MODIFIED:20260424T161730Z
UID:10006443-1802426400-1802430000@lakelimerick.com
SUMMARY:General Manager (Meeting)
DESCRIPTION:
URL:https://lakelimerick.com/event/general-manager-meeting-2/2027-02-12/
LOCATION:The Crows Nest\, 790 E Saint Andrews Drive\, Shelton\, WA\, 98584\, United States
CATEGORIES:Staff
END:VEVENT
BEGIN:VEVENT
DTSTART;TZID=America/Los_Angeles:20270216T100000
DTEND;TZID=America/Los_Angeles:20270216T110000
DTSTAMP:20260424T101741
CREATED:20260424T161730Z
LAST-MODIFIED:20260424T161730Z
UID:10006444-1802772000-1802775600@lakelimerick.com
SUMMARY:General Manager (Meeting)
DESCRIPTION:
URL:https://lakelimerick.com/event/general-manager-meeting-2/2027-02-16/
LOCATION:The Crows Nest\, 790 E Saint Andrews Drive\, Shelton\, WA\, 98584\, United States
CATEGORIES:Staff
END:VEVENT
BEGIN:VEVENT
DTSTART;VALUE=DATE:20270219
DTEND;VALUE=DATE:20270220
DTSTAMP:20260424T101741
CREATED:20251027T191957Z
LAST-MODIFIED:20251027T191957Z
UID:10003513-1802995200-1803081599@lakelimerick.com
SUMMARY:BOD Meeting Set Up
DESCRIPTION:No events available today due to monthly BOD meeting equipment set up.
URL:https://lakelimerick.com/event/bod-meeting-set-up/2027-02-19/
LOCATION:WA
CATEGORIES:Staff
END:VEVENT
BEGIN:VEVENT
DTSTART;TZID=America/Los_Angeles:20270219T100000
DTEND;TZID=America/Los_Angeles:20270219T110000
DTSTAMP:20260424T101741
CREATED:20260424T161730Z
LAST-MODIFIED:20260424T161730Z
UID:10006445-1803031200-1803034800@lakelimerick.com
SUMMARY:General Manager (Meeting)
DESCRIPTION:
URL:https://lakelimerick.com/event/general-manager-meeting-2/2027-02-19/
LOCATION:The Crows Nest\, 790 E Saint Andrews Drive\, Shelton\, WA\, 98584\, United States
CATEGORIES:Staff
END:VEVENT
BEGIN:VEVENT
DTSTART;TZID=America/Los_Angeles:20270223T100000
DTEND;TZID=America/Los_Angeles:20270223T110000
DTSTAMP:20260424T101741
CREATED:20260424T161730Z
LAST-MODIFIED:20260424T161730Z
UID:10006446-1803376800-1803380400@lakelimerick.com
SUMMARY:General Manager (Meeting)
DESCRIPTION:
URL:https://lakelimerick.com/event/general-manager-meeting-2/2027-02-23/
LOCATION:The Crows Nest\, 790 E Saint Andrews Drive\, Shelton\, WA\, 98584\, United States
CATEGORIES:Staff
END:VEVENT
BEGIN:VEVENT
DTSTART;TZID=America/Los_Angeles:20270226T100000
DTEND;TZID=America/Los_Angeles:20270226T110000
DTSTAMP:20260424T101741
CREATED:20260424T161730Z
LAST-MODIFIED:20260424T161730Z
UID:10006447-1803636000-1803639600@lakelimerick.com
SUMMARY:General Manager (Meeting)
DESCRIPTION:
URL:https://lakelimerick.com/event/general-manager-meeting-2/2027-02-26/
LOCATION:The Crows Nest\, 790 E Saint Andrews Drive\, Shelton\, WA\, 98584\, United States
CATEGORIES:Staff
END:VEVENT
BEGIN:VEVENT
DTSTART;TZID=America/Los_Angeles:20270302T100000
DTEND;TZID=America/Los_Angeles:20270302T110000
DTSTAMP:20260424T101741
CREATED:20260424T161730Z
LAST-MODIFIED:20260424T161730Z
UID:10006448-1803981600-1803985200@lakelimerick.com
SUMMARY:General Manager (Meeting)
DESCRIPTION:
URL:https://lakelimerick.com/event/general-manager-meeting-2/2027-03-02/
LOCATION:The Crows Nest\, 790 E Saint Andrews Drive\, Shelton\, WA\, 98584\, United States
CATEGORIES:Staff
END:VEVENT
BEGIN:VEVENT
DTSTART;TZID=America/Los_Angeles:20270305T100000
DTEND;TZID=America/Los_Angeles:20270305T110000
DTSTAMP:20260424T101741
CREATED:20260424T161730Z
LAST-MODIFIED:20260424T161730Z
UID:10006449-1804240800-1804244400@lakelimerick.com
SUMMARY:General Manager (Meeting)
DESCRIPTION:
URL:https://lakelimerick.com/event/general-manager-meeting-2/2027-03-05/
LOCATION:The Crows Nest\, 790 E Saint Andrews Drive\, Shelton\, WA\, 98584\, United States
CATEGORIES:Staff
END:VEVENT
BEGIN:VEVENT
DTSTART;TZID=America/Los_Angeles:20270309T100000
DTEND;TZID=America/Los_Angeles:20270309T110000
DTSTAMP:20260424T101741
CREATED:20260424T161730Z
LAST-MODIFIED:20260424T161730Z
UID:10006450-1804586400-1804590000@lakelimerick.com
SUMMARY:General Manager (Meeting)
DESCRIPTION:
URL:https://lakelimerick.com/event/general-manager-meeting-2/2027-03-09/
LOCATION:The Crows Nest\, 790 E Saint Andrews Drive\, Shelton\, WA\, 98584\, United States
CATEGORIES:Staff
END:VEVENT
BEGIN:VEVENT
DTSTART;TZID=America/Los_Angeles:20270309T100000
DTEND;TZID=America/Los_Angeles:20270309T120000
DTSTAMP:20260424T101741
CREATED:20260210T214236Z
LAST-MODIFIED:20260210T214236Z
UID:10005752-1804586400-1804593600@lakelimerick.com
SUMMARY:Mason Water Group
DESCRIPTION:
URL:https://lakelimerick.com/event/mason-water-group/2027-03-09/
LOCATION:Great Hall & Crow’s Nest\, 790 E Saint Andrews Drive\, Shelton\, WA\, 98584\, United States
CATEGORIES:Staff
END:VEVENT
BEGIN:VEVENT
DTSTART;TZID=America/Los_Angeles:20270312T100000
DTEND;TZID=America/Los_Angeles:20270312T110000
DTSTAMP:20260424T101741
CREATED:20260424T161730Z
LAST-MODIFIED:20260424T161730Z
UID:10006451-1804845600-1804849200@lakelimerick.com
SUMMARY:General Manager (Meeting)
DESCRIPTION:
URL:https://lakelimerick.com/event/general-manager-meeting-2/2027-03-12/
LOCATION:The Crows Nest\, 790 E Saint Andrews Drive\, Shelton\, WA\, 98584\, United States
CATEGORIES:Staff
END:VEVENT
BEGIN:VEVENT
DTSTART;TZID=America/Los_Angeles:20270316T100000
DTEND;TZID=America/Los_Angeles:20270316T110000
DTSTAMP:20260424T101741
CREATED:20260424T161730Z
LAST-MODIFIED:20260424T161730Z
UID:10006452-1805191200-1805194800@lakelimerick.com
SUMMARY:General Manager (Meeting)
DESCRIPTION:
URL:https://lakelimerick.com/event/general-manager-meeting-2/2027-03-16/
LOCATION:The Crows Nest\, 790 E Saint Andrews Drive\, Shelton\, WA\, 98584\, United States
CATEGORIES:Staff
END:VEVENT
BEGIN:VEVENT
DTSTART;VALUE=DATE:20270319
DTEND;VALUE=DATE:20270320
DTSTAMP:20260424T101741
CREATED:20251027T191957Z
LAST-MODIFIED:20251027T191957Z
UID:10003514-1805414400-1805500799@lakelimerick.com
SUMMARY:BOD Meeting Set Up
DESCRIPTION:No events available today due to monthly BOD meeting equipment set up.
URL:https://lakelimerick.com/event/bod-meeting-set-up/2027-03-19/
LOCATION:WA
CATEGORIES:Staff
END:VEVENT
BEGIN:VEVENT
DTSTART;TZID=America/Los_Angeles:20270319T100000
DTEND;TZID=America/Los_Angeles:20270319T110000
DTSTAMP:20260424T101741
CREATED:20260424T161730Z
LAST-MODIFIED:20260424T161730Z
UID:10006453-1805450400-1805454000@lakelimerick.com
SUMMARY:General Manager (Meeting)
DESCRIPTION:
URL:https://lakelimerick.com/event/general-manager-meeting-2/2027-03-19/
LOCATION:The Crows Nest\, 790 E Saint Andrews Drive\, Shelton\, WA\, 98584\, United States
CATEGORIES:Staff
END:VEVENT
BEGIN:VEVENT
DTSTART;TZID=America/Los_Angeles:20270323T100000
DTEND;TZID=America/Los_Angeles:20270323T110000
DTSTAMP:20260424T101741
CREATED:20260424T161730Z
LAST-MODIFIED:20260424T161730Z
UID:10006454-1805796000-1805799600@lakelimerick.com
SUMMARY:General Manager (Meeting)
DESCRIPTION:
URL:https://lakelimerick.com/event/general-manager-meeting-2/2027-03-23/
LOCATION:The Crows Nest\, 790 E Saint Andrews Drive\, Shelton\, WA\, 98584\, United States
CATEGORIES:Staff
END:VEVENT
BEGIN:VEVENT
DTSTART;TZID=America/Los_Angeles:20270326T100000
DTEND;TZID=America/Los_Angeles:20270326T110000
DTSTAMP:20260424T101741
CREATED:20260424T161730Z
LAST-MODIFIED:20260424T161730Z
UID:10006455-1806055200-1806058800@lakelimerick.com
SUMMARY:General Manager (Meeting)
DESCRIPTION:
URL:https://lakelimerick.com/event/general-manager-meeting-2/2027-03-26/
LOCATION:The Crows Nest\, 790 E Saint Andrews Drive\, Shelton\, WA\, 98584\, United States
CATEGORIES:Staff
END:VEVENT
BEGIN:VEVENT
DTSTART;TZID=America/Los_Angeles:20270330T100000
DTEND;TZID=America/Los_Angeles:20270330T110000
DTSTAMP:20260424T101741
CREATED:20260424T161730Z
LAST-MODIFIED:20260424T161730Z
UID:10006456-1806400800-1806404400@lakelimerick.com
SUMMARY:General Manager (Meeting)
DESCRIPTION:
URL:https://lakelimerick.com/event/general-manager-meeting-2/2027-03-30/
LOCATION:The Crows Nest\, 790 E Saint Andrews Drive\, Shelton\, WA\, 98584\, United States
CATEGORIES:Staff
END:VEVENT
BEGIN:VEVENT
DTSTART;TZID=America/Los_Angeles:20270402T100000
DTEND;TZID=America/Los_Angeles:20270402T110000
DTSTAMP:20260424T101741
CREATED:20260424T161730Z
LAST-MODIFIED:20260424T161730Z
UID:10006457-1806660000-1806663600@lakelimerick.com
SUMMARY:General Manager (Meeting)
DESCRIPTION:
URL:https://lakelimerick.com/event/general-manager-meeting-2/2027-04-02/
LOCATION:The Crows Nest\, 790 E Saint Andrews Drive\, Shelton\, WA\, 98584\, United States
CATEGORIES:Staff
END:VEVENT
BEGIN:VEVENT
DTSTART;TZID=America/Los_Angeles:20270406T100000
DTEND;TZID=America/Los_Angeles:20270406T110000
DTSTAMP:20260424T101741
CREATED:20260424T161730Z
LAST-MODIFIED:20260424T161730Z
UID:10006458-1807005600-1807009200@lakelimerick.com
SUMMARY:General Manager (Meeting)
DESCRIPTION:
URL:https://lakelimerick.com/event/general-manager-meeting-2/2027-04-06/
LOCATION:The Crows Nest\, 790 E Saint Andrews Drive\, Shelton\, WA\, 98584\, United States
CATEGORIES:Staff
END:VEVENT
BEGIN:VEVENT
DTSTART;TZID=America/Los_Angeles:20270409T100000
DTEND;TZID=America/Los_Angeles:20270409T110000
DTSTAMP:20260424T101741
CREATED:20260424T161730Z
LAST-MODIFIED:20260424T161730Z
UID:10006459-1807264800-1807268400@lakelimerick.com
SUMMARY:General Manager (Meeting)
DESCRIPTION:
URL:https://lakelimerick.com/event/general-manager-meeting-2/2027-04-09/
LOCATION:The Crows Nest\, 790 E Saint Andrews Drive\, Shelton\, WA\, 98584\, United States
CATEGORIES:Staff
END:VEVENT
BEGIN:VEVENT
DTSTART;TZID=America/Los_Angeles:20270413T100000
DTEND;TZID=America/Los_Angeles:20270413T110000
DTSTAMP:20260424T101741
CREATED:20260424T161730Z
LAST-MODIFIED:20260424T161730Z
UID:10006460-1807610400-1807614000@lakelimerick.com
SUMMARY:General Manager (Meeting)
DESCRIPTION:
URL:https://lakelimerick.com/event/general-manager-meeting-2/2027-04-13/
LOCATION:The Crows Nest\, 790 E Saint Andrews Drive\, Shelton\, WA\, 98584\, United States
CATEGORIES:Staff
END:VEVENT
BEGIN:VEVENT
DTSTART;TZID=America/Los_Angeles:20270413T100000
DTEND;TZID=America/Los_Angeles:20270413T120000
DTSTAMP:20260424T101741
CREATED:20260210T214236Z
LAST-MODIFIED:20260210T214236Z
UID:10005753-1807610400-1807617600@lakelimerick.com
SUMMARY:Mason Water Group
DESCRIPTION:
URL:https://lakelimerick.com/event/mason-water-group/2027-04-13/
LOCATION:Great Hall & Crow’s Nest\, 790 E Saint Andrews Drive\, Shelton\, WA\, 98584\, United States
CATEGORIES:Staff
END:VEVENT
BEGIN:VEVENT
DTSTART;VALUE=DATE:20270416
DTEND;VALUE=DATE:20270417
DTSTAMP:20260424T101741
CREATED:20251027T191957Z
LAST-MODIFIED:20251027T191957Z
UID:10003515-1807833600-1807919999@lakelimerick.com
SUMMARY:BOD Meeting Set Up
DESCRIPTION:No events available today due to monthly BOD meeting equipment set up.
URL:https://lakelimerick.com/event/bod-meeting-set-up/2027-04-16/
LOCATION:WA
CATEGORIES:Staff
END:VEVENT
BEGIN:VEVENT
DTSTART;TZID=America/Los_Angeles:20270416T100000
DTEND;TZID=America/Los_Angeles:20270416T110000
DTSTAMP:20260424T101741
CREATED:20260424T161730Z
LAST-MODIFIED:20260424T161730Z
UID:10006461-1807869600-1807873200@lakelimerick.com
SUMMARY:General Manager (Meeting)
DESCRIPTION:
URL:https://lakelimerick.com/event/general-manager-meeting-2/2027-04-16/
LOCATION:The Crows Nest\, 790 E Saint Andrews Drive\, Shelton\, WA\, 98584\, United States
CATEGORIES:Staff
END:VEVENT
END:VCALENDAR