BEGIN:VCALENDAR
VERSION:2.0
PRODID:-//Lake Limerick Country Club - ECPv6.15.20//NONSGML v1.0//EN
CALSCALE:GREGORIAN
METHOD:PUBLISH
X-WR-CALNAME:Lake Limerick Country Club
X-ORIGINAL-URL:https://lakelimerick.com
X-WR-CALDESC:Events for Lake Limerick Country Club
REFRESH-INTERVAL;VALUE=DURATION:PT1H
X-Robots-Tag:noindex
X-PUBLISHED-TTL:PT1H
BEGIN:VTIMEZONE
TZID:America/Los_Angeles
BEGIN:DAYLIGHT
TZOFFSETFROM:-0800
TZOFFSETTO:-0700
TZNAME:PDT
DTSTART:20250309T100000
END:DAYLIGHT
BEGIN:STANDARD
TZOFFSETFROM:-0700
TZOFFSETTO:-0800
TZNAME:PST
DTSTART:20251102T090000
END:STANDARD
BEGIN:DAYLIGHT
TZOFFSETFROM:-0800
TZOFFSETTO:-0700
TZNAME:PDT
DTSTART:20260308T100000
END:DAYLIGHT
BEGIN:STANDARD
TZOFFSETFROM:-0700
TZOFFSETTO:-0800
TZNAME:PST
DTSTART:20261101T090000
END:STANDARD
BEGIN:DAYLIGHT
TZOFFSETFROM:-0800
TZOFFSETTO:-0700
TZNAME:PDT
DTSTART:20270314T100000
END:DAYLIGHT
BEGIN:STANDARD
TZOFFSETFROM:-0700
TZOFFSETTO:-0800
TZNAME:PST
DTSTART:20271107T090000
END:STANDARD
END:VTIMEZONE
BEGIN:VEVENT
DTSTART;TZID=America/Los_Angeles:20260918T090000
DTEND;TZID=America/Los_Angeles:20260918T100000
DTSTAMP:20260425T135905
CREATED:20260424T201354Z
LAST-MODIFIED:20260424T201354Z
UID:10007035-1789722000-1789725600@lakelimerick.com
SUMMARY:Office Meeting
DESCRIPTION:
URL:https://lakelimerick.com/event/office-meeting/2026-09-18/
LOCATION:The Crows Nest\, 790 E Saint Andrews Drive\, Shelton\, WA\, 98584\, United States
CATEGORIES:Staff
END:VEVENT
BEGIN:VEVENT
DTSTART;TZID=America/Los_Angeles:20260918T100000
DTEND;TZID=America/Los_Angeles:20260918T110000
DTSTAMP:20260425T135905
CREATED:20260424T161730Z
LAST-MODIFIED:20260424T161730Z
UID:10006401-1789725600-1789729200@lakelimerick.com
SUMMARY:General Manager (Meeting)
DESCRIPTION:
URL:https://lakelimerick.com/event/general-manager-meeting-2/2026-09-18/
LOCATION:The Crows Nest\, 790 E Saint Andrews Drive\, Shelton\, WA\, 98584\, United States
CATEGORIES:Staff
END:VEVENT
BEGIN:VEVENT
DTSTART;TZID=America/Los_Angeles:20260922T090000
DTEND;TZID=America/Los_Angeles:20260922T100000
DTSTAMP:20260425T135905
CREATED:20260424T201354Z
LAST-MODIFIED:20260424T201354Z
UID:10007036-1790067600-1790071200@lakelimerick.com
SUMMARY:Office Meeting
DESCRIPTION:
URL:https://lakelimerick.com/event/office-meeting/2026-09-22/
LOCATION:The Crows Nest\, 790 E Saint Andrews Drive\, Shelton\, WA\, 98584\, United States
CATEGORIES:Staff
END:VEVENT
BEGIN:VEVENT
DTSTART;TZID=America/Los_Angeles:20260922T100000
DTEND;TZID=America/Los_Angeles:20260922T110000
DTSTAMP:20260425T135905
CREATED:20260424T161730Z
LAST-MODIFIED:20260424T161730Z
UID:10006402-1790071200-1790074800@lakelimerick.com
SUMMARY:General Manager (Meeting)
DESCRIPTION:
URL:https://lakelimerick.com/event/general-manager-meeting-2/2026-09-22/
LOCATION:The Crows Nest\, 790 E Saint Andrews Drive\, Shelton\, WA\, 98584\, United States
CATEGORIES:Staff
END:VEVENT
BEGIN:VEVENT
DTSTART;TZID=America/Los_Angeles:20260922T120000
DTEND;TZID=America/Los_Angeles:20260922T130000
DTSTAMP:20260425T135905
CREATED:20260424T201707Z
LAST-MODIFIED:20260424T201707Z
UID:10007536-1790078400-1790082000@lakelimerick.com
SUMMARY:Office Meeting
DESCRIPTION:
URL:https://lakelimerick.com/event/office-meeting-2/2026-09-22/
LOCATION:The Crows Nest\, 790 E Saint Andrews Drive\, Shelton\, WA\, 98584\, United States
CATEGORIES:Staff
END:VEVENT
BEGIN:VEVENT
DTSTART;TZID=America/Los_Angeles:20260925T090000
DTEND;TZID=America/Los_Angeles:20260925T100000
DTSTAMP:20260425T135905
CREATED:20260424T201354Z
LAST-MODIFIED:20260424T201354Z
UID:10007037-1790326800-1790330400@lakelimerick.com
SUMMARY:Office Meeting
DESCRIPTION:
URL:https://lakelimerick.com/event/office-meeting/2026-09-25/
LOCATION:The Crows Nest\, 790 E Saint Andrews Drive\, Shelton\, WA\, 98584\, United States
CATEGORIES:Staff
END:VEVENT
BEGIN:VEVENT
DTSTART;TZID=America/Los_Angeles:20260925T100000
DTEND;TZID=America/Los_Angeles:20260925T110000
DTSTAMP:20260425T135905
CREATED:20260424T161730Z
LAST-MODIFIED:20260424T161730Z
UID:10006403-1790330400-1790334000@lakelimerick.com
SUMMARY:General Manager (Meeting)
DESCRIPTION:
URL:https://lakelimerick.com/event/general-manager-meeting-2/2026-09-25/
LOCATION:The Crows Nest\, 790 E Saint Andrews Drive\, Shelton\, WA\, 98584\, United States
CATEGORIES:Staff
END:VEVENT
BEGIN:VEVENT
DTSTART;TZID=America/Los_Angeles:20260929T090000
DTEND;TZID=America/Los_Angeles:20260929T100000
DTSTAMP:20260425T135905
CREATED:20260424T201354Z
LAST-MODIFIED:20260424T201354Z
UID:10007038-1790672400-1790676000@lakelimerick.com
SUMMARY:Office Meeting
DESCRIPTION:
URL:https://lakelimerick.com/event/office-meeting/2026-09-29/
LOCATION:The Crows Nest\, 790 E Saint Andrews Drive\, Shelton\, WA\, 98584\, United States
CATEGORIES:Staff
END:VEVENT
BEGIN:VEVENT
DTSTART;TZID=America/Los_Angeles:20260929T100000
DTEND;TZID=America/Los_Angeles:20260929T110000
DTSTAMP:20260425T135905
CREATED:20260424T161730Z
LAST-MODIFIED:20260424T161730Z
UID:10006404-1790676000-1790679600@lakelimerick.com
SUMMARY:General Manager (Meeting)
DESCRIPTION:
URL:https://lakelimerick.com/event/general-manager-meeting-2/2026-09-29/
LOCATION:The Crows Nest\, 790 E Saint Andrews Drive\, Shelton\, WA\, 98584\, United States
CATEGORIES:Staff
END:VEVENT
BEGIN:VEVENT
DTSTART;TZID=America/Los_Angeles:20260929T120000
DTEND;TZID=America/Los_Angeles:20260929T130000
DTSTAMP:20260425T135905
CREATED:20260424T201707Z
LAST-MODIFIED:20260424T201707Z
UID:10007537-1790683200-1790686800@lakelimerick.com
SUMMARY:Office Meeting
DESCRIPTION:
URL:https://lakelimerick.com/event/office-meeting-2/2026-09-29/
LOCATION:The Crows Nest\, 790 E Saint Andrews Drive\, Shelton\, WA\, 98584\, United States
CATEGORIES:Staff
END:VEVENT
BEGIN:VEVENT
DTSTART;TZID=America/Los_Angeles:20261002T090000
DTEND;TZID=America/Los_Angeles:20261002T100000
DTSTAMP:20260425T135905
CREATED:20260424T201354Z
LAST-MODIFIED:20260424T201354Z
UID:10007039-1790931600-1790935200@lakelimerick.com
SUMMARY:Office Meeting
DESCRIPTION:
URL:https://lakelimerick.com/event/office-meeting/2026-10-02/
LOCATION:The Crows Nest\, 790 E Saint Andrews Drive\, Shelton\, WA\, 98584\, United States
CATEGORIES:Staff
END:VEVENT
BEGIN:VEVENT
DTSTART;TZID=America/Los_Angeles:20261002T100000
DTEND;TZID=America/Los_Angeles:20261002T110000
DTSTAMP:20260425T135905
CREATED:20260424T161730Z
LAST-MODIFIED:20260424T161730Z
UID:10006405-1790935200-1790938800@lakelimerick.com
SUMMARY:General Manager (Meeting)
DESCRIPTION:
URL:https://lakelimerick.com/event/general-manager-meeting-2/2026-10-02/
LOCATION:The Crows Nest\, 790 E Saint Andrews Drive\, Shelton\, WA\, 98584\, United States
CATEGORIES:Staff
END:VEVENT
BEGIN:VEVENT
DTSTART;TZID=America/Los_Angeles:20261006T090000
DTEND;TZID=America/Los_Angeles:20261006T100000
DTSTAMP:20260425T135905
CREATED:20260424T201354Z
LAST-MODIFIED:20260424T201354Z
UID:10007040-1791277200-1791280800@lakelimerick.com
SUMMARY:Office Meeting
DESCRIPTION:
URL:https://lakelimerick.com/event/office-meeting/2026-10-06/
LOCATION:The Crows Nest\, 790 E Saint Andrews Drive\, Shelton\, WA\, 98584\, United States
CATEGORIES:Staff
END:VEVENT
BEGIN:VEVENT
DTSTART;TZID=America/Los_Angeles:20261006T100000
DTEND;TZID=America/Los_Angeles:20261006T110000
DTSTAMP:20260425T135905
CREATED:20260424T161730Z
LAST-MODIFIED:20260424T161730Z
UID:10006406-1791280800-1791284400@lakelimerick.com
SUMMARY:General Manager (Meeting)
DESCRIPTION:
URL:https://lakelimerick.com/event/general-manager-meeting-2/2026-10-06/
LOCATION:The Crows Nest\, 790 E Saint Andrews Drive\, Shelton\, WA\, 98584\, United States
CATEGORIES:Staff
END:VEVENT
BEGIN:VEVENT
DTSTART;TZID=America/Los_Angeles:20261006T120000
DTEND;TZID=America/Los_Angeles:20261006T130000
DTSTAMP:20260425T135905
CREATED:20260424T201707Z
LAST-MODIFIED:20260424T201707Z
UID:10007538-1791288000-1791291600@lakelimerick.com
SUMMARY:Office Meeting
DESCRIPTION:
URL:https://lakelimerick.com/event/office-meeting-2/2026-10-06/
LOCATION:The Crows Nest\, 790 E Saint Andrews Drive\, Shelton\, WA\, 98584\, United States
CATEGORIES:Staff
END:VEVENT
BEGIN:VEVENT
DTSTART;TZID=America/Los_Angeles:20261009T090000
DTEND;TZID=America/Los_Angeles:20261009T100000
DTSTAMP:20260425T135905
CREATED:20260424T201354Z
LAST-MODIFIED:20260424T201354Z
UID:10007041-1791536400-1791540000@lakelimerick.com
SUMMARY:Office Meeting
DESCRIPTION:
URL:https://lakelimerick.com/event/office-meeting/2026-10-09/
LOCATION:The Crows Nest\, 790 E Saint Andrews Drive\, Shelton\, WA\, 98584\, United States
CATEGORIES:Staff
END:VEVENT
BEGIN:VEVENT
DTSTART;TZID=America/Los_Angeles:20261009T100000
DTEND;TZID=America/Los_Angeles:20261009T110000
DTSTAMP:20260425T135905
CREATED:20260424T161730Z
LAST-MODIFIED:20260424T161730Z
UID:10006407-1791540000-1791543600@lakelimerick.com
SUMMARY:General Manager (Meeting)
DESCRIPTION:
URL:https://lakelimerick.com/event/general-manager-meeting-2/2026-10-09/
LOCATION:The Crows Nest\, 790 E Saint Andrews Drive\, Shelton\, WA\, 98584\, United States
CATEGORIES:Staff
END:VEVENT
BEGIN:VEVENT
DTSTART;TZID=America/Los_Angeles:20261013T090000
DTEND;TZID=America/Los_Angeles:20261013T100000
DTSTAMP:20260425T135905
CREATED:20260424T201354Z
LAST-MODIFIED:20260424T201354Z
UID:10007042-1791882000-1791885600@lakelimerick.com
SUMMARY:Office Meeting
DESCRIPTION:
URL:https://lakelimerick.com/event/office-meeting/2026-10-13/
LOCATION:The Crows Nest\, 790 E Saint Andrews Drive\, Shelton\, WA\, 98584\, United States
CATEGORIES:Staff
END:VEVENT
BEGIN:VEVENT
DTSTART;TZID=America/Los_Angeles:20261013T100000
DTEND;TZID=America/Los_Angeles:20261013T110000
DTSTAMP:20260425T135905
CREATED:20260424T161730Z
LAST-MODIFIED:20260424T161730Z
UID:10006408-1791885600-1791889200@lakelimerick.com
SUMMARY:General Manager (Meeting)
DESCRIPTION:
URL:https://lakelimerick.com/event/general-manager-meeting-2/2026-10-13/
LOCATION:The Crows Nest\, 790 E Saint Andrews Drive\, Shelton\, WA\, 98584\, United States
CATEGORIES:Staff
END:VEVENT
BEGIN:VEVENT
DTSTART;TZID=America/Los_Angeles:20261013T100000
DTEND;TZID=America/Los_Angeles:20261013T120000
DTSTAMP:20260425T135905
CREATED:20260210T214236Z
LAST-MODIFIED:20260210T214236Z
UID:10005747-1791885600-1791892800@lakelimerick.com
SUMMARY:Mason Water Group
DESCRIPTION:
URL:https://lakelimerick.com/event/mason-water-group/2026-10-13/
LOCATION:Great Hall & Crow’s Nest\, 790 E Saint Andrews Drive\, Shelton\, WA\, 98584\, United States
CATEGORIES:Staff
END:VEVENT
BEGIN:VEVENT
DTSTART;TZID=America/Los_Angeles:20261013T120000
DTEND;TZID=America/Los_Angeles:20261013T130000
DTSTAMP:20260425T135905
CREATED:20260424T201707Z
LAST-MODIFIED:20260424T201707Z
UID:10007539-1791892800-1791896400@lakelimerick.com
SUMMARY:Office Meeting
DESCRIPTION:
URL:https://lakelimerick.com/event/office-meeting-2/2026-10-13/
LOCATION:The Crows Nest\, 790 E Saint Andrews Drive\, Shelton\, WA\, 98584\, United States
CATEGORIES:Staff
END:VEVENT
BEGIN:VEVENT
DTSTART;VALUE=DATE:20261016
DTEND;VALUE=DATE:20261017
DTSTAMP:20260425T135905
CREATED:20251027T191957Z
LAST-MODIFIED:20251027T191957Z
UID:10003509-1792108800-1792195199@lakelimerick.com
SUMMARY:BOD Meeting Set Up
DESCRIPTION:No events available today due to monthly BOD meeting equipment set up.
URL:https://lakelimerick.com/event/bod-meeting-set-up/2026-10-16/
LOCATION:WA
CATEGORIES:Staff
END:VEVENT
BEGIN:VEVENT
DTSTART;TZID=America/Los_Angeles:20261016T090000
DTEND;TZID=America/Los_Angeles:20261016T100000
DTSTAMP:20260425T135905
CREATED:20260424T201354Z
LAST-MODIFIED:20260424T201354Z
UID:10007043-1792141200-1792144800@lakelimerick.com
SUMMARY:Office Meeting
DESCRIPTION:
URL:https://lakelimerick.com/event/office-meeting/2026-10-16/
LOCATION:The Crows Nest\, 790 E Saint Andrews Drive\, Shelton\, WA\, 98584\, United States
CATEGORIES:Staff
END:VEVENT
BEGIN:VEVENT
DTSTART;TZID=America/Los_Angeles:20261016T100000
DTEND;TZID=America/Los_Angeles:20261016T110000
DTSTAMP:20260425T135905
CREATED:20260424T161730Z
LAST-MODIFIED:20260424T161730Z
UID:10006409-1792144800-1792148400@lakelimerick.com
SUMMARY:General Manager (Meeting)
DESCRIPTION:
URL:https://lakelimerick.com/event/general-manager-meeting-2/2026-10-16/
LOCATION:The Crows Nest\, 790 E Saint Andrews Drive\, Shelton\, WA\, 98584\, United States
CATEGORIES:Staff
END:VEVENT
BEGIN:VEVENT
DTSTART;TZID=America/Los_Angeles:20261020T090000
DTEND;TZID=America/Los_Angeles:20261020T100000
DTSTAMP:20260425T135905
CREATED:20260424T201354Z
LAST-MODIFIED:20260424T201354Z
UID:10007044-1792486800-1792490400@lakelimerick.com
SUMMARY:Office Meeting
DESCRIPTION:
URL:https://lakelimerick.com/event/office-meeting/2026-10-20/
LOCATION:The Crows Nest\, 790 E Saint Andrews Drive\, Shelton\, WA\, 98584\, United States
CATEGORIES:Staff
END:VEVENT
BEGIN:VEVENT
DTSTART;TZID=America/Los_Angeles:20261020T100000
DTEND;TZID=America/Los_Angeles:20261020T110000
DTSTAMP:20260425T135905
CREATED:20260424T161730Z
LAST-MODIFIED:20260424T161730Z
UID:10006410-1792490400-1792494000@lakelimerick.com
SUMMARY:General Manager (Meeting)
DESCRIPTION:
URL:https://lakelimerick.com/event/general-manager-meeting-2/2026-10-20/
LOCATION:The Crows Nest\, 790 E Saint Andrews Drive\, Shelton\, WA\, 98584\, United States
CATEGORIES:Staff
END:VEVENT
BEGIN:VEVENT
DTSTART;TZID=America/Los_Angeles:20261020T120000
DTEND;TZID=America/Los_Angeles:20261020T130000
DTSTAMP:20260425T135905
CREATED:20260424T201707Z
LAST-MODIFIED:20260424T201707Z
UID:10007540-1792497600-1792501200@lakelimerick.com
SUMMARY:Office Meeting
DESCRIPTION:
URL:https://lakelimerick.com/event/office-meeting-2/2026-10-20/
LOCATION:The Crows Nest\, 790 E Saint Andrews Drive\, Shelton\, WA\, 98584\, United States
CATEGORIES:Staff
END:VEVENT
BEGIN:VEVENT
DTSTART;TZID=America/Los_Angeles:20261023T090000
DTEND;TZID=America/Los_Angeles:20261023T100000
DTSTAMP:20260425T135905
CREATED:20260424T201354Z
LAST-MODIFIED:20260424T201354Z
UID:10007045-1792746000-1792749600@lakelimerick.com
SUMMARY:Office Meeting
DESCRIPTION:
URL:https://lakelimerick.com/event/office-meeting/2026-10-23/
LOCATION:The Crows Nest\, 790 E Saint Andrews Drive\, Shelton\, WA\, 98584\, United States
CATEGORIES:Staff
END:VEVENT
BEGIN:VEVENT
DTSTART;TZID=America/Los_Angeles:20261023T100000
DTEND;TZID=America/Los_Angeles:20261023T110000
DTSTAMP:20260425T135905
CREATED:20260424T161730Z
LAST-MODIFIED:20260424T161730Z
UID:10006411-1792749600-1792753200@lakelimerick.com
SUMMARY:General Manager (Meeting)
DESCRIPTION:
URL:https://lakelimerick.com/event/general-manager-meeting-2/2026-10-23/
LOCATION:The Crows Nest\, 790 E Saint Andrews Drive\, Shelton\, WA\, 98584\, United States
CATEGORIES:Staff
END:VEVENT
BEGIN:VEVENT
DTSTART;TZID=America/Los_Angeles:20261027T090000
DTEND;TZID=America/Los_Angeles:20261027T100000
DTSTAMP:20260425T135905
CREATED:20260424T201354Z
LAST-MODIFIED:20260424T201354Z
UID:10007046-1793091600-1793095200@lakelimerick.com
SUMMARY:Office Meeting
DESCRIPTION:
URL:https://lakelimerick.com/event/office-meeting/2026-10-27/
LOCATION:The Crows Nest\, 790 E Saint Andrews Drive\, Shelton\, WA\, 98584\, United States
CATEGORIES:Staff
END:VEVENT
END:VCALENDAR