BEGIN:VCALENDAR
VERSION:2.0
PRODID:-//Lake Limerick Country Club - ECPv6.15.20//NONSGML v1.0//EN
CALSCALE:GREGORIAN
METHOD:PUBLISH
X-WR-CALNAME:Lake Limerick Country Club
X-ORIGINAL-URL:https://lakelimerick.com
X-WR-CALDESC:Events for Lake Limerick Country Club
REFRESH-INTERVAL;VALUE=DURATION:PT1H
X-Robots-Tag:noindex
X-PUBLISHED-TTL:PT1H
BEGIN:VTIMEZONE
TZID:America/Los_Angeles
BEGIN:DAYLIGHT
TZOFFSETFROM:-0800
TZOFFSETTO:-0700
TZNAME:PDT
DTSTART:20250309T100000
END:DAYLIGHT
BEGIN:STANDARD
TZOFFSETFROM:-0700
TZOFFSETTO:-0800
TZNAME:PST
DTSTART:20251102T090000
END:STANDARD
BEGIN:DAYLIGHT
TZOFFSETFROM:-0800
TZOFFSETTO:-0700
TZNAME:PDT
DTSTART:20260308T100000
END:DAYLIGHT
BEGIN:STANDARD
TZOFFSETFROM:-0700
TZOFFSETTO:-0800
TZNAME:PST
DTSTART:20261101T090000
END:STANDARD
BEGIN:DAYLIGHT
TZOFFSETFROM:-0800
TZOFFSETTO:-0700
TZNAME:PDT
DTSTART:20270314T100000
END:DAYLIGHT
BEGIN:STANDARD
TZOFFSETFROM:-0700
TZOFFSETTO:-0800
TZNAME:PST
DTSTART:20271107T090000
END:STANDARD
END:VTIMEZONE
BEGIN:VEVENT
DTSTART;TZID=America/Los_Angeles:20260505T100000
DTEND;TZID=America/Los_Angeles:20260505T110000
DTSTAMP:20260424T121102
CREATED:20260424T161730Z
LAST-MODIFIED:20260424T161730Z
UID:10006362-1777975200-1777978800@lakelimerick.com
SUMMARY:General Manager (Meeting)
DESCRIPTION:
URL:https://lakelimerick.com/event/general-manager-meeting-2/2026-05-05/
LOCATION:The Crows Nest\, 790 E Saint Andrews Drive\, Shelton\, WA\, 98584\, United States
CATEGORIES:Staff
END:VEVENT
BEGIN:VEVENT
DTSTART;TZID=America/Los_Angeles:20260508T100000
DTEND;TZID=America/Los_Angeles:20260508T110000
DTSTAMP:20260424T121102
CREATED:20260424T161730Z
LAST-MODIFIED:20260424T161730Z
UID:10006363-1778234400-1778238000@lakelimerick.com
SUMMARY:General Manager (Meeting)
DESCRIPTION:
URL:https://lakelimerick.com/event/general-manager-meeting-2/2026-05-08/
LOCATION:The Crows Nest\, 790 E Saint Andrews Drive\, Shelton\, WA\, 98584\, United States
CATEGORIES:Staff
END:VEVENT
BEGIN:VEVENT
DTSTART;TZID=America/Los_Angeles:20260512T100000
DTEND;TZID=America/Los_Angeles:20260512T110000
DTSTAMP:20260424T121102
CREATED:20260424T161730Z
LAST-MODIFIED:20260424T161730Z
UID:10006364-1778580000-1778583600@lakelimerick.com
SUMMARY:General Manager (Meeting)
DESCRIPTION:
URL:https://lakelimerick.com/event/general-manager-meeting-2/2026-05-12/
LOCATION:The Crows Nest\, 790 E Saint Andrews Drive\, Shelton\, WA\, 98584\, United States
CATEGORIES:Staff
END:VEVENT
BEGIN:VEVENT
DTSTART;TZID=America/Los_Angeles:20260512T100000
DTEND;TZID=America/Los_Angeles:20260512T120000
DTSTAMP:20260424T121102
CREATED:20260210T214236Z
LAST-MODIFIED:20260210T214236Z
UID:10005742-1778580000-1778587200@lakelimerick.com
SUMMARY:Mason Water Group
DESCRIPTION:
URL:https://lakelimerick.com/event/mason-water-group/2026-05-12/
LOCATION:Great Hall & Crow’s Nest\, 790 E Saint Andrews Drive\, Shelton\, WA\, 98584\, United States
CATEGORIES:Staff
END:VEVENT
BEGIN:VEVENT
DTSTART;VALUE=DATE:20260515
DTEND;VALUE=DATE:20260516
DTSTAMP:20260424T121102
CREATED:20251027T191957Z
LAST-MODIFIED:20251027T191957Z
UID:10003504-1778803200-1778889599@lakelimerick.com
SUMMARY:BOD Meeting Set Up
DESCRIPTION:No events available today due to monthly BOD meeting equipment set up.
URL:https://lakelimerick.com/event/bod-meeting-set-up/2026-05-15/
LOCATION:WA
CATEGORIES:Staff
END:VEVENT
BEGIN:VEVENT
DTSTART;TZID=America/Los_Angeles:20260515T100000
DTEND;TZID=America/Los_Angeles:20260515T110000
DTSTAMP:20260424T121102
CREATED:20260424T161730Z
LAST-MODIFIED:20260424T161730Z
UID:10006365-1778839200-1778842800@lakelimerick.com
SUMMARY:General Manager (Meeting)
DESCRIPTION:
URL:https://lakelimerick.com/event/general-manager-meeting-2/2026-05-15/
LOCATION:The Crows Nest\, 790 E Saint Andrews Drive\, Shelton\, WA\, 98584\, United States
CATEGORIES:Staff
END:VEVENT
BEGIN:VEVENT
DTSTART;TZID=America/Los_Angeles:20260519T100000
DTEND;TZID=America/Los_Angeles:20260519T110000
DTSTAMP:20260424T121102
CREATED:20260424T161730Z
LAST-MODIFIED:20260424T161730Z
UID:10006366-1779184800-1779188400@lakelimerick.com
SUMMARY:General Manager (Meeting)
DESCRIPTION:
URL:https://lakelimerick.com/event/general-manager-meeting-2/2026-05-19/
LOCATION:The Crows Nest\, 790 E Saint Andrews Drive\, Shelton\, WA\, 98584\, United States
CATEGORIES:Staff
END:VEVENT
BEGIN:VEVENT
DTSTART;TZID=America/Los_Angeles:20260522T100000
DTEND;TZID=America/Los_Angeles:20260522T110000
DTSTAMP:20260424T121102
CREATED:20260424T161730Z
LAST-MODIFIED:20260424T161730Z
UID:10006367-1779444000-1779447600@lakelimerick.com
SUMMARY:General Manager (Meeting)
DESCRIPTION:
URL:https://lakelimerick.com/event/general-manager-meeting-2/2026-05-22/
LOCATION:The Crows Nest\, 790 E Saint Andrews Drive\, Shelton\, WA\, 98584\, United States
CATEGORIES:Staff
END:VEVENT
BEGIN:VEVENT
DTSTART;TZID=America/Los_Angeles:20260526T100000
DTEND;TZID=America/Los_Angeles:20260526T110000
DTSTAMP:20260424T121102
CREATED:20260424T161730Z
LAST-MODIFIED:20260424T161730Z
UID:10006368-1779789600-1779793200@lakelimerick.com
SUMMARY:General Manager (Meeting)
DESCRIPTION:
URL:https://lakelimerick.com/event/general-manager-meeting-2/2026-05-26/
LOCATION:The Crows Nest\, 790 E Saint Andrews Drive\, Shelton\, WA\, 98584\, United States
CATEGORIES:Staff
END:VEVENT
BEGIN:VEVENT
DTSTART;TZID=America/Los_Angeles:20260529T100000
DTEND;TZID=America/Los_Angeles:20260529T110000
DTSTAMP:20260424T121102
CREATED:20260424T161730Z
LAST-MODIFIED:20260424T161730Z
UID:10006369-1780048800-1780052400@lakelimerick.com
SUMMARY:General Manager (Meeting)
DESCRIPTION:
URL:https://lakelimerick.com/event/general-manager-meeting-2/2026-05-29/
LOCATION:The Crows Nest\, 790 E Saint Andrews Drive\, Shelton\, WA\, 98584\, United States
CATEGORIES:Staff
END:VEVENT
BEGIN:VEVENT
DTSTART;TZID=America/Los_Angeles:20260602T100000
DTEND;TZID=America/Los_Angeles:20260602T110000
DTSTAMP:20260424T121102
CREATED:20260424T161730Z
LAST-MODIFIED:20260424T161730Z
UID:10006370-1780394400-1780398000@lakelimerick.com
SUMMARY:General Manager (Meeting)
DESCRIPTION:
URL:https://lakelimerick.com/event/general-manager-meeting-2/2026-06-02/
LOCATION:The Crows Nest\, 790 E Saint Andrews Drive\, Shelton\, WA\, 98584\, United States
CATEGORIES:Staff
END:VEVENT
BEGIN:VEVENT
DTSTART;TZID=America/Los_Angeles:20260605T100000
DTEND;TZID=America/Los_Angeles:20260605T110000
DTSTAMP:20260424T121102
CREATED:20260424T161730Z
LAST-MODIFIED:20260424T161730Z
UID:10006371-1780653600-1780657200@lakelimerick.com
SUMMARY:General Manager (Meeting)
DESCRIPTION:
URL:https://lakelimerick.com/event/general-manager-meeting-2/2026-06-05/
LOCATION:The Crows Nest\, 790 E Saint Andrews Drive\, Shelton\, WA\, 98584\, United States
CATEGORIES:Staff
END:VEVENT
BEGIN:VEVENT
DTSTART;TZID=America/Los_Angeles:20260609T100000
DTEND;TZID=America/Los_Angeles:20260609T110000
DTSTAMP:20260424T121102
CREATED:20260424T161730Z
LAST-MODIFIED:20260424T161730Z
UID:10006372-1780999200-1781002800@lakelimerick.com
SUMMARY:General Manager (Meeting)
DESCRIPTION:
URL:https://lakelimerick.com/event/general-manager-meeting-2/2026-06-09/
LOCATION:The Crows Nest\, 790 E Saint Andrews Drive\, Shelton\, WA\, 98584\, United States
CATEGORIES:Staff
END:VEVENT
BEGIN:VEVENT
DTSTART;TZID=America/Los_Angeles:20260609T100000
DTEND;TZID=America/Los_Angeles:20260609T120000
DTSTAMP:20260424T121102
CREATED:20260210T214236Z
LAST-MODIFIED:20260210T214236Z
UID:10005743-1780999200-1781006400@lakelimerick.com
SUMMARY:Mason Water Group
DESCRIPTION:
URL:https://lakelimerick.com/event/mason-water-group/2026-06-09/
LOCATION:Great Hall & Crow’s Nest\, 790 E Saint Andrews Drive\, Shelton\, WA\, 98584\, United States
CATEGORIES:Staff
END:VEVENT
BEGIN:VEVENT
DTSTART;TZID=America/Los_Angeles:20260612T100000
DTEND;TZID=America/Los_Angeles:20260612T110000
DTSTAMP:20260424T121102
CREATED:20260424T161730Z
LAST-MODIFIED:20260424T161730Z
UID:10006373-1781258400-1781262000@lakelimerick.com
SUMMARY:General Manager (Meeting)
DESCRIPTION:
URL:https://lakelimerick.com/event/general-manager-meeting-2/2026-06-12/
LOCATION:The Crows Nest\, 790 E Saint Andrews Drive\, Shelton\, WA\, 98584\, United States
CATEGORIES:Staff
END:VEVENT
BEGIN:VEVENT
DTSTART;TZID=America/Los_Angeles:20260616T100000
DTEND;TZID=America/Los_Angeles:20260616T110000
DTSTAMP:20260424T121102
CREATED:20260424T161730Z
LAST-MODIFIED:20260424T161730Z
UID:10006374-1781604000-1781607600@lakelimerick.com
SUMMARY:General Manager (Meeting)
DESCRIPTION:
URL:https://lakelimerick.com/event/general-manager-meeting-2/2026-06-16/
LOCATION:The Crows Nest\, 790 E Saint Andrews Drive\, Shelton\, WA\, 98584\, United States
CATEGORIES:Staff
END:VEVENT
BEGIN:VEVENT
DTSTART;VALUE=DATE:20260619
DTEND;VALUE=DATE:20260620
DTSTAMP:20260424T121102
CREATED:20251027T191957Z
LAST-MODIFIED:20251027T191957Z
UID:10003505-1781827200-1781913599@lakelimerick.com
SUMMARY:BOD Meeting Set Up
DESCRIPTION:No events available today due to monthly BOD meeting equipment set up.
URL:https://lakelimerick.com/event/bod-meeting-set-up/2026-06-19/
LOCATION:WA
CATEGORIES:Staff
END:VEVENT
BEGIN:VEVENT
DTSTART;TZID=America/Los_Angeles:20260619T100000
DTEND;TZID=America/Los_Angeles:20260619T110000
DTSTAMP:20260424T121102
CREATED:20260424T161730Z
LAST-MODIFIED:20260424T161730Z
UID:10006375-1781863200-1781866800@lakelimerick.com
SUMMARY:General Manager (Meeting)
DESCRIPTION:
URL:https://lakelimerick.com/event/general-manager-meeting-2/2026-06-19/
LOCATION:The Crows Nest\, 790 E Saint Andrews Drive\, Shelton\, WA\, 98584\, United States
CATEGORIES:Staff
END:VEVENT
BEGIN:VEVENT
DTSTART;TZID=America/Los_Angeles:20260623T100000
DTEND;TZID=America/Los_Angeles:20260623T110000
DTSTAMP:20260424T121102
CREATED:20260424T161730Z
LAST-MODIFIED:20260424T161730Z
UID:10006376-1782208800-1782212400@lakelimerick.com
SUMMARY:General Manager (Meeting)
DESCRIPTION:
URL:https://lakelimerick.com/event/general-manager-meeting-2/2026-06-23/
LOCATION:The Crows Nest\, 790 E Saint Andrews Drive\, Shelton\, WA\, 98584\, United States
CATEGORIES:Staff
END:VEVENT
BEGIN:VEVENT
DTSTART;TZID=America/Los_Angeles:20260626T100000
DTEND;TZID=America/Los_Angeles:20260626T110000
DTSTAMP:20260424T121102
CREATED:20260424T161730Z
LAST-MODIFIED:20260424T161730Z
UID:10006377-1782468000-1782471600@lakelimerick.com
SUMMARY:General Manager (Meeting)
DESCRIPTION:
URL:https://lakelimerick.com/event/general-manager-meeting-2/2026-06-26/
LOCATION:The Crows Nest\, 790 E Saint Andrews Drive\, Shelton\, WA\, 98584\, United States
CATEGORIES:Staff
END:VEVENT
BEGIN:VEVENT
DTSTART;TZID=America/Los_Angeles:20260630T100000
DTEND;TZID=America/Los_Angeles:20260630T110000
DTSTAMP:20260424T121102
CREATED:20260424T161730Z
LAST-MODIFIED:20260424T161730Z
UID:10006378-1782813600-1782817200@lakelimerick.com
SUMMARY:General Manager (Meeting)
DESCRIPTION:
URL:https://lakelimerick.com/event/general-manager-meeting-2/2026-06-30/
LOCATION:The Crows Nest\, 790 E Saint Andrews Drive\, Shelton\, WA\, 98584\, United States
CATEGORIES:Staff
END:VEVENT
BEGIN:VEVENT
DTSTART;TZID=America/Los_Angeles:20260703T100000
DTEND;TZID=America/Los_Angeles:20260703T110000
DTSTAMP:20260424T121102
CREATED:20260424T161730Z
LAST-MODIFIED:20260424T161730Z
UID:10006379-1783072800-1783076400@lakelimerick.com
SUMMARY:General Manager (Meeting)
DESCRIPTION:
URL:https://lakelimerick.com/event/general-manager-meeting-2/2026-07-03/
LOCATION:The Crows Nest\, 790 E Saint Andrews Drive\, Shelton\, WA\, 98584\, United States
CATEGORIES:Staff
END:VEVENT
BEGIN:VEVENT
DTSTART;TZID=America/Los_Angeles:20260707T100000
DTEND;TZID=America/Los_Angeles:20260707T110000
DTSTAMP:20260424T121102
CREATED:20260424T161730Z
LAST-MODIFIED:20260424T161730Z
UID:10006380-1783418400-1783422000@lakelimerick.com
SUMMARY:General Manager (Meeting)
DESCRIPTION:
URL:https://lakelimerick.com/event/general-manager-meeting-2/2026-07-07/
LOCATION:The Crows Nest\, 790 E Saint Andrews Drive\, Shelton\, WA\, 98584\, United States
CATEGORIES:Staff
END:VEVENT
BEGIN:VEVENT
DTSTART;TZID=America/Los_Angeles:20260710T100000
DTEND;TZID=America/Los_Angeles:20260710T110000
DTSTAMP:20260424T121102
CREATED:20260424T161730Z
LAST-MODIFIED:20260424T161730Z
UID:10006381-1783677600-1783681200@lakelimerick.com
SUMMARY:General Manager (Meeting)
DESCRIPTION:
URL:https://lakelimerick.com/event/general-manager-meeting-2/2026-07-10/
LOCATION:The Crows Nest\, 790 E Saint Andrews Drive\, Shelton\, WA\, 98584\, United States
CATEGORIES:Staff
END:VEVENT
BEGIN:VEVENT
DTSTART;TZID=America/Los_Angeles:20260714T100000
DTEND;TZID=America/Los_Angeles:20260714T110000
DTSTAMP:20260424T121102
CREATED:20260424T161730Z
LAST-MODIFIED:20260424T161730Z
UID:10006382-1784023200-1784026800@lakelimerick.com
SUMMARY:General Manager (Meeting)
DESCRIPTION:
URL:https://lakelimerick.com/event/general-manager-meeting-2/2026-07-14/
LOCATION:The Crows Nest\, 790 E Saint Andrews Drive\, Shelton\, WA\, 98584\, United States
CATEGORIES:Staff
END:VEVENT
BEGIN:VEVENT
DTSTART;TZID=America/Los_Angeles:20260714T100000
DTEND;TZID=America/Los_Angeles:20260714T120000
DTSTAMP:20260424T121102
CREATED:20260210T214236Z
LAST-MODIFIED:20260210T214236Z
UID:10005744-1784023200-1784030400@lakelimerick.com
SUMMARY:Mason Water Group
DESCRIPTION:
URL:https://lakelimerick.com/event/mason-water-group/2026-07-14/
LOCATION:Great Hall & Crow’s Nest\, 790 E Saint Andrews Drive\, Shelton\, WA\, 98584\, United States
CATEGORIES:Staff
END:VEVENT
BEGIN:VEVENT
DTSTART;VALUE=DATE:20260717
DTEND;VALUE=DATE:20260718
DTSTAMP:20260424T121102
CREATED:20251027T191957Z
LAST-MODIFIED:20251027T191957Z
UID:10003506-1784246400-1784332799@lakelimerick.com
SUMMARY:BOD Meeting Set Up
DESCRIPTION:No events available today due to monthly BOD meeting equipment set up.
URL:https://lakelimerick.com/event/bod-meeting-set-up/2026-07-17/
LOCATION:WA
CATEGORIES:Staff
END:VEVENT
BEGIN:VEVENT
DTSTART;TZID=America/Los_Angeles:20260717T100000
DTEND;TZID=America/Los_Angeles:20260717T110000
DTSTAMP:20260424T121102
CREATED:20260424T161730Z
LAST-MODIFIED:20260424T161730Z
UID:10006383-1784282400-1784286000@lakelimerick.com
SUMMARY:General Manager (Meeting)
DESCRIPTION:
URL:https://lakelimerick.com/event/general-manager-meeting-2/2026-07-17/
LOCATION:The Crows Nest\, 790 E Saint Andrews Drive\, Shelton\, WA\, 98584\, United States
CATEGORIES:Staff
END:VEVENT
BEGIN:VEVENT
DTSTART;TZID=America/Los_Angeles:20260721T100000
DTEND;TZID=America/Los_Angeles:20260721T110000
DTSTAMP:20260424T121102
CREATED:20260424T161730Z
LAST-MODIFIED:20260424T161730Z
UID:10006384-1784628000-1784631600@lakelimerick.com
SUMMARY:General Manager (Meeting)
DESCRIPTION:
URL:https://lakelimerick.com/event/general-manager-meeting-2/2026-07-21/
LOCATION:The Crows Nest\, 790 E Saint Andrews Drive\, Shelton\, WA\, 98584\, United States
CATEGORIES:Staff
END:VEVENT
BEGIN:VEVENT
DTSTART;TZID=America/Los_Angeles:20260724T100000
DTEND;TZID=America/Los_Angeles:20260724T110000
DTSTAMP:20260424T121102
CREATED:20260424T161730Z
LAST-MODIFIED:20260424T161730Z
UID:10006385-1784887200-1784890800@lakelimerick.com
SUMMARY:General Manager (Meeting)
DESCRIPTION:
URL:https://lakelimerick.com/event/general-manager-meeting-2/2026-07-24/
LOCATION:The Crows Nest\, 790 E Saint Andrews Drive\, Shelton\, WA\, 98584\, United States
CATEGORIES:Staff
END:VEVENT
END:VCALENDAR