BEGIN:VCALENDAR
VERSION:2.0
PRODID:-//Lake Limerick Country Club - ECPv6.15.20//NONSGML v1.0//EN
CALSCALE:GREGORIAN
METHOD:PUBLISH
X-ORIGINAL-URL:https://lakelimerick.com
X-WR-CALDESC:Events for Lake Limerick Country Club
REFRESH-INTERVAL;VALUE=DURATION:PT1H
X-Robots-Tag:noindex
X-PUBLISHED-TTL:PT1H
BEGIN:VTIMEZONE
TZID:America/Los_Angeles
BEGIN:DAYLIGHT
TZOFFSETFROM:-0800
TZOFFSETTO:-0700
TZNAME:PDT
DTSTART:20240310T100000
END:DAYLIGHT
BEGIN:STANDARD
TZOFFSETFROM:-0700
TZOFFSETTO:-0800
TZNAME:PST
DTSTART:20241103T090000
END:STANDARD
BEGIN:DAYLIGHT
TZOFFSETFROM:-0800
TZOFFSETTO:-0700
TZNAME:PDT
DTSTART:20250309T100000
END:DAYLIGHT
BEGIN:STANDARD
TZOFFSETFROM:-0700
TZOFFSETTO:-0800
TZNAME:PST
DTSTART:20251102T090000
END:STANDARD
BEGIN:DAYLIGHT
TZOFFSETFROM:-0800
TZOFFSETTO:-0700
TZNAME:PDT
DTSTART:20260308T100000
END:DAYLIGHT
BEGIN:STANDARD
TZOFFSETFROM:-0700
TZOFFSETTO:-0800
TZNAME:PST
DTSTART:20261101T090000
END:STANDARD
END:VTIMEZONE
BEGIN:VEVENT
DTSTART;TZID=America/Los_Angeles:20251119T103000
DTEND;TZID=America/Los_Angeles:20251119T113000
DTSTAMP:20260423T083743
CREATED:20251116T180546Z
LAST-MODIFIED:20251116T180546Z
UID:10003652-1763548200-1763551800@lakelimerick.com
SUMMARY:Inn Committee & Staff
DESCRIPTION:
URL:https://lakelimerick.com/event/inn-committee-staff/
LOCATION:The Crows Nest\, 790 E Saint Andrews Drive\, Shelton\, WA\, 98584\, United States
CATEGORIES:Staff
END:VEVENT
BEGIN:VEVENT
DTSTART;TZID=America/Los_Angeles:20251119T120000
DTEND;TZID=America/Los_Angeles:20251119T140000
DTSTAMP:20260423T083743
CREATED:20251116T181001Z
LAST-MODIFIED:20251116T181001Z
UID:10003654-1763553600-1763560800@lakelimerick.com
SUMMARY:Interviews
DESCRIPTION:
URL:https://lakelimerick.com/event/interviews/
LOCATION:The Crows Nest\, 790 E Saint Andrews Drive\, Shelton\, WA\, 98584\, United States
CATEGORIES:Staff
END:VEVENT
BEGIN:VEVENT
DTSTART;TZID=America/Los_Angeles:20251120T130000
DTEND;TZID=America/Los_Angeles:20251120T140000
DTSTAMP:20260423T083743
CREATED:20251010T071818Z
LAST-MODIFIED:20251010T072242Z
UID:10002113-1763643600-1763647200@lakelimerick.com
SUMMARY:Staff Meeting
DESCRIPTION:Crows Nest
URL:https://lakelimerick.com/event/staff-meeting-3/2025-11-20/
LOCATION:The Crows Nest\, 790 E Saint Andrews Drive\, Shelton\, WA\, 98584\, United States
CATEGORIES:Staff
END:VEVENT
END:VCALENDAR