BEGIN:VCALENDAR
VERSION:2.0
PRODID:-//Lake Limerick Country Club - ECPv6.15.20//NONSGML v1.0//EN
CALSCALE:GREGORIAN
METHOD:PUBLISH
X-WR-CALNAME:Lake Limerick Country Club
X-ORIGINAL-URL:https://lakelimerick.com
X-WR-CALDESC:Events for Lake Limerick Country Club
REFRESH-INTERVAL;VALUE=DURATION:PT1H
X-Robots-Tag:noindex
X-PUBLISHED-TTL:PT1H
BEGIN:VTIMEZONE
TZID:America/Los_Angeles
BEGIN:DAYLIGHT
TZOFFSETFROM:-0800
TZOFFSETTO:-0700
TZNAME:PDT
DTSTART:20290311T100000
END:DAYLIGHT
BEGIN:STANDARD
TZOFFSETFROM:-0700
TZOFFSETTO:-0800
TZNAME:PST
DTSTART:20291104T090000
END:STANDARD
BEGIN:DAYLIGHT
TZOFFSETFROM:-0800
TZOFFSETTO:-0700
TZNAME:PDT
DTSTART:20300310T100000
END:DAYLIGHT
BEGIN:STANDARD
TZOFFSETFROM:-0700
TZOFFSETTO:-0800
TZNAME:PST
DTSTART:20301103T090000
END:STANDARD
BEGIN:DAYLIGHT
TZOFFSETFROM:-0800
TZOFFSETTO:-0700
TZNAME:PDT
DTSTART:20310309T100000
END:DAYLIGHT
BEGIN:STANDARD
TZOFFSETFROM:-0700
TZOFFSETTO:-0800
TZNAME:PST
DTSTART:20311102T090000
END:STANDARD
END:VTIMEZONE
BEGIN:VEVENT
DTSTART;TZID=America/Los_Angeles:20300923T083000
DTEND;TZID=America/Los_Angeles:20300923T093000
DTSTAMP:20260425T064227
CREATED:20251109T165614Z
LAST-MODIFIED:20251109T165615Z
UID:10003624-1916382600-1916386200@lakelimerick.com
SUMMARY:Exercise Group
DESCRIPTION:Join the exercise group at 8:30 am on Monday\, Wednesday and Friday. \nNo charge\nJust bring your own mat and hand weights. \n \n\nThe Lake Limerick Exercise Class is for men and women.  It is held in the Great Hall of the Lake Limerick Inn.\nThe class duration is one hour\, starting at 8:30 am on Mondays\, Wednesdays\, and Fridays (excluding holidays).  Participants are encouraged to arrive at 8:15 to set up.  You are not required to make it to all classes – join when you can.\nThe class is an audio exercise routine and can be adapted for every level.  The class is not led by a trained fitness professional.  This class is for the community members who wish to improve and maintain their level of fitness and have a little fun at the same time.\nParticipants are encouraged to modify exercise routines according to ability and fitness capabilities.\nExercise equipment is not furnished.  Weights\, a mat\, a bench step are recommended.  Bring your own and take it with you when done.\nChairs are available for participants who do not have the ability to participate in the floor routines.\nContact class coordinator\, Robyn LaRoche with any questions or concerns.
URL:https://lakelimerick.com/event/exercise-group-2-2/2030-09-23/
LOCATION:The Great Hall\, 790 E St Andrews Drive\, Shelton\, WA\, 98584\, United States
CATEGORIES:Community Events
ORGANIZER;CN="Robyn LaRoche":MAILTO:rllaroche@yahoo.com
END:VEVENT
BEGIN:VEVENT
DTSTART;TZID=America/Los_Angeles:20300924T090000
DTEND;TZID=America/Los_Angeles:20300924T100000
DTSTAMP:20260425T064227
CREATED:20260424T201354Z
LAST-MODIFIED:20260424T201354Z
UID:10007454-1916470800-1916474400@lakelimerick.com
SUMMARY:Office Meeting
DESCRIPTION:
URL:https://lakelimerick.com/event/office-meeting/2030-09-24/
LOCATION:The Crows Nest\, 790 E Saint Andrews Drive\, Shelton\, WA\, 98584\, United States
CATEGORIES:Staff
END:VEVENT
BEGIN:VEVENT
DTSTART;TZID=America/Los_Angeles:20300924T100000
DTEND;TZID=America/Los_Angeles:20300924T110000
DTSTAMP:20260425T064227
CREATED:20260424T161730Z
LAST-MODIFIED:20260424T161730Z
UID:10006820-1916474400-1916478000@lakelimerick.com
SUMMARY:General Manager (Meeting)
DESCRIPTION:
URL:https://lakelimerick.com/event/general-manager-meeting-2/2030-09-24/
LOCATION:The Crows Nest\, 790 E Saint Andrews Drive\, Shelton\, WA\, 98584\, United States
CATEGORIES:Staff
END:VEVENT
BEGIN:VEVENT
DTSTART;TZID=America/Los_Angeles:20300924T120000
DTEND;TZID=America/Los_Angeles:20300924T130000
DTSTAMP:20260425T064227
CREATED:20260424T201707Z
LAST-MODIFIED:20260424T201707Z
UID:10007745-1916481600-1916485200@lakelimerick.com
SUMMARY:Office Meeting
DESCRIPTION:
URL:https://lakelimerick.com/event/office-meeting-2/2030-09-24/
LOCATION:The Crows Nest\, 790 E Saint Andrews Drive\, Shelton\, WA\, 98584\, United States
CATEGORIES:Staff
END:VEVENT
BEGIN:VEVENT
DTSTART;TZID=America/Los_Angeles:20300925T083000
DTEND;TZID=America/Los_Angeles:20300925T093000
DTSTAMP:20260425T064227
CREATED:20251109T165614Z
LAST-MODIFIED:20251109T165615Z
UID:10003625-1916555400-1916559000@lakelimerick.com
SUMMARY:Exercise Group
DESCRIPTION:Join the exercise group at 8:30 am on Monday\, Wednesday and Friday. \nNo charge\nJust bring your own mat and hand weights. \n \n\nThe Lake Limerick Exercise Class is for men and women.  It is held in the Great Hall of the Lake Limerick Inn.\nThe class duration is one hour\, starting at 8:30 am on Mondays\, Wednesdays\, and Fridays (excluding holidays).  Participants are encouraged to arrive at 8:15 to set up.  You are not required to make it to all classes – join when you can.\nThe class is an audio exercise routine and can be adapted for every level.  The class is not led by a trained fitness professional.  This class is for the community members who wish to improve and maintain their level of fitness and have a little fun at the same time.\nParticipants are encouraged to modify exercise routines according to ability and fitness capabilities.\nExercise equipment is not furnished.  Weights\, a mat\, a bench step are recommended.  Bring your own and take it with you when done.\nChairs are available for participants who do not have the ability to participate in the floor routines.\nContact class coordinator\, Robyn LaRoche with any questions or concerns.
URL:https://lakelimerick.com/event/exercise-group-2-2/2030-09-25/
LOCATION:The Great Hall\, 790 E St Andrews Drive\, Shelton\, WA\, 98584\, United States
CATEGORIES:Community Events
ORGANIZER;CN="Robyn LaRoche":MAILTO:rllaroche@yahoo.com
END:VEVENT
BEGIN:VEVENT
DTSTART;TZID=America/Los_Angeles:20300925T180000
DTEND;TZID=America/Los_Angeles:20300925T210000
DTSTAMP:20260425T064227
CREATED:20260416T162607Z
LAST-MODIFIED:20260416T162956Z
UID:10006329-1916589600-1916600400@lakelimerick.com
SUMMARY:Community Studio Time
DESCRIPTION:Bring a portable Art/Craft project.\nConnect with like-minded creatives and enjoy\nfood and beverage from The Inn Restaurant/Blarney Room. \nEvery Wednesday \nThe Great Hall \n6 pm – 9 pm \n  \n 
URL:https://lakelimerick.com/event/community-studio-time-2-2-2-2/2030-09-25/
LOCATION:The Great Hall\, 790 E St Andrews Drive\, Shelton\, WA\, 98584\, United States
CATEGORIES:Community Events
END:VEVENT
BEGIN:VEVENT
DTSTART;TZID=America/Los_Angeles:20300927T083000
DTEND;TZID=America/Los_Angeles:20300927T093000
DTSTAMP:20260425T064227
CREATED:20251109T165614Z
LAST-MODIFIED:20251109T165615Z
UID:10003626-1916728200-1916731800@lakelimerick.com
SUMMARY:Exercise Group
DESCRIPTION:Join the exercise group at 8:30 am on Monday\, Wednesday and Friday. \nNo charge\nJust bring your own mat and hand weights. \n \n\nThe Lake Limerick Exercise Class is for men and women.  It is held in the Great Hall of the Lake Limerick Inn.\nThe class duration is one hour\, starting at 8:30 am on Mondays\, Wednesdays\, and Fridays (excluding holidays).  Participants are encouraged to arrive at 8:15 to set up.  You are not required to make it to all classes – join when you can.\nThe class is an audio exercise routine and can be adapted for every level.  The class is not led by a trained fitness professional.  This class is for the community members who wish to improve and maintain their level of fitness and have a little fun at the same time.\nParticipants are encouraged to modify exercise routines according to ability and fitness capabilities.\nExercise equipment is not furnished.  Weights\, a mat\, a bench step are recommended.  Bring your own and take it with you when done.\nChairs are available for participants who do not have the ability to participate in the floor routines.\nContact class coordinator\, Robyn LaRoche with any questions or concerns.
URL:https://lakelimerick.com/event/exercise-group-2-2/2030-09-27/
LOCATION:The Great Hall\, 790 E St Andrews Drive\, Shelton\, WA\, 98584\, United States
CATEGORIES:Community Events
ORGANIZER;CN="Robyn LaRoche":MAILTO:rllaroche@yahoo.com
END:VEVENT
BEGIN:VEVENT
DTSTART;TZID=America/Los_Angeles:20300927T090000
DTEND;TZID=America/Los_Angeles:20300927T100000
DTSTAMP:20260425T064227
CREATED:20260424T201354Z
LAST-MODIFIED:20260424T201354Z
UID:10007455-1916730000-1916733600@lakelimerick.com
SUMMARY:Office Meeting
DESCRIPTION:
URL:https://lakelimerick.com/event/office-meeting/2030-09-27/
LOCATION:The Crows Nest\, 790 E Saint Andrews Drive\, Shelton\, WA\, 98584\, United States
CATEGORIES:Staff
END:VEVENT
BEGIN:VEVENT
DTSTART;TZID=America/Los_Angeles:20300927T100000
DTEND;TZID=America/Los_Angeles:20300927T110000
DTSTAMP:20260425T064227
CREATED:20260424T161730Z
LAST-MODIFIED:20260424T161730Z
UID:10006821-1916733600-1916737200@lakelimerick.com
SUMMARY:General Manager (Meeting)
DESCRIPTION:
URL:https://lakelimerick.com/event/general-manager-meeting-2/2030-09-27/
LOCATION:The Crows Nest\, 790 E Saint Andrews Drive\, Shelton\, WA\, 98584\, United States
CATEGORIES:Staff
END:VEVENT
BEGIN:VEVENT
DTSTART;TZID=America/Los_Angeles:20300928T090000
DTEND;TZID=America/Los_Angeles:20300928T130000
DTSTAMP:20260425T064227
CREATED:20260326T165545Z
LAST-MODIFIED:20260326T165730Z
UID:10006253-1916816400-1916830800@lakelimerick.com
SUMMARY:Water Committee Meeting (Hybrid)
DESCRIPTION:Water System Utility Committee Meeting \n \nCrow’s Nest or Zoom \nZoom Link \nMeeting ID:  882 7511 6055 \nPasscode:  822 423
URL:https://lakelimerick.com/event/water-committee-meeting-hybrid-2/2030-09-28/
LOCATION:The Blarney Room (Lounge)\, 790 E Saint Andrews Drive\, Shelton\, WA\, 98584\, United States
CATEGORIES:Committee Meetings
END:VEVENT
BEGIN:VEVENT
DTSTART;TZID=America/Los_Angeles:20300930T083000
DTEND;TZID=America/Los_Angeles:20300930T093000
DTSTAMP:20260425T064227
CREATED:20251109T165614Z
LAST-MODIFIED:20251109T165615Z
UID:10003627-1916987400-1916991000@lakelimerick.com
SUMMARY:Exercise Group
DESCRIPTION:Join the exercise group at 8:30 am on Monday\, Wednesday and Friday. \nNo charge\nJust bring your own mat and hand weights. \n \n\nThe Lake Limerick Exercise Class is for men and women.  It is held in the Great Hall of the Lake Limerick Inn.\nThe class duration is one hour\, starting at 8:30 am on Mondays\, Wednesdays\, and Fridays (excluding holidays).  Participants are encouraged to arrive at 8:15 to set up.  You are not required to make it to all classes – join when you can.\nThe class is an audio exercise routine and can be adapted for every level.  The class is not led by a trained fitness professional.  This class is for the community members who wish to improve and maintain their level of fitness and have a little fun at the same time.\nParticipants are encouraged to modify exercise routines according to ability and fitness capabilities.\nExercise equipment is not furnished.  Weights\, a mat\, a bench step are recommended.  Bring your own and take it with you when done.\nChairs are available for participants who do not have the ability to participate in the floor routines.\nContact class coordinator\, Robyn LaRoche with any questions or concerns.
URL:https://lakelimerick.com/event/exercise-group-2-2/2030-09-30/
LOCATION:The Great Hall\, 790 E St Andrews Drive\, Shelton\, WA\, 98584\, United States
CATEGORIES:Community Events
ORGANIZER;CN="Robyn LaRoche":MAILTO:rllaroche@yahoo.com
END:VEVENT
BEGIN:VEVENT
DTSTART;TZID=America/Los_Angeles:20301001T090000
DTEND;TZID=America/Los_Angeles:20301001T100000
DTSTAMP:20260425T064227
CREATED:20260424T201354Z
LAST-MODIFIED:20260424T201354Z
UID:10007456-1917075600-1917079200@lakelimerick.com
SUMMARY:Office Meeting
DESCRIPTION:
URL:https://lakelimerick.com/event/office-meeting/2030-10-01/
LOCATION:The Crows Nest\, 790 E Saint Andrews Drive\, Shelton\, WA\, 98584\, United States
CATEGORIES:Staff
END:VEVENT
BEGIN:VEVENT
DTSTART;TZID=America/Los_Angeles:20301001T100000
DTEND;TZID=America/Los_Angeles:20301001T110000
DTSTAMP:20260425T064227
CREATED:20260424T161730Z
LAST-MODIFIED:20260424T161730Z
UID:10006822-1917079200-1917082800@lakelimerick.com
SUMMARY:General Manager (Meeting)
DESCRIPTION:
URL:https://lakelimerick.com/event/general-manager-meeting-2/2030-10-01/
LOCATION:The Crows Nest\, 790 E Saint Andrews Drive\, Shelton\, WA\, 98584\, United States
CATEGORIES:Staff
END:VEVENT
BEGIN:VEVENT
DTSTART;TZID=America/Los_Angeles:20301001T120000
DTEND;TZID=America/Los_Angeles:20301001T130000
DTSTAMP:20260425T064227
CREATED:20260424T201707Z
LAST-MODIFIED:20260424T201707Z
UID:10007746-1917086400-1917090000@lakelimerick.com
SUMMARY:Office Meeting
DESCRIPTION:
URL:https://lakelimerick.com/event/office-meeting-2/2030-10-01/
LOCATION:The Crows Nest\, 790 E Saint Andrews Drive\, Shelton\, WA\, 98584\, United States
CATEGORIES:Staff
END:VEVENT
BEGIN:VEVENT
DTSTART;TZID=America/Los_Angeles:20301001T133000
DTEND;TZID=America/Los_Angeles:20301001T153000
DTSTAMP:20260425T064227
CREATED:20250730T213312Z
LAST-MODIFIED:20250803T083113Z
UID:10004544-1917091800-1917099000@lakelimerick.com
SUMMARY:Greens Committee Meeting
DESCRIPTION:
URL:https://lakelimerick.com/event/greens-committee-meeting/2030-10-01/
LOCATION:LLCC Pro Shop\, 811 E Saint Andrews Drive\, Shelton\, WA\, 98584\, United States
CATEGORIES:Committee Meetings
END:VEVENT
BEGIN:VEVENT
DTSTART;TZID=America/Los_Angeles:20301002T083000
DTEND;TZID=America/Los_Angeles:20301002T093000
DTSTAMP:20260425T064227
CREATED:20251109T165614Z
LAST-MODIFIED:20251109T165615Z
UID:10003628-1917160200-1917163800@lakelimerick.com
SUMMARY:Exercise Group
DESCRIPTION:Join the exercise group at 8:30 am on Monday\, Wednesday and Friday. \nNo charge\nJust bring your own mat and hand weights. \n \n\nThe Lake Limerick Exercise Class is for men and women.  It is held in the Great Hall of the Lake Limerick Inn.\nThe class duration is one hour\, starting at 8:30 am on Mondays\, Wednesdays\, and Fridays (excluding holidays).  Participants are encouraged to arrive at 8:15 to set up.  You are not required to make it to all classes – join when you can.\nThe class is an audio exercise routine and can be adapted for every level.  The class is not led by a trained fitness professional.  This class is for the community members who wish to improve and maintain their level of fitness and have a little fun at the same time.\nParticipants are encouraged to modify exercise routines according to ability and fitness capabilities.\nExercise equipment is not furnished.  Weights\, a mat\, a bench step are recommended.  Bring your own and take it with you when done.\nChairs are available for participants who do not have the ability to participate in the floor routines.\nContact class coordinator\, Robyn LaRoche with any questions or concerns.
URL:https://lakelimerick.com/event/exercise-group-2-2/2030-10-02/
LOCATION:The Great Hall\, 790 E St Andrews Drive\, Shelton\, WA\, 98584\, United States
CATEGORIES:Community Events
ORGANIZER;CN="Robyn LaRoche":MAILTO:rllaroche@yahoo.com
END:VEVENT
BEGIN:VEVENT
DTSTART;TZID=America/Los_Angeles:20301002T143000
DTEND;TZID=America/Los_Angeles:20301002T163000
DTSTAMP:20260425T064227
CREATED:20250730T214820Z
LAST-MODIFIED:20250730T214820Z
UID:10006050-1917181800-1917189000@lakelimerick.com
SUMMARY:Inn Committee
DESCRIPTION:Time:  2:30pm-4:30pm \nLocation:  Crow’s Nest
URL:https://lakelimerick.com/event/inn-committee/2030-10-02/
LOCATION:The Crows Nest\, 790 E Saint Andrews Drive\, Shelton\, WA\, 98584\, United States
CATEGORIES:Committee Meetings
END:VEVENT
BEGIN:VEVENT
DTSTART;TZID=America/Los_Angeles:20301002T143000
DTEND;TZID=America/Los_Angeles:20301002T163000
DTSTAMP:20260425T064227
CREATED:20260330T160430Z
LAST-MODIFIED:20260330T160430Z
UID:10006310-1917181800-1917189000@lakelimerick.com
SUMMARY:Inn Committee Meeting
DESCRIPTION:Meets the first Wednesday of each month. \nTime:  2:30pm – 4:30pm \nGreat Hall
URL:https://lakelimerick.com/event/inn-committee-meeting/2030-10-02/
LOCATION:The Great Hall\, 790 E St Andrews Drive\, Shelton\, WA\, 98584\, United States
CATEGORIES:Committee Meetings
END:VEVENT
BEGIN:VEVENT
DTSTART;TZID=America/Los_Angeles:20301002T180000
DTEND;TZID=America/Los_Angeles:20301002T210000
DTSTAMP:20260425T064227
CREATED:20260416T162607Z
LAST-MODIFIED:20260416T162956Z
UID:10006330-1917194400-1917205200@lakelimerick.com
SUMMARY:Community Studio Time
DESCRIPTION:Bring a portable Art/Craft project.\nConnect with like-minded creatives and enjoy\nfood and beverage from The Inn Restaurant/Blarney Room. \nEvery Wednesday \nThe Great Hall \n6 pm – 9 pm \n  \n 
URL:https://lakelimerick.com/event/community-studio-time-2-2-2-2/2030-10-02/
LOCATION:The Great Hall\, 790 E St Andrews Drive\, Shelton\, WA\, 98584\, United States
CATEGORIES:Community Events
END:VEVENT
BEGIN:VEVENT
DTSTART;TZID=America/Los_Angeles:20301003T113000
DTEND;TZID=America/Los_Angeles:20301003T130000
DTSTAMP:20260425T064227
CREATED:20260112T201546Z
LAST-MODIFIED:20260112T201546Z
UID:10005192-1917257400-1917262800@lakelimerick.com
SUMMARY:Park Strategic Planning Sub-Team
DESCRIPTION:
URL:https://lakelimerick.com/event/park-strategic-planning-sub-team/2030-10-03/
LOCATION:The Crows Nest\, 790 E Saint Andrews Drive\, Shelton\, WA\, 98584\, United States
CATEGORIES:Committee Meetings
END:VEVENT
BEGIN:VEVENT
DTSTART;TZID=America/Los_Angeles:20301003T153000
DTEND;TZID=America/Los_Angeles:20301003T163000
DTSTAMP:20260425T064227
CREATED:20260424T172735Z
LAST-MODIFIED:20260424T172735Z
UID:10006933-1917271800-1917275400@lakelimerick.com
SUMMARY:Special Board Meeting
DESCRIPTION:2026 Special Board Meetings Agenda \nThis meeting takes place on the second Thursday of each month at 3:30 PM in the Crow’s Nest. \nMeeting ID: 820 7716 5853\nPasscode: 438634\n 
URL:https://lakelimerick.com/event/executive-committee-meeting-2-4/2030-10-03/
LOCATION:Virtual and Crow’s Nest\, 790 East Saint Andrews\, Shelton\, WA\, 98584\, United States
CATEGORIES:BoD Meetings
END:VEVENT
BEGIN:VEVENT
DTSTART;TZID=America/Los_Angeles:20301003T180000
DTEND;TZID=America/Los_Angeles:20301003T190000
DTSTAMP:20260425T064227
CREATED:20250730T214241Z
LAST-MODIFIED:20260129T202438Z
UID:10005712-1917280800-1917284400@lakelimerick.com
SUMMARY:Greenbelts & Trails Committee
DESCRIPTION:Meets 1st Thursday of each month at 6:00pm in the Crow’s Nest (Inn Upstairs) \nOur focus is to work on being more intentional with the appearance\, use\, & upkeep of our greenbelt areas and entranceways. Work to mitigate safety concerns.  Provide opportunities to volunteer on the committee\, and or\, in helping adopt various areas for upkeep and neighborhood watch as plans progress.
URL:https://lakelimerick.com/event/greenbelts-trees-trails-committee/2030-10-03/
LOCATION:The Crows Nest\, 790 E Saint Andrews Drive\, Shelton\, WA\, 98584\, United States
CATEGORIES:Committee Meetings
END:VEVENT
BEGIN:VEVENT
DTSTART;TZID=America/Los_Angeles:20301004T083000
DTEND;TZID=America/Los_Angeles:20301004T093000
DTSTAMP:20260425T064227
CREATED:20251109T165614Z
LAST-MODIFIED:20251109T165615Z
UID:10003629-1917333000-1917336600@lakelimerick.com
SUMMARY:Exercise Group
DESCRIPTION:Join the exercise group at 8:30 am on Monday\, Wednesday and Friday. \nNo charge\nJust bring your own mat and hand weights. \n \n\nThe Lake Limerick Exercise Class is for men and women.  It is held in the Great Hall of the Lake Limerick Inn.\nThe class duration is one hour\, starting at 8:30 am on Mondays\, Wednesdays\, and Fridays (excluding holidays).  Participants are encouraged to arrive at 8:15 to set up.  You are not required to make it to all classes – join when you can.\nThe class is an audio exercise routine and can be adapted for every level.  The class is not led by a trained fitness professional.  This class is for the community members who wish to improve and maintain their level of fitness and have a little fun at the same time.\nParticipants are encouraged to modify exercise routines according to ability and fitness capabilities.\nExercise equipment is not furnished.  Weights\, a mat\, a bench step are recommended.  Bring your own and take it with you when done.\nChairs are available for participants who do not have the ability to participate in the floor routines.\nContact class coordinator\, Robyn LaRoche with any questions or concerns.
URL:https://lakelimerick.com/event/exercise-group-2-2/2030-10-04/
LOCATION:The Great Hall\, 790 E St Andrews Drive\, Shelton\, WA\, 98584\, United States
CATEGORIES:Community Events
ORGANIZER;CN="Robyn LaRoche":MAILTO:rllaroche@yahoo.com
END:VEVENT
BEGIN:VEVENT
DTSTART;TZID=America/Los_Angeles:20301004T090000
DTEND;TZID=America/Los_Angeles:20301004T100000
DTSTAMP:20260425T064227
CREATED:20260424T201354Z
LAST-MODIFIED:20260424T201354Z
UID:10007457-1917334800-1917338400@lakelimerick.com
SUMMARY:Office Meeting
DESCRIPTION:
URL:https://lakelimerick.com/event/office-meeting/2030-10-04/
LOCATION:The Crows Nest\, 790 E Saint Andrews Drive\, Shelton\, WA\, 98584\, United States
CATEGORIES:Staff
END:VEVENT
BEGIN:VEVENT
DTSTART;TZID=America/Los_Angeles:20301004T100000
DTEND;TZID=America/Los_Angeles:20301004T110000
DTSTAMP:20260425T064227
CREATED:20260424T161730Z
LAST-MODIFIED:20260424T161730Z
UID:10006823-1917338400-1917342000@lakelimerick.com
SUMMARY:General Manager (Meeting)
DESCRIPTION:
URL:https://lakelimerick.com/event/general-manager-meeting-2/2030-10-04/
LOCATION:The Crows Nest\, 790 E Saint Andrews Drive\, Shelton\, WA\, 98584\, United States
CATEGORIES:Staff
END:VEVENT
BEGIN:VEVENT
DTSTART;TZID=America/Los_Angeles:20301005T093000
DTEND;TZID=America/Los_Angeles:20301005T130000
DTSTAMP:20260425T064227
CREATED:20250730T211155Z
LAST-MODIFIED:20251025T003719Z
UID:10003496-1917423000-1917435600@lakelimerick.com
SUMMARY:Lakes\, Dams\, & Parks Meeting
DESCRIPTION:
URL:https://lakelimerick.com/event/lakes-dams-parks-meeting/2030-10-05/
LOCATION:The Crows Nest\, 790 E Saint Andrews Drive\, Shelton\, WA\, 98584\, United States
CATEGORIES:Committee Meetings
END:VEVENT
BEGIN:VEVENT
DTSTART;TZID=America/Los_Angeles:20301007T083000
DTEND;TZID=America/Los_Angeles:20301007T093000
DTSTAMP:20260425T064227
CREATED:20251109T165614Z
LAST-MODIFIED:20251109T165615Z
UID:10003630-1917592200-1917595800@lakelimerick.com
SUMMARY:Exercise Group
DESCRIPTION:Join the exercise group at 8:30 am on Monday\, Wednesday and Friday. \nNo charge\nJust bring your own mat and hand weights. \n \n\nThe Lake Limerick Exercise Class is for men and women.  It is held in the Great Hall of the Lake Limerick Inn.\nThe class duration is one hour\, starting at 8:30 am on Mondays\, Wednesdays\, and Fridays (excluding holidays).  Participants are encouraged to arrive at 8:15 to set up.  You are not required to make it to all classes – join when you can.\nThe class is an audio exercise routine and can be adapted for every level.  The class is not led by a trained fitness professional.  This class is for the community members who wish to improve and maintain their level of fitness and have a little fun at the same time.\nParticipants are encouraged to modify exercise routines according to ability and fitness capabilities.\nExercise equipment is not furnished.  Weights\, a mat\, a bench step are recommended.  Bring your own and take it with you when done.\nChairs are available for participants who do not have the ability to participate in the floor routines.\nContact class coordinator\, Robyn LaRoche with any questions or concerns.
URL:https://lakelimerick.com/event/exercise-group-2-2/2030-10-07/
LOCATION:The Great Hall\, 790 E St Andrews Drive\, Shelton\, WA\, 98584\, United States
CATEGORIES:Community Events
ORGANIZER;CN="Robyn LaRoche":MAILTO:rllaroche@yahoo.com
END:VEVENT
BEGIN:VEVENT
DTSTART;TZID=America/Los_Angeles:20301007T090000
DTEND;TZID=America/Los_Angeles:20301007T130000
DTSTAMP:20260425T064227
CREATED:20260123T172931Z
LAST-MODIFIED:20260123T174201Z
UID:10005695-1917594000-1917608400@lakelimerick.com
SUMMARY:Water Committee
DESCRIPTION:  \nWater Committee Meeting Agenda \n \n9 am – 1 pm\nLocation: The Blarney Room or Zoom \nZoom Link Below \nMeeting ID: 882 7511 6055 \nPasscode: 822423
URL:https://lakelimerick.com/event/water-committee-2/2030-10-07/
LOCATION:The Blarney Room (Lounge)\, 790 E Saint Andrews Drive\, Shelton\, WA\, 98584\, United States
CATEGORIES:Committee Meetings
END:VEVENT
BEGIN:VEVENT
DTSTART;TZID=America/Los_Angeles:20301008T090000
DTEND;TZID=America/Los_Angeles:20301008T100000
DTSTAMP:20260425T064227
CREATED:20260424T201354Z
LAST-MODIFIED:20260424T201354Z
UID:10007458-1917680400-1917684000@lakelimerick.com
SUMMARY:Office Meeting
DESCRIPTION:
URL:https://lakelimerick.com/event/office-meeting/2030-10-08/
LOCATION:The Crows Nest\, 790 E Saint Andrews Drive\, Shelton\, WA\, 98584\, United States
CATEGORIES:Staff
END:VEVENT
BEGIN:VEVENT
DTSTART;TZID=America/Los_Angeles:20301008T100000
DTEND;TZID=America/Los_Angeles:20301008T110000
DTSTAMP:20260425T064227
CREATED:20260424T161730Z
LAST-MODIFIED:20260424T161730Z
UID:10006824-1917684000-1917687600@lakelimerick.com
SUMMARY:General Manager (Meeting)
DESCRIPTION:
URL:https://lakelimerick.com/event/general-manager-meeting-2/2030-10-08/
LOCATION:The Crows Nest\, 790 E Saint Andrews Drive\, Shelton\, WA\, 98584\, United States
CATEGORIES:Staff
END:VEVENT
END:VCALENDAR