BEGIN:VCALENDAR
VERSION:2.0
PRODID:-//Lake Limerick Country Club - ECPv6.15.20//NONSGML v1.0//EN
CALSCALE:GREGORIAN
METHOD:PUBLISH
X-ORIGINAL-URL:https://lakelimerick.com
X-WR-CALDESC:Events for Lake Limerick Country Club
REFRESH-INTERVAL;VALUE=DURATION:PT1H
X-Robots-Tag:noindex
X-PUBLISHED-TTL:PT1H
BEGIN:VTIMEZONE
TZID:America/Los_Angeles
BEGIN:DAYLIGHT
TZOFFSETFROM:-0800
TZOFFSETTO:-0700
TZNAME:PDT
DTSTART:20290311T100000
END:DAYLIGHT
BEGIN:STANDARD
TZOFFSETFROM:-0700
TZOFFSETTO:-0800
TZNAME:PST
DTSTART:20291104T090000
END:STANDARD
BEGIN:DAYLIGHT
TZOFFSETFROM:-0800
TZOFFSETTO:-0700
TZNAME:PDT
DTSTART:20300310T100000
END:DAYLIGHT
BEGIN:STANDARD
TZOFFSETFROM:-0700
TZOFFSETTO:-0800
TZNAME:PST
DTSTART:20301103T090000
END:STANDARD
BEGIN:DAYLIGHT
TZOFFSETFROM:-0800
TZOFFSETTO:-0700
TZNAME:PDT
DTSTART:20310309T100000
END:DAYLIGHT
BEGIN:STANDARD
TZOFFSETFROM:-0700
TZOFFSETTO:-0800
TZNAME:PST
DTSTART:20311102T090000
END:STANDARD
END:VTIMEZONE
BEGIN:VEVENT
DTSTART;TZID=America/Los_Angeles:20300612T083000
DTEND;TZID=America/Los_Angeles:20300612T093000
DTSTAMP:20260425T050509
CREATED:20251109T165614Z
LAST-MODIFIED:20251109T165615Z
UID:10001026-1907483400-1907487000@lakelimerick.com
SUMMARY:Exercise Group
DESCRIPTION:Join the exercise group at 8:30 am on Monday\, Wednesday and Friday. \nNo charge\nJust bring your own mat and hand weights. \n \n\nThe Lake Limerick Exercise Class is for men and women.  It is held in the Great Hall of the Lake Limerick Inn.\nThe class duration is one hour\, starting at 8:30 am on Mondays\, Wednesdays\, and Fridays (excluding holidays).  Participants are encouraged to arrive at 8:15 to set up.  You are not required to make it to all classes – join when you can.\nThe class is an audio exercise routine and can be adapted for every level.  The class is not led by a trained fitness professional.  This class is for the community members who wish to improve and maintain their level of fitness and have a little fun at the same time.\nParticipants are encouraged to modify exercise routines according to ability and fitness capabilities.\nExercise equipment is not furnished.  Weights\, a mat\, a bench step are recommended.  Bring your own and take it with you when done.\nChairs are available for participants who do not have the ability to participate in the floor routines.\nContact class coordinator\, Robyn LaRoche with any questions or concerns.
URL:https://lakelimerick.com/event/exercise-group-2-2/2030-06-12/
LOCATION:The Great Hall\, 790 E St Andrews Drive\, Shelton\, WA\, 98584\, United States
CATEGORIES:Community Events
ORGANIZER;CN="Robyn LaRoche":MAILTO:rllaroche@yahoo.com
END:VEVENT
BEGIN:VEVENT
DTSTART;TZID=America/Los_Angeles:20300612T153000
DTEND;TZID=America/Los_Angeles:20300612T163000
DTSTAMP:20260425T050509
CREATED:20260218T175358Z
LAST-MODIFIED:20260218T175358Z
UID:10005913-1907508600-1907512200@lakelimerick.com
SUMMARY:Committee Chair Meeting
DESCRIPTION:
URL:https://lakelimerick.com/event/committee-chair-meeting/2030-06-12/
LOCATION:The Crows Nest\, 790 E Saint Andrews Drive\, Shelton\, WA\, 98584\, United States
CATEGORIES:Committee Meetings
END:VEVENT
BEGIN:VEVENT
DTSTART;TZID=America/Los_Angeles:20300612T180000
DTEND;TZID=America/Los_Angeles:20300612T210000
DTSTAMP:20260425T050509
CREATED:20260416T162607Z
LAST-MODIFIED:20260416T162956Z
UID:10000258-1907517600-1907528400@lakelimerick.com
SUMMARY:Community Studio Time
DESCRIPTION:Bring a portable Art/Craft project.\nConnect with like-minded creatives and enjoy\nfood and beverage from The Inn Restaurant/Blarney Room. \nEvery Wednesday \nThe Great Hall \n6 pm – 9 pm \n  \n 
URL:https://lakelimerick.com/event/community-studio-time-2-2-2-2/2030-06-12/
LOCATION:The Great Hall\, 790 E St Andrews Drive\, Shelton\, WA\, 98584\, United States
CATEGORIES:Community Events
END:VEVENT
BEGIN:VEVENT
DTSTART;TZID=America/Los_Angeles:20300613T113000
DTEND;TZID=America/Los_Angeles:20300613T130000
DTSTAMP:20260425T050509
CREATED:20260112T201546Z
LAST-MODIFIED:20260112T201546Z
UID:10005184-1907580600-1907586000@lakelimerick.com
SUMMARY:Park Strategic Planning Sub-Team
DESCRIPTION:
URL:https://lakelimerick.com/event/park-strategic-planning-sub-team/2030-06-13/
LOCATION:The Crows Nest\, 790 E Saint Andrews Drive\, Shelton\, WA\, 98584\, United States
CATEGORIES:Committee Meetings
END:VEVENT
BEGIN:VEVENT
DTSTART;TZID=America/Los_Angeles:20300613T153000
DTEND;TZID=America/Los_Angeles:20300613T163000
DTSTAMP:20260425T050509
CREATED:20260212T230226Z
LAST-MODIFIED:20260424T173130Z
UID:10006982-1907595000-1907598600@lakelimerick.com
SUMMARY:Special Board Meeting (Hybrid)
DESCRIPTION:2026 Special Board Meetings Agenda \nThis meeting takes place on the second Thursday of each month at 3:30 PM in the Crow’s Nest. \nZOOM Link\nMeeting ID: 820 7716 5853\nPasscode: 438634
URL:https://lakelimerick.com/event/executive-committee-meeting-2/2030-06-13/
LOCATION:Virtual and Crow’s Nest\, 790 East Saint Andrews\, Shelton\, WA\, 98584\, United States
CATEGORIES:BoD Meetings
END:VEVENT
BEGIN:VEVENT
DTSTART;TZID=America/Los_Angeles:20300614T083000
DTEND;TZID=America/Los_Angeles:20300614T093000
DTSTAMP:20260425T050509
CREATED:20251109T165614Z
LAST-MODIFIED:20251109T165615Z
UID:10001027-1907656200-1907659800@lakelimerick.com
SUMMARY:Exercise Group
DESCRIPTION:Join the exercise group at 8:30 am on Monday\, Wednesday and Friday. \nNo charge\nJust bring your own mat and hand weights. \n \n\nThe Lake Limerick Exercise Class is for men and women.  It is held in the Great Hall of the Lake Limerick Inn.\nThe class duration is one hour\, starting at 8:30 am on Mondays\, Wednesdays\, and Fridays (excluding holidays).  Participants are encouraged to arrive at 8:15 to set up.  You are not required to make it to all classes – join when you can.\nThe class is an audio exercise routine and can be adapted for every level.  The class is not led by a trained fitness professional.  This class is for the community members who wish to improve and maintain their level of fitness and have a little fun at the same time.\nParticipants are encouraged to modify exercise routines according to ability and fitness capabilities.\nExercise equipment is not furnished.  Weights\, a mat\, a bench step are recommended.  Bring your own and take it with you when done.\nChairs are available for participants who do not have the ability to participate in the floor routines.\nContact class coordinator\, Robyn LaRoche with any questions or concerns.
URL:https://lakelimerick.com/event/exercise-group-2-2/2030-06-14/
LOCATION:The Great Hall\, 790 E St Andrews Drive\, Shelton\, WA\, 98584\, United States
CATEGORIES:Community Events
ORGANIZER;CN="Robyn LaRoche":MAILTO:rllaroche@yahoo.com
END:VEVENT
BEGIN:VEVENT
DTSTART;TZID=America/Los_Angeles:20300614T090000
DTEND;TZID=America/Los_Angeles:20300614T100000
DTSTAMP:20260425T050509
CREATED:20260424T201354Z
LAST-MODIFIED:20260424T201354Z
UID:10007425-1907658000-1907661600@lakelimerick.com
SUMMARY:Office Meeting
DESCRIPTION:
URL:https://lakelimerick.com/event/office-meeting/2030-06-14/
LOCATION:The Crows Nest\, 790 E Saint Andrews Drive\, Shelton\, WA\, 98584\, United States
CATEGORIES:Staff
END:VEVENT
BEGIN:VEVENT
DTSTART;TZID=America/Los_Angeles:20300614T100000
DTEND;TZID=America/Los_Angeles:20300614T110000
DTSTAMP:20260425T050509
CREATED:20260424T161730Z
LAST-MODIFIED:20260424T161730Z
UID:10006791-1907661600-1907665200@lakelimerick.com
SUMMARY:General Manager (Meeting)
DESCRIPTION:
URL:https://lakelimerick.com/event/general-manager-meeting-2/2030-06-14/
LOCATION:The Crows Nest\, 790 E Saint Andrews Drive\, Shelton\, WA\, 98584\, United States
CATEGORIES:Staff
END:VEVENT
BEGIN:VEVENT
DTSTART;TZID=America/Los_Angeles:20300614T153000
DTEND;TZID=America/Los_Angeles:20300614T170000
DTSTAMP:20260425T050509
CREATED:20251204T194744Z
LAST-MODIFIED:20251204T194813Z
UID:10003783-1907681400-1907686800@lakelimerick.com
SUMMARY:Architectural Committee
DESCRIPTION:\
URL:https://lakelimerick.com/event/architecture-committee-2-2/2030-06-14/
LOCATION:The Crows Nest\, 790 E Saint Andrews Drive\, Shelton\, WA\, 98584\, United States
CATEGORIES:Committee Meetings
ORGANIZER;CN="Architecture Committee":MAILTO:arch@lakelimerick.net
END:VEVENT
BEGIN:VEVENT
DTSTART;TZID=America/Los_Angeles:20300615T090000
DTEND;TZID=America/Los_Angeles:20300615T113000
DTSTAMP:20260425T050509
CREATED:20260416T031026Z
LAST-MODIFIED:20260416T031026Z
UID:10002684-1907744400-1907753400@lakelimerick.com
SUMMARY:Board of Director's Meeting (Hybrid)
DESCRIPTION:Board of Directors Meeting\nBoard Meeting Agenda \nTime:  9AM-12PM \nLocation:  The Great Hall \nZoom Link: Link  \nMeeting ID: 893 7542 8274 \n Passcode: 208260
URL:https://lakelimerick.com/event/2375-3-3/2030-06-15/
LOCATION:The Great Hall\, 790 E St Andrews Drive\, Shelton\, WA\, 98584\, United States
CATEGORIES:BoD Meetings
END:VEVENT
BEGIN:VEVENT
DTSTART;TZID=America/Los_Angeles:20300615T113000
DTEND;TZID=America/Los_Angeles:20300615T140000
DTSTAMP:20260425T050509
CREATED:20251202T015134Z
LAST-MODIFIED:20251202T015134Z
UID:10003720-1907753400-1907762400@lakelimerick.com
SUMMARY:Board Meeting (Closed Session)
DESCRIPTION:
URL:https://lakelimerick.com/event/board-meeting-closed-session-2/2030-06-15/
LOCATION:Great Hall & Crow’s Nest\, 790 E Saint Andrews Drive\, Shelton\, WA\, 98584\, United States
CATEGORIES:BoD Meetings
END:VEVENT
BEGIN:VEVENT
DTSTART;TZID=America/Los_Angeles:20300616T173000
DTEND;TZID=America/Los_Angeles:20300616T190000
DTSTAMP:20260425T050509
CREATED:20251010T073645Z
LAST-MODIFIED:20251010T073646Z
UID:10002901-1907861400-1907866800@lakelimerick.com
SUMMARY:Trivia Night
DESCRIPTION:In the Restaurant and Lounge!\nA reminder\, participants must be accompanied by a Lake Limerick Member. \n  \n 
URL:https://lakelimerick.com/event/trivia-night-3/2030-06-16/
LOCATION:Inn Restaurant and Blarney Room\, 790 E Saint Andrews Drive\, Shelton\, WA\, 98584\, United States
CATEGORIES:Community Events
ATTACH;FMTTYPE=image/jpeg:https://lakelimerick.com/wp-content/uploads/2025/07/istockphoto-1303554344-612x612-1.jpg
END:VEVENT
BEGIN:VEVENT
DTSTART;TZID=America/Los_Angeles:20300617T083000
DTEND;TZID=America/Los_Angeles:20300617T093000
DTSTAMP:20260425T050509
CREATED:20251109T165614Z
LAST-MODIFIED:20251109T165615Z
UID:10001028-1907915400-1907919000@lakelimerick.com
SUMMARY:Exercise Group
DESCRIPTION:Join the exercise group at 8:30 am on Monday\, Wednesday and Friday. \nNo charge\nJust bring your own mat and hand weights. \n \n\nThe Lake Limerick Exercise Class is for men and women.  It is held in the Great Hall of the Lake Limerick Inn.\nThe class duration is one hour\, starting at 8:30 am on Mondays\, Wednesdays\, and Fridays (excluding holidays).  Participants are encouraged to arrive at 8:15 to set up.  You are not required to make it to all classes – join when you can.\nThe class is an audio exercise routine and can be adapted for every level.  The class is not led by a trained fitness professional.  This class is for the community members who wish to improve and maintain their level of fitness and have a little fun at the same time.\nParticipants are encouraged to modify exercise routines according to ability and fitness capabilities.\nExercise equipment is not furnished.  Weights\, a mat\, a bench step are recommended.  Bring your own and take it with you when done.\nChairs are available for participants who do not have the ability to participate in the floor routines.\nContact class coordinator\, Robyn LaRoche with any questions or concerns.
URL:https://lakelimerick.com/event/exercise-group-2-2/2030-06-17/
LOCATION:The Great Hall\, 790 E St Andrews Drive\, Shelton\, WA\, 98584\, United States
CATEGORIES:Community Events
ORGANIZER;CN="Robyn LaRoche":MAILTO:rllaroche@yahoo.com
END:VEVENT
BEGIN:VEVENT
DTSTART;TZID=America/Los_Angeles:20300618T090000
DTEND;TZID=America/Los_Angeles:20300618T100000
DTSTAMP:20260425T050509
CREATED:20260424T201354Z
LAST-MODIFIED:20260424T201354Z
UID:10007426-1908003600-1908007200@lakelimerick.com
SUMMARY:Office Meeting
DESCRIPTION:
URL:https://lakelimerick.com/event/office-meeting/2030-06-18/
LOCATION:The Crows Nest\, 790 E Saint Andrews Drive\, Shelton\, WA\, 98584\, United States
CATEGORIES:Staff
END:VEVENT
BEGIN:VEVENT
DTSTART;TZID=America/Los_Angeles:20300618T100000
DTEND;TZID=America/Los_Angeles:20300618T110000
DTSTAMP:20260425T050509
CREATED:20260424T161730Z
LAST-MODIFIED:20260424T161730Z
UID:10006792-1908007200-1908010800@lakelimerick.com
SUMMARY:General Manager (Meeting)
DESCRIPTION:
URL:https://lakelimerick.com/event/general-manager-meeting-2/2030-06-18/
LOCATION:The Crows Nest\, 790 E Saint Andrews Drive\, Shelton\, WA\, 98584\, United States
CATEGORIES:Staff
END:VEVENT
BEGIN:VEVENT
DTSTART;TZID=America/Los_Angeles:20300618T120000
DTEND;TZID=America/Los_Angeles:20300618T130000
DTSTAMP:20260425T050509
CREATED:20260424T201707Z
LAST-MODIFIED:20260424T201707Z
UID:10007731-1908014400-1908018000@lakelimerick.com
SUMMARY:Office Meeting
DESCRIPTION:
URL:https://lakelimerick.com/event/office-meeting-2/2030-06-18/
LOCATION:The Crows Nest\, 790 E Saint Andrews Drive\, Shelton\, WA\, 98584\, United States
CATEGORIES:Staff
END:VEVENT
BEGIN:VEVENT
DTSTART;TZID=America/Los_Angeles:20300619T083000
DTEND;TZID=America/Los_Angeles:20300619T093000
DTSTAMP:20260425T050509
CREATED:20251109T165614Z
LAST-MODIFIED:20251109T165615Z
UID:10001029-1908088200-1908091800@lakelimerick.com
SUMMARY:Exercise Group
DESCRIPTION:Join the exercise group at 8:30 am on Monday\, Wednesday and Friday. \nNo charge\nJust bring your own mat and hand weights. \n \n\nThe Lake Limerick Exercise Class is for men and women.  It is held in the Great Hall of the Lake Limerick Inn.\nThe class duration is one hour\, starting at 8:30 am on Mondays\, Wednesdays\, and Fridays (excluding holidays).  Participants are encouraged to arrive at 8:15 to set up.  You are not required to make it to all classes – join when you can.\nThe class is an audio exercise routine and can be adapted for every level.  The class is not led by a trained fitness professional.  This class is for the community members who wish to improve and maintain their level of fitness and have a little fun at the same time.\nParticipants are encouraged to modify exercise routines according to ability and fitness capabilities.\nExercise equipment is not furnished.  Weights\, a mat\, a bench step are recommended.  Bring your own and take it with you when done.\nChairs are available for participants who do not have the ability to participate in the floor routines.\nContact class coordinator\, Robyn LaRoche with any questions or concerns.
URL:https://lakelimerick.com/event/exercise-group-2-2/2030-06-19/
LOCATION:The Great Hall\, 790 E St Andrews Drive\, Shelton\, WA\, 98584\, United States
CATEGORIES:Community Events
ORGANIZER;CN="Robyn LaRoche":MAILTO:rllaroche@yahoo.com
END:VEVENT
BEGIN:VEVENT
DTSTART;TZID=America/Los_Angeles:20300619T180000
DTEND;TZID=America/Los_Angeles:20300619T210000
DTSTAMP:20260425T050509
CREATED:20260416T162607Z
LAST-MODIFIED:20260416T162956Z
UID:10000259-1908122400-1908133200@lakelimerick.com
SUMMARY:Community Studio Time
DESCRIPTION:Bring a portable Art/Craft project.\nConnect with like-minded creatives and enjoy\nfood and beverage from The Inn Restaurant/Blarney Room. \nEvery Wednesday \nThe Great Hall \n6 pm – 9 pm \n  \n 
URL:https://lakelimerick.com/event/community-studio-time-2-2-2-2/2030-06-19/
LOCATION:The Great Hall\, 790 E St Andrews Drive\, Shelton\, WA\, 98584\, United States
CATEGORIES:Community Events
END:VEVENT
BEGIN:VEVENT
DTSTART;TZID=America/Los_Angeles:20300620T183000
DTEND;TZID=America/Los_Angeles:20300620T200000
DTSTAMP:20260425T050509
CREATED:20250731T174944Z
LAST-MODIFIED:20250807T190117Z
UID:10001974-1908210600-1908216000@lakelimerick.com
SUMMARY:Bingo
DESCRIPTION:Free Bingo\nEvery 3rd Thursday \nIn the Restaurant and Lounge \nand on the Patio \nFamily Fun for Everyone!
URL:https://lakelimerick.com/event/bingo/2030-06-20/
LOCATION:Inn Restaurant and Blarney Room\, 790 E Saint Andrews Drive\, Shelton\, WA\, 98584\, United States
CATEGORIES:Community Events
ATTACH;FMTTYPE=image/jpeg:https://lakelimerick.com/wp-content/uploads/2025/07/NEW-BINGO.jpg
END:VEVENT
BEGIN:VEVENT
DTSTART;VALUE=DATE:20300621
DTEND;VALUE=DATE:20300622
DTSTAMP:20260425T050509
CREATED:20251027T191957Z
LAST-MODIFIED:20251027T191957Z
UID:10003553-1908230400-1908316799@lakelimerick.com
SUMMARY:BOD Meeting Set Up
DESCRIPTION:No events available today due to monthly BOD meeting equipment set up.
URL:https://lakelimerick.com/event/bod-meeting-set-up/2030-06-21/
LOCATION:WA
CATEGORIES:Staff
END:VEVENT
BEGIN:VEVENT
DTSTART;TZID=America/Los_Angeles:20300621T083000
DTEND;TZID=America/Los_Angeles:20300621T093000
DTSTAMP:20260425T050509
CREATED:20251109T165614Z
LAST-MODIFIED:20251109T165615Z
UID:10001030-1908261000-1908264600@lakelimerick.com
SUMMARY:Exercise Group
DESCRIPTION:Join the exercise group at 8:30 am on Monday\, Wednesday and Friday. \nNo charge\nJust bring your own mat and hand weights. \n \n\nThe Lake Limerick Exercise Class is for men and women.  It is held in the Great Hall of the Lake Limerick Inn.\nThe class duration is one hour\, starting at 8:30 am on Mondays\, Wednesdays\, and Fridays (excluding holidays).  Participants are encouraged to arrive at 8:15 to set up.  You are not required to make it to all classes – join when you can.\nThe class is an audio exercise routine and can be adapted for every level.  The class is not led by a trained fitness professional.  This class is for the community members who wish to improve and maintain their level of fitness and have a little fun at the same time.\nParticipants are encouraged to modify exercise routines according to ability and fitness capabilities.\nExercise equipment is not furnished.  Weights\, a mat\, a bench step are recommended.  Bring your own and take it with you when done.\nChairs are available for participants who do not have the ability to participate in the floor routines.\nContact class coordinator\, Robyn LaRoche with any questions or concerns.
URL:https://lakelimerick.com/event/exercise-group-2-2/2030-06-21/
LOCATION:The Great Hall\, 790 E St Andrews Drive\, Shelton\, WA\, 98584\, United States
CATEGORIES:Community Events
ORGANIZER;CN="Robyn LaRoche":MAILTO:rllaroche@yahoo.com
END:VEVENT
BEGIN:VEVENT
DTSTART;TZID=America/Los_Angeles:20300621T090000
DTEND;TZID=America/Los_Angeles:20300621T100000
DTSTAMP:20260425T050509
CREATED:20260424T201354Z
LAST-MODIFIED:20260424T201354Z
UID:10007427-1908262800-1908266400@lakelimerick.com
SUMMARY:Office Meeting
DESCRIPTION:
URL:https://lakelimerick.com/event/office-meeting/2030-06-21/
LOCATION:The Crows Nest\, 790 E Saint Andrews Drive\, Shelton\, WA\, 98584\, United States
CATEGORIES:Staff
END:VEVENT
BEGIN:VEVENT
DTSTART;TZID=America/Los_Angeles:20300621T100000
DTEND;TZID=America/Los_Angeles:20300621T110000
DTSTAMP:20260425T050509
CREATED:20260424T161730Z
LAST-MODIFIED:20260424T161730Z
UID:10006793-1908266400-1908270000@lakelimerick.com
SUMMARY:General Manager (Meeting)
DESCRIPTION:
URL:https://lakelimerick.com/event/general-manager-meeting-2/2030-06-21/
LOCATION:The Crows Nest\, 790 E Saint Andrews Drive\, Shelton\, WA\, 98584\, United States
CATEGORIES:Staff
END:VEVENT
BEGIN:VEVENT
DTSTART;TZID=America/Los_Angeles:20300624T083000
DTEND;TZID=America/Los_Angeles:20300624T093000
DTSTAMP:20260425T050509
CREATED:20251109T165614Z
LAST-MODIFIED:20251109T165615Z
UID:10001031-1908520200-1908523800@lakelimerick.com
SUMMARY:Exercise Group
DESCRIPTION:Join the exercise group at 8:30 am on Monday\, Wednesday and Friday. \nNo charge\nJust bring your own mat and hand weights. \n \n\nThe Lake Limerick Exercise Class is for men and women.  It is held in the Great Hall of the Lake Limerick Inn.\nThe class duration is one hour\, starting at 8:30 am on Mondays\, Wednesdays\, and Fridays (excluding holidays).  Participants are encouraged to arrive at 8:15 to set up.  You are not required to make it to all classes – join when you can.\nThe class is an audio exercise routine and can be adapted for every level.  The class is not led by a trained fitness professional.  This class is for the community members who wish to improve and maintain their level of fitness and have a little fun at the same time.\nParticipants are encouraged to modify exercise routines according to ability and fitness capabilities.\nExercise equipment is not furnished.  Weights\, a mat\, a bench step are recommended.  Bring your own and take it with you when done.\nChairs are available for participants who do not have the ability to participate in the floor routines.\nContact class coordinator\, Robyn LaRoche with any questions or concerns.
URL:https://lakelimerick.com/event/exercise-group-2-2/2030-06-24/
LOCATION:The Great Hall\, 790 E St Andrews Drive\, Shelton\, WA\, 98584\, United States
CATEGORIES:Community Events
ORGANIZER;CN="Robyn LaRoche":MAILTO:rllaroche@yahoo.com
END:VEVENT
BEGIN:VEVENT
DTSTART;TZID=America/Los_Angeles:20300625T090000
DTEND;TZID=America/Los_Angeles:20300625T100000
DTSTAMP:20260425T050509
CREATED:20260424T201354Z
LAST-MODIFIED:20260424T201354Z
UID:10007428-1908608400-1908612000@lakelimerick.com
SUMMARY:Office Meeting
DESCRIPTION:
URL:https://lakelimerick.com/event/office-meeting/2030-06-25/
LOCATION:The Crows Nest\, 790 E Saint Andrews Drive\, Shelton\, WA\, 98584\, United States
CATEGORIES:Staff
END:VEVENT
BEGIN:VEVENT
DTSTART;TZID=America/Los_Angeles:20300625T100000
DTEND;TZID=America/Los_Angeles:20300625T110000
DTSTAMP:20260425T050509
CREATED:20260424T161730Z
LAST-MODIFIED:20260424T161730Z
UID:10006794-1908612000-1908615600@lakelimerick.com
SUMMARY:General Manager (Meeting)
DESCRIPTION:
URL:https://lakelimerick.com/event/general-manager-meeting-2/2030-06-25/
LOCATION:The Crows Nest\, 790 E Saint Andrews Drive\, Shelton\, WA\, 98584\, United States
CATEGORIES:Staff
END:VEVENT
BEGIN:VEVENT
DTSTART;TZID=America/Los_Angeles:20300625T120000
DTEND;TZID=America/Los_Angeles:20300625T130000
DTSTAMP:20260425T050509
CREATED:20260424T201707Z
LAST-MODIFIED:20260424T201707Z
UID:10007732-1908619200-1908622800@lakelimerick.com
SUMMARY:Office Meeting
DESCRIPTION:
URL:https://lakelimerick.com/event/office-meeting-2/2030-06-25/
LOCATION:The Crows Nest\, 790 E Saint Andrews Drive\, Shelton\, WA\, 98584\, United States
CATEGORIES:Staff
END:VEVENT
BEGIN:VEVENT
DTSTART;TZID=America/Los_Angeles:20300626T083000
DTEND;TZID=America/Los_Angeles:20300626T093000
DTSTAMP:20260425T050509
CREATED:20251109T165614Z
LAST-MODIFIED:20251109T165615Z
UID:10001032-1908693000-1908696600@lakelimerick.com
SUMMARY:Exercise Group
DESCRIPTION:Join the exercise group at 8:30 am on Monday\, Wednesday and Friday. \nNo charge\nJust bring your own mat and hand weights. \n \n\nThe Lake Limerick Exercise Class is for men and women.  It is held in the Great Hall of the Lake Limerick Inn.\nThe class duration is one hour\, starting at 8:30 am on Mondays\, Wednesdays\, and Fridays (excluding holidays).  Participants are encouraged to arrive at 8:15 to set up.  You are not required to make it to all classes – join when you can.\nThe class is an audio exercise routine and can be adapted for every level.  The class is not led by a trained fitness professional.  This class is for the community members who wish to improve and maintain their level of fitness and have a little fun at the same time.\nParticipants are encouraged to modify exercise routines according to ability and fitness capabilities.\nExercise equipment is not furnished.  Weights\, a mat\, a bench step are recommended.  Bring your own and take it with you when done.\nChairs are available for participants who do not have the ability to participate in the floor routines.\nContact class coordinator\, Robyn LaRoche with any questions or concerns.
URL:https://lakelimerick.com/event/exercise-group-2-2/2030-06-26/
LOCATION:The Great Hall\, 790 E St Andrews Drive\, Shelton\, WA\, 98584\, United States
CATEGORIES:Community Events
ORGANIZER;CN="Robyn LaRoche":MAILTO:rllaroche@yahoo.com
END:VEVENT
BEGIN:VEVENT
DTSTART;TZID=America/Los_Angeles:20300626T180000
DTEND;TZID=America/Los_Angeles:20300626T210000
DTSTAMP:20260425T050509
CREATED:20260416T162607Z
LAST-MODIFIED:20260416T162956Z
UID:10000260-1908727200-1908738000@lakelimerick.com
SUMMARY:Community Studio Time
DESCRIPTION:Bring a portable Art/Craft project.\nConnect with like-minded creatives and enjoy\nfood and beverage from The Inn Restaurant/Blarney Room. \nEvery Wednesday \nThe Great Hall \n6 pm – 9 pm \n  \n 
URL:https://lakelimerick.com/event/community-studio-time-2-2-2-2/2030-06-26/
LOCATION:The Great Hall\, 790 E St Andrews Drive\, Shelton\, WA\, 98584\, United States
CATEGORIES:Community Events
END:VEVENT
BEGIN:VEVENT
DTSTART;TZID=America/Los_Angeles:20300627T113000
DTEND;TZID=America/Los_Angeles:20300627T130000
DTSTAMP:20260425T050509
CREATED:20260112T201546Z
LAST-MODIFIED:20260112T201546Z
UID:10005185-1908790200-1908795600@lakelimerick.com
SUMMARY:Park Strategic Planning Sub-Team
DESCRIPTION:
URL:https://lakelimerick.com/event/park-strategic-planning-sub-team/2030-06-27/
LOCATION:The Crows Nest\, 790 E Saint Andrews Drive\, Shelton\, WA\, 98584\, United States
CATEGORIES:Committee Meetings
END:VEVENT
END:VCALENDAR