BEGIN:VCALENDAR
VERSION:2.0
PRODID:-//Lake Limerick Country Club - ECPv6.15.20//NONSGML v1.0//EN
CALSCALE:GREGORIAN
METHOD:PUBLISH
X-ORIGINAL-URL:https://lakelimerick.com
X-WR-CALDESC:Events for Lake Limerick Country Club
REFRESH-INTERVAL;VALUE=DURATION:PT1H
X-Robots-Tag:noindex
X-PUBLISHED-TTL:PT1H
BEGIN:VTIMEZONE
TZID:America/Los_Angeles
BEGIN:DAYLIGHT
TZOFFSETFROM:-0800
TZOFFSETTO:-0700
TZNAME:PDT
DTSTART:20280312T100000
END:DAYLIGHT
BEGIN:STANDARD
TZOFFSETFROM:-0700
TZOFFSETTO:-0800
TZNAME:PST
DTSTART:20281105T090000
END:STANDARD
BEGIN:DAYLIGHT
TZOFFSETFROM:-0800
TZOFFSETTO:-0700
TZNAME:PDT
DTSTART:20290311T100000
END:DAYLIGHT
BEGIN:STANDARD
TZOFFSETFROM:-0700
TZOFFSETTO:-0800
TZNAME:PST
DTSTART:20291104T090000
END:STANDARD
BEGIN:DAYLIGHT
TZOFFSETFROM:-0800
TZOFFSETTO:-0700
TZNAME:PDT
DTSTART:20300310T100000
END:DAYLIGHT
BEGIN:STANDARD
TZOFFSETFROM:-0700
TZOFFSETTO:-0800
TZNAME:PST
DTSTART:20301103T090000
END:STANDARD
END:VTIMEZONE
BEGIN:VEVENT
DTSTART;TZID=America/Los_Angeles:20290519T113000
DTEND;TZID=America/Los_Angeles:20290519T140000
DTSTAMP:20260425T140008
CREATED:20251202T015134Z
LAST-MODIFIED:20251202T015134Z
UID:10003707-1873884600-1873893600@lakelimerick.com
SUMMARY:Board Meeting (Closed Session)
DESCRIPTION:
URL:https://lakelimerick.com/event/board-meeting-closed-session-2/2029-05-19/
LOCATION:Great Hall & Crow’s Nest\, 790 E Saint Andrews Drive\, Shelton\, WA\, 98584\, United States
CATEGORIES:BoD Meetings
END:VEVENT
BEGIN:VEVENT
DTSTART;TZID=America/Los_Angeles:20290520T173000
DTEND;TZID=America/Los_Angeles:20290520T190000
DTSTAMP:20260425T140008
CREATED:20251010T073645Z
LAST-MODIFIED:20251010T073646Z
UID:10002888-1873992600-1873998000@lakelimerick.com
SUMMARY:Trivia Night
DESCRIPTION:In the Restaurant and Lounge!\nA reminder\, participants must be accompanied by a Lake Limerick Member. \n  \n 
URL:https://lakelimerick.com/event/trivia-night-3/2029-05-20/
LOCATION:Inn Restaurant and Blarney Room\, 790 E Saint Andrews Drive\, Shelton\, WA\, 98584\, United States
CATEGORIES:Community Events
ATTACH;FMTTYPE=image/jpeg:https://lakelimerick.com/wp-content/uploads/2025/07/istockphoto-1303554344-612x612-1.jpg
END:VEVENT
BEGIN:VEVENT
DTSTART;TZID=America/Los_Angeles:20290521T083000
DTEND;TZID=America/Los_Angeles:20290521T093000
DTSTAMP:20260425T140008
CREATED:20251109T165614Z
LAST-MODIFIED:20251109T165615Z
UID:10000860-1874046600-1874050200@lakelimerick.com
SUMMARY:Exercise Group
DESCRIPTION:Join the exercise group at 8:30 am on Monday\, Wednesday and Friday. \nNo charge\nJust bring your own mat and hand weights. \n \n\nThe Lake Limerick Exercise Class is for men and women.  It is held in the Great Hall of the Lake Limerick Inn.\nThe class duration is one hour\, starting at 8:30 am on Mondays\, Wednesdays\, and Fridays (excluding holidays).  Participants are encouraged to arrive at 8:15 to set up.  You are not required to make it to all classes – join when you can.\nThe class is an audio exercise routine and can be adapted for every level.  The class is not led by a trained fitness professional.  This class is for the community members who wish to improve and maintain their level of fitness and have a little fun at the same time.\nParticipants are encouraged to modify exercise routines according to ability and fitness capabilities.\nExercise equipment is not furnished.  Weights\, a mat\, a bench step are recommended.  Bring your own and take it with you when done.\nChairs are available for participants who do not have the ability to participate in the floor routines.\nContact class coordinator\, Robyn LaRoche with any questions or concerns.
URL:https://lakelimerick.com/event/exercise-group-2-2/2029-05-21/
LOCATION:The Great Hall\, 790 E St Andrews Drive\, Shelton\, WA\, 98584\, United States
CATEGORIES:Community Events
ORGANIZER;CN="Robyn LaRoche":MAILTO:rllaroche@yahoo.com
END:VEVENT
BEGIN:VEVENT
DTSTART;TZID=America/Los_Angeles:20290522T090000
DTEND;TZID=America/Los_Angeles:20290522T100000
DTSTAMP:20260425T140008
CREATED:20260424T201354Z
LAST-MODIFIED:20260424T201354Z
UID:10007314-1874134800-1874138400@lakelimerick.com
SUMMARY:Office Meeting
DESCRIPTION:
URL:https://lakelimerick.com/event/office-meeting/2029-05-22/
LOCATION:The Crows Nest\, 790 E Saint Andrews Drive\, Shelton\, WA\, 98584\, United States
CATEGORIES:Staff
END:VEVENT
BEGIN:VEVENT
DTSTART;TZID=America/Los_Angeles:20290522T100000
DTEND;TZID=America/Los_Angeles:20290522T110000
DTSTAMP:20260425T140008
CREATED:20260424T161730Z
LAST-MODIFIED:20260424T161730Z
UID:10006680-1874138400-1874142000@lakelimerick.com
SUMMARY:General Manager (Meeting)
DESCRIPTION:
URL:https://lakelimerick.com/event/general-manager-meeting-2/2029-05-22/
LOCATION:The Crows Nest\, 790 E Saint Andrews Drive\, Shelton\, WA\, 98584\, United States
CATEGORIES:Staff
END:VEVENT
BEGIN:VEVENT
DTSTART;TZID=America/Los_Angeles:20290522T120000
DTEND;TZID=America/Los_Angeles:20290522T130000
DTSTAMP:20260425T140008
CREATED:20260424T201707Z
LAST-MODIFIED:20260424T201707Z
UID:10007675-1874145600-1874149200@lakelimerick.com
SUMMARY:Office Meeting
DESCRIPTION:
URL:https://lakelimerick.com/event/office-meeting-2/2029-05-22/
LOCATION:The Crows Nest\, 790 E Saint Andrews Drive\, Shelton\, WA\, 98584\, United States
CATEGORIES:Staff
END:VEVENT
BEGIN:VEVENT
DTSTART;TZID=America/Los_Angeles:20290523T083000
DTEND;TZID=America/Los_Angeles:20290523T093000
DTSTAMP:20260425T140008
CREATED:20251109T165614Z
LAST-MODIFIED:20251109T165615Z
UID:10000861-1874219400-1874223000@lakelimerick.com
SUMMARY:Exercise Group
DESCRIPTION:Join the exercise group at 8:30 am on Monday\, Wednesday and Friday. \nNo charge\nJust bring your own mat and hand weights. \n \n\nThe Lake Limerick Exercise Class is for men and women.  It is held in the Great Hall of the Lake Limerick Inn.\nThe class duration is one hour\, starting at 8:30 am on Mondays\, Wednesdays\, and Fridays (excluding holidays).  Participants are encouraged to arrive at 8:15 to set up.  You are not required to make it to all classes – join when you can.\nThe class is an audio exercise routine and can be adapted for every level.  The class is not led by a trained fitness professional.  This class is for the community members who wish to improve and maintain their level of fitness and have a little fun at the same time.\nParticipants are encouraged to modify exercise routines according to ability and fitness capabilities.\nExercise equipment is not furnished.  Weights\, a mat\, a bench step are recommended.  Bring your own and take it with you when done.\nChairs are available for participants who do not have the ability to participate in the floor routines.\nContact class coordinator\, Robyn LaRoche with any questions or concerns.
URL:https://lakelimerick.com/event/exercise-group-2-2/2029-05-23/
LOCATION:The Great Hall\, 790 E St Andrews Drive\, Shelton\, WA\, 98584\, United States
CATEGORIES:Community Events
ORGANIZER;CN="Robyn LaRoche":MAILTO:rllaroche@yahoo.com
END:VEVENT
BEGIN:VEVENT
DTSTART;TZID=America/Los_Angeles:20290523T180000
DTEND;TZID=America/Los_Angeles:20290523T210000
DTSTAMP:20260425T140008
CREATED:20260416T162607Z
LAST-MODIFIED:20260416T162956Z
UID:10000203-1874253600-1874264400@lakelimerick.com
SUMMARY:Community Studio Time
DESCRIPTION:Bring a portable Art/Craft project.\nConnect with like-minded creatives and enjoy\nfood and beverage from The Inn Restaurant/Blarney Room. \nEvery Wednesday \nThe Great Hall \n6 pm – 9 pm \n  \n 
URL:https://lakelimerick.com/event/community-studio-time-2-2-2-2/2029-05-23/
LOCATION:The Great Hall\, 790 E St Andrews Drive\, Shelton\, WA\, 98584\, United States
CATEGORIES:Community Events
END:VEVENT
BEGIN:VEVENT
DTSTART;TZID=America/Los_Angeles:20290525T083000
DTEND;TZID=America/Los_Angeles:20290525T093000
DTSTAMP:20260425T140008
CREATED:20251109T165614Z
LAST-MODIFIED:20251109T165615Z
UID:10000862-1874392200-1874395800@lakelimerick.com
SUMMARY:Exercise Group
DESCRIPTION:Join the exercise group at 8:30 am on Monday\, Wednesday and Friday. \nNo charge\nJust bring your own mat and hand weights. \n \n\nThe Lake Limerick Exercise Class is for men and women.  It is held in the Great Hall of the Lake Limerick Inn.\nThe class duration is one hour\, starting at 8:30 am on Mondays\, Wednesdays\, and Fridays (excluding holidays).  Participants are encouraged to arrive at 8:15 to set up.  You are not required to make it to all classes – join when you can.\nThe class is an audio exercise routine and can be adapted for every level.  The class is not led by a trained fitness professional.  This class is for the community members who wish to improve and maintain their level of fitness and have a little fun at the same time.\nParticipants are encouraged to modify exercise routines according to ability and fitness capabilities.\nExercise equipment is not furnished.  Weights\, a mat\, a bench step are recommended.  Bring your own and take it with you when done.\nChairs are available for participants who do not have the ability to participate in the floor routines.\nContact class coordinator\, Robyn LaRoche with any questions or concerns.
URL:https://lakelimerick.com/event/exercise-group-2-2/2029-05-25/
LOCATION:The Great Hall\, 790 E St Andrews Drive\, Shelton\, WA\, 98584\, United States
CATEGORIES:Community Events
ORGANIZER;CN="Robyn LaRoche":MAILTO:rllaroche@yahoo.com
END:VEVENT
BEGIN:VEVENT
DTSTART;TZID=America/Los_Angeles:20290525T090000
DTEND;TZID=America/Los_Angeles:20290525T100000
DTSTAMP:20260425T140008
CREATED:20260424T201354Z
LAST-MODIFIED:20260424T201354Z
UID:10007315-1874394000-1874397600@lakelimerick.com
SUMMARY:Office Meeting
DESCRIPTION:
URL:https://lakelimerick.com/event/office-meeting/2029-05-25/
LOCATION:The Crows Nest\, 790 E Saint Andrews Drive\, Shelton\, WA\, 98584\, United States
CATEGORIES:Staff
END:VEVENT
BEGIN:VEVENT
DTSTART;TZID=America/Los_Angeles:20290525T100000
DTEND;TZID=America/Los_Angeles:20290525T110000
DTSTAMP:20260425T140008
CREATED:20260424T161730Z
LAST-MODIFIED:20260424T161730Z
UID:10006681-1874397600-1874401200@lakelimerick.com
SUMMARY:General Manager (Meeting)
DESCRIPTION:
URL:https://lakelimerick.com/event/general-manager-meeting-2/2029-05-25/
LOCATION:The Crows Nest\, 790 E Saint Andrews Drive\, Shelton\, WA\, 98584\, United States
CATEGORIES:Staff
END:VEVENT
BEGIN:VEVENT
DTSTART;TZID=America/Los_Angeles:20290526T090000
DTEND;TZID=America/Los_Angeles:20290526T130000
DTSTAMP:20260425T140008
CREATED:20260326T165545Z
LAST-MODIFIED:20260326T165730Z
UID:10006249-1874480400-1874494800@lakelimerick.com
SUMMARY:Water Committee Meeting (Hybrid)
DESCRIPTION:Water System Utility Committee Meeting \n \nCrow’s Nest or Zoom \nZoom Link \nMeeting ID:  882 7511 6055 \nPasscode:  822 423
URL:https://lakelimerick.com/event/water-committee-meeting-hybrid-2/2029-05-26/
LOCATION:The Blarney Room (Lounge)\, 790 E Saint Andrews Drive\, Shelton\, WA\, 98584\, United States
CATEGORIES:Committee Meetings
END:VEVENT
BEGIN:VEVENT
DTSTART;TZID=America/Los_Angeles:20290528T083000
DTEND;TZID=America/Los_Angeles:20290528T093000
DTSTAMP:20260425T140008
CREATED:20251109T165614Z
LAST-MODIFIED:20251109T165615Z
UID:10000863-1874651400-1874655000@lakelimerick.com
SUMMARY:Exercise Group
DESCRIPTION:Join the exercise group at 8:30 am on Monday\, Wednesday and Friday. \nNo charge\nJust bring your own mat and hand weights. \n \n\nThe Lake Limerick Exercise Class is for men and women.  It is held in the Great Hall of the Lake Limerick Inn.\nThe class duration is one hour\, starting at 8:30 am on Mondays\, Wednesdays\, and Fridays (excluding holidays).  Participants are encouraged to arrive at 8:15 to set up.  You are not required to make it to all classes – join when you can.\nThe class is an audio exercise routine and can be adapted for every level.  The class is not led by a trained fitness professional.  This class is for the community members who wish to improve and maintain their level of fitness and have a little fun at the same time.\nParticipants are encouraged to modify exercise routines according to ability and fitness capabilities.\nExercise equipment is not furnished.  Weights\, a mat\, a bench step are recommended.  Bring your own and take it with you when done.\nChairs are available for participants who do not have the ability to participate in the floor routines.\nContact class coordinator\, Robyn LaRoche with any questions or concerns.
URL:https://lakelimerick.com/event/exercise-group-2-2/2029-05-28/
LOCATION:The Great Hall\, 790 E St Andrews Drive\, Shelton\, WA\, 98584\, United States
CATEGORIES:Community Events
ORGANIZER;CN="Robyn LaRoche":MAILTO:rllaroche@yahoo.com
END:VEVENT
BEGIN:VEVENT
DTSTART;TZID=America/Los_Angeles:20290529T090000
DTEND;TZID=America/Los_Angeles:20290529T100000
DTSTAMP:20260425T140008
CREATED:20260424T201354Z
LAST-MODIFIED:20260424T201354Z
UID:10007316-1874739600-1874743200@lakelimerick.com
SUMMARY:Office Meeting
DESCRIPTION:
URL:https://lakelimerick.com/event/office-meeting/2029-05-29/
LOCATION:The Crows Nest\, 790 E Saint Andrews Drive\, Shelton\, WA\, 98584\, United States
CATEGORIES:Staff
END:VEVENT
BEGIN:VEVENT
DTSTART;TZID=America/Los_Angeles:20290529T100000
DTEND;TZID=America/Los_Angeles:20290529T110000
DTSTAMP:20260425T140008
CREATED:20260424T161730Z
LAST-MODIFIED:20260424T161730Z
UID:10006682-1874743200-1874746800@lakelimerick.com
SUMMARY:General Manager (Meeting)
DESCRIPTION:
URL:https://lakelimerick.com/event/general-manager-meeting-2/2029-05-29/
LOCATION:The Crows Nest\, 790 E Saint Andrews Drive\, Shelton\, WA\, 98584\, United States
CATEGORIES:Staff
END:VEVENT
BEGIN:VEVENT
DTSTART;TZID=America/Los_Angeles:20290529T120000
DTEND;TZID=America/Los_Angeles:20290529T130000
DTSTAMP:20260425T140008
CREATED:20260424T201707Z
LAST-MODIFIED:20260424T201707Z
UID:10007676-1874750400-1874754000@lakelimerick.com
SUMMARY:Office Meeting
DESCRIPTION:
URL:https://lakelimerick.com/event/office-meeting-2/2029-05-29/
LOCATION:The Crows Nest\, 790 E Saint Andrews Drive\, Shelton\, WA\, 98584\, United States
CATEGORIES:Staff
END:VEVENT
BEGIN:VEVENT
DTSTART;TZID=America/Los_Angeles:20290530T083000
DTEND;TZID=America/Los_Angeles:20290530T093000
DTSTAMP:20260425T140008
CREATED:20251109T165614Z
LAST-MODIFIED:20251109T165615Z
UID:10000864-1874824200-1874827800@lakelimerick.com
SUMMARY:Exercise Group
DESCRIPTION:Join the exercise group at 8:30 am on Monday\, Wednesday and Friday. \nNo charge\nJust bring your own mat and hand weights. \n \n\nThe Lake Limerick Exercise Class is for men and women.  It is held in the Great Hall of the Lake Limerick Inn.\nThe class duration is one hour\, starting at 8:30 am on Mondays\, Wednesdays\, and Fridays (excluding holidays).  Participants are encouraged to arrive at 8:15 to set up.  You are not required to make it to all classes – join when you can.\nThe class is an audio exercise routine and can be adapted for every level.  The class is not led by a trained fitness professional.  This class is for the community members who wish to improve and maintain their level of fitness and have a little fun at the same time.\nParticipants are encouraged to modify exercise routines according to ability and fitness capabilities.\nExercise equipment is not furnished.  Weights\, a mat\, a bench step are recommended.  Bring your own and take it with you when done.\nChairs are available for participants who do not have the ability to participate in the floor routines.\nContact class coordinator\, Robyn LaRoche with any questions or concerns.
URL:https://lakelimerick.com/event/exercise-group-2-2/2029-05-30/
LOCATION:The Great Hall\, 790 E St Andrews Drive\, Shelton\, WA\, 98584\, United States
CATEGORIES:Community Events
ORGANIZER;CN="Robyn LaRoche":MAILTO:rllaroche@yahoo.com
END:VEVENT
BEGIN:VEVENT
DTSTART;TZID=America/Los_Angeles:20290530T180000
DTEND;TZID=America/Los_Angeles:20290530T210000
DTSTAMP:20260425T140008
CREATED:20260416T162607Z
LAST-MODIFIED:20260416T162956Z
UID:10000204-1874858400-1874869200@lakelimerick.com
SUMMARY:Community Studio Time
DESCRIPTION:Bring a portable Art/Craft project.\nConnect with like-minded creatives and enjoy\nfood and beverage from The Inn Restaurant/Blarney Room. \nEvery Wednesday \nThe Great Hall \n6 pm – 9 pm \n  \n 
URL:https://lakelimerick.com/event/community-studio-time-2-2-2-2/2029-05-30/
LOCATION:The Great Hall\, 790 E St Andrews Drive\, Shelton\, WA\, 98584\, United States
CATEGORIES:Community Events
END:VEVENT
BEGIN:VEVENT
DTSTART;TZID=America/Los_Angeles:20290531T113000
DTEND;TZID=America/Los_Angeles:20290531T130000
DTSTAMP:20260425T140008
CREATED:20260112T201546Z
LAST-MODIFIED:20260112T201546Z
UID:10005157-1874921400-1874926800@lakelimerick.com
SUMMARY:Park Strategic Planning Sub-Team
DESCRIPTION:
URL:https://lakelimerick.com/event/park-strategic-planning-sub-team/2029-05-31/
LOCATION:The Crows Nest\, 790 E Saint Andrews Drive\, Shelton\, WA\, 98584\, United States
CATEGORIES:Committee Meetings
END:VEVENT
BEGIN:VEVENT
DTSTART;TZID=America/Los_Angeles:20290601T083000
DTEND;TZID=America/Los_Angeles:20290601T093000
DTSTAMP:20260425T140008
CREATED:20251109T165614Z
LAST-MODIFIED:20251109T165615Z
UID:10000865-1874997000-1875000600@lakelimerick.com
SUMMARY:Exercise Group
DESCRIPTION:Join the exercise group at 8:30 am on Monday\, Wednesday and Friday. \nNo charge\nJust bring your own mat and hand weights. \n \n\nThe Lake Limerick Exercise Class is for men and women.  It is held in the Great Hall of the Lake Limerick Inn.\nThe class duration is one hour\, starting at 8:30 am on Mondays\, Wednesdays\, and Fridays (excluding holidays).  Participants are encouraged to arrive at 8:15 to set up.  You are not required to make it to all classes – join when you can.\nThe class is an audio exercise routine and can be adapted for every level.  The class is not led by a trained fitness professional.  This class is for the community members who wish to improve and maintain their level of fitness and have a little fun at the same time.\nParticipants are encouraged to modify exercise routines according to ability and fitness capabilities.\nExercise equipment is not furnished.  Weights\, a mat\, a bench step are recommended.  Bring your own and take it with you when done.\nChairs are available for participants who do not have the ability to participate in the floor routines.\nContact class coordinator\, Robyn LaRoche with any questions or concerns.
URL:https://lakelimerick.com/event/exercise-group-2-2/2029-06-01/
LOCATION:The Great Hall\, 790 E St Andrews Drive\, Shelton\, WA\, 98584\, United States
CATEGORIES:Community Events
ORGANIZER;CN="Robyn LaRoche":MAILTO:rllaroche@yahoo.com
END:VEVENT
BEGIN:VEVENT
DTSTART;TZID=America/Los_Angeles:20290601T090000
DTEND;TZID=America/Los_Angeles:20290601T100000
DTSTAMP:20260425T140008
CREATED:20260424T201354Z
LAST-MODIFIED:20260424T201354Z
UID:10007317-1874998800-1875002400@lakelimerick.com
SUMMARY:Office Meeting
DESCRIPTION:
URL:https://lakelimerick.com/event/office-meeting/2029-06-01/
LOCATION:The Crows Nest\, 790 E Saint Andrews Drive\, Shelton\, WA\, 98584\, United States
CATEGORIES:Staff
END:VEVENT
BEGIN:VEVENT
DTSTART;TZID=America/Los_Angeles:20290601T100000
DTEND;TZID=America/Los_Angeles:20290601T110000
DTSTAMP:20260425T140008
CREATED:20260424T161730Z
LAST-MODIFIED:20260424T161730Z
UID:10006683-1875002400-1875006000@lakelimerick.com
SUMMARY:General Manager (Meeting)
DESCRIPTION:
URL:https://lakelimerick.com/event/general-manager-meeting-2/2029-06-01/
LOCATION:The Crows Nest\, 790 E Saint Andrews Drive\, Shelton\, WA\, 98584\, United States
CATEGORIES:Staff
END:VEVENT
BEGIN:VEVENT
DTSTART;TZID=America/Los_Angeles:20290602T093000
DTEND;TZID=America/Los_Angeles:20290602T130000
DTSTAMP:20260425T140008
CREATED:20250730T211155Z
LAST-MODIFIED:20251025T003719Z
UID:10001095-1875087000-1875099600@lakelimerick.com
SUMMARY:Lakes\, Dams\, & Parks Meeting
DESCRIPTION:
URL:https://lakelimerick.com/event/lakes-dams-parks-meeting/2029-06-02/
LOCATION:The Crows Nest\, 790 E Saint Andrews Drive\, Shelton\, WA\, 98584\, United States
CATEGORIES:Committee Meetings
END:VEVENT
BEGIN:VEVENT
DTSTART;TZID=America/Los_Angeles:20290604T083000
DTEND;TZID=America/Los_Angeles:20290604T093000
DTSTAMP:20260425T140008
CREATED:20251109T165614Z
LAST-MODIFIED:20251109T165615Z
UID:10000866-1875256200-1875259800@lakelimerick.com
SUMMARY:Exercise Group
DESCRIPTION:Join the exercise group at 8:30 am on Monday\, Wednesday and Friday. \nNo charge\nJust bring your own mat and hand weights. \n \n\nThe Lake Limerick Exercise Class is for men and women.  It is held in the Great Hall of the Lake Limerick Inn.\nThe class duration is one hour\, starting at 8:30 am on Mondays\, Wednesdays\, and Fridays (excluding holidays).  Participants are encouraged to arrive at 8:15 to set up.  You are not required to make it to all classes – join when you can.\nThe class is an audio exercise routine and can be adapted for every level.  The class is not led by a trained fitness professional.  This class is for the community members who wish to improve and maintain their level of fitness and have a little fun at the same time.\nParticipants are encouraged to modify exercise routines according to ability and fitness capabilities.\nExercise equipment is not furnished.  Weights\, a mat\, a bench step are recommended.  Bring your own and take it with you when done.\nChairs are available for participants who do not have the ability to participate in the floor routines.\nContact class coordinator\, Robyn LaRoche with any questions or concerns.
URL:https://lakelimerick.com/event/exercise-group-2-2/2029-06-04/
LOCATION:The Great Hall\, 790 E St Andrews Drive\, Shelton\, WA\, 98584\, United States
CATEGORIES:Community Events
ORGANIZER;CN="Robyn LaRoche":MAILTO:rllaroche@yahoo.com
END:VEVENT
BEGIN:VEVENT
DTSTART;TZID=America/Los_Angeles:20290604T090000
DTEND;TZID=America/Los_Angeles:20290604T130000
DTSTAMP:20260425T140008
CREATED:20260123T172931Z
LAST-MODIFIED:20260123T174201Z
UID:10005679-1875258000-1875272400@lakelimerick.com
SUMMARY:Water Committee
DESCRIPTION:  \nWater Committee Meeting Agenda \n \n9 am – 1 pm\nLocation: The Blarney Room or Zoom \nZoom Link Below \nMeeting ID: 882 7511 6055 \nPasscode: 822423
URL:https://lakelimerick.com/event/water-committee-2/2029-06-04/
LOCATION:The Blarney Room (Lounge)\, 790 E Saint Andrews Drive\, Shelton\, WA\, 98584\, United States
CATEGORIES:Committee Meetings
END:VEVENT
BEGIN:VEVENT
DTSTART;TZID=America/Los_Angeles:20290604T100000
DTEND;TZID=America/Los_Angeles:20290604T120000
DTSTAMP:20260425T140008
CREATED:20250730T212451Z
LAST-MODIFIED:20250730T212911Z
UID:10001217-1875261600-1875268800@lakelimerick.com
SUMMARY:Compliance Committee Meeting
DESCRIPTION:Time:  10am-12pm \nLocation (HYBRID):  Crow’s Nest or Zoom \nZoom Link: Zoom \nMeeting ID: 838 4345 1516 \nPasscode: 011276
URL:https://lakelimerick.com/event/compliance-committee-meeting/2029-06-04/
LOCATION:The Crows Nest\, 790 E Saint Andrews Drive\, Shelton\, WA\, 98584\, United States
CATEGORIES:Committee Meetings
END:VEVENT
BEGIN:VEVENT
DTSTART;TZID=America/Los_Angeles:20290605T090000
DTEND;TZID=America/Los_Angeles:20290605T100000
DTSTAMP:20260425T140009
CREATED:20260424T201354Z
LAST-MODIFIED:20260424T201354Z
UID:10007318-1875344400-1875348000@lakelimerick.com
SUMMARY:Office Meeting
DESCRIPTION:
URL:https://lakelimerick.com/event/office-meeting/2029-06-05/
LOCATION:The Crows Nest\, 790 E Saint Andrews Drive\, Shelton\, WA\, 98584\, United States
CATEGORIES:Staff
END:VEVENT
BEGIN:VEVENT
DTSTART;TZID=America/Los_Angeles:20290605T100000
DTEND;TZID=America/Los_Angeles:20290605T110000
DTSTAMP:20260425T140009
CREATED:20260424T161730Z
LAST-MODIFIED:20260424T161730Z
UID:10006684-1875348000-1875351600@lakelimerick.com
SUMMARY:General Manager (Meeting)
DESCRIPTION:
URL:https://lakelimerick.com/event/general-manager-meeting-2/2029-06-05/
LOCATION:The Crows Nest\, 790 E Saint Andrews Drive\, Shelton\, WA\, 98584\, United States
CATEGORIES:Staff
END:VEVENT
BEGIN:VEVENT
DTSTART;TZID=America/Los_Angeles:20290605T120000
DTEND;TZID=America/Los_Angeles:20290605T130000
DTSTAMP:20260425T140009
CREATED:20260424T201707Z
LAST-MODIFIED:20260424T201707Z
UID:10007677-1875355200-1875358800@lakelimerick.com
SUMMARY:Office Meeting
DESCRIPTION:
URL:https://lakelimerick.com/event/office-meeting-2/2029-06-05/
LOCATION:The Crows Nest\, 790 E Saint Andrews Drive\, Shelton\, WA\, 98584\, United States
CATEGORIES:Staff
END:VEVENT
BEGIN:VEVENT
DTSTART;TZID=America/Los_Angeles:20290605T133000
DTEND;TZID=America/Los_Angeles:20290605T153000
DTSTAMP:20260425T140009
CREATED:20250730T213312Z
LAST-MODIFIED:20250803T083113Z
UID:10001277-1875360600-1875367800@lakelimerick.com
SUMMARY:Greens Committee Meeting
DESCRIPTION:
URL:https://lakelimerick.com/event/greens-committee-meeting/2029-06-05/
LOCATION:LLCC Pro Shop\, 811 E Saint Andrews Drive\, Shelton\, WA\, 98584\, United States
CATEGORIES:Committee Meetings
END:VEVENT
END:VCALENDAR