BEGIN:VCALENDAR
VERSION:2.0
PRODID:-//Lake Limerick Country Club - ECPv6.15.20//NONSGML v1.0//EN
CALSCALE:GREGORIAN
METHOD:PUBLISH
X-ORIGINAL-URL:https://lakelimerick.com
X-WR-CALDESC:Events for Lake Limerick Country Club
REFRESH-INTERVAL;VALUE=DURATION:PT1H
X-Robots-Tag:noindex
X-PUBLISHED-TTL:PT1H
BEGIN:VTIMEZONE
TZID:America/Los_Angeles
BEGIN:DAYLIGHT
TZOFFSETFROM:-0800
TZOFFSETTO:-0700
TZNAME:PDT
DTSTART:20300310T100000
END:DAYLIGHT
BEGIN:STANDARD
TZOFFSETFROM:-0700
TZOFFSETTO:-0800
TZNAME:PST
DTSTART:20301103T090000
END:STANDARD
BEGIN:DAYLIGHT
TZOFFSETFROM:-0800
TZOFFSETTO:-0700
TZNAME:PDT
DTSTART:20310309T100000
END:DAYLIGHT
BEGIN:STANDARD
TZOFFSETFROM:-0700
TZOFFSETTO:-0800
TZNAME:PST
DTSTART:20311102T090000
END:STANDARD
BEGIN:DAYLIGHT
TZOFFSETFROM:-0800
TZOFFSETTO:-0700
TZNAME:PDT
DTSTART:20320314T100000
END:DAYLIGHT
BEGIN:STANDARD
TZOFFSETFROM:-0700
TZOFFSETTO:-0800
TZNAME:PST
DTSTART:20321107T090000
END:STANDARD
END:VTIMEZONE
BEGIN:VEVENT
DTSTART;TZID=America/Los_Angeles:20310131T090000
DTEND;TZID=America/Los_Angeles:20310131T100000
DTSTAMP:20260425T154203
CREATED:20260424T201354Z
LAST-MODIFIED:20260424T201354Z
UID:10007491-1927616400-1927620000@lakelimerick.com
SUMMARY:Office Meeting
DESCRIPTION:
URL:https://lakelimerick.com/event/office-meeting/2031-01-31/
LOCATION:The Crows Nest\, 790 E Saint Andrews Drive\, Shelton\, WA\, 98584\, United States
CATEGORIES:Staff
END:VEVENT
BEGIN:VEVENT
DTSTART;TZID=America/Los_Angeles:20310131T100000
DTEND;TZID=America/Los_Angeles:20310131T110000
DTSTAMP:20260425T154203
CREATED:20260424T161730Z
LAST-MODIFIED:20260424T161730Z
UID:10006857-1927620000-1927623600@lakelimerick.com
SUMMARY:General Manager (Meeting)
DESCRIPTION:
URL:https://lakelimerick.com/event/general-manager-meeting-2/2031-01-31/
LOCATION:The Crows Nest\, 790 E Saint Andrews Drive\, Shelton\, WA\, 98584\, United States
CATEGORIES:Staff
END:VEVENT
BEGIN:VEVENT
DTSTART;TZID=America/Los_Angeles:20310203T090000
DTEND;TZID=America/Los_Angeles:20310203T130000
DTSTAMP:20260425T154203
CREATED:20260123T172931Z
LAST-MODIFIED:20260123T174201Z
UID:10006045-1927875600-1927890000@lakelimerick.com
SUMMARY:Water Committee
DESCRIPTION:  \nWater Committee Meeting Agenda \n \n9 am – 1 pm\nLocation: The Blarney Room or Zoom \nZoom Link Below \nMeeting ID: 882 7511 6055 \nPasscode: 822423
URL:https://lakelimerick.com/event/water-committee-2/2031-02-03/
LOCATION:The Blarney Room (Lounge)\, 790 E Saint Andrews Drive\, Shelton\, WA\, 98584\, United States
CATEGORIES:Committee Meetings
END:VEVENT
BEGIN:VEVENT
DTSTART;TZID=America/Los_Angeles:20310204T090000
DTEND;TZID=America/Los_Angeles:20310204T100000
DTSTAMP:20260425T154203
CREATED:20260424T201354Z
LAST-MODIFIED:20260424T201354Z
UID:10007492-1927962000-1927965600@lakelimerick.com
SUMMARY:Office Meeting
DESCRIPTION:
URL:https://lakelimerick.com/event/office-meeting/2031-02-04/
LOCATION:The Crows Nest\, 790 E Saint Andrews Drive\, Shelton\, WA\, 98584\, United States
CATEGORIES:Staff
END:VEVENT
BEGIN:VEVENT
DTSTART;TZID=America/Los_Angeles:20310204T100000
DTEND;TZID=America/Los_Angeles:20310204T110000
DTSTAMP:20260425T154203
CREATED:20260424T161730Z
LAST-MODIFIED:20260424T161730Z
UID:10006858-1927965600-1927969200@lakelimerick.com
SUMMARY:General Manager (Meeting)
DESCRIPTION:
URL:https://lakelimerick.com/event/general-manager-meeting-2/2031-02-04/
LOCATION:The Crows Nest\, 790 E Saint Andrews Drive\, Shelton\, WA\, 98584\, United States
CATEGORIES:Staff
END:VEVENT
BEGIN:VEVENT
DTSTART;TZID=America/Los_Angeles:20310204T120000
DTEND;TZID=America/Los_Angeles:20310204T130000
DTSTAMP:20260425T154203
CREATED:20260424T201707Z
LAST-MODIFIED:20260424T201707Z
UID:10007764-1927972800-1927976400@lakelimerick.com
SUMMARY:Office Meeting
DESCRIPTION:
URL:https://lakelimerick.com/event/office-meeting-2/2031-02-04/
LOCATION:The Crows Nest\, 790 E Saint Andrews Drive\, Shelton\, WA\, 98584\, United States
CATEGORIES:Staff
END:VEVENT
BEGIN:VEVENT
DTSTART;TZID=America/Los_Angeles:20310204T133000
DTEND;TZID=America/Los_Angeles:20310204T153000
DTSTAMP:20260425T154203
CREATED:20250730T213312Z
LAST-MODIFIED:20250803T083113Z
UID:10006325-1927978200-1927985400@lakelimerick.com
SUMMARY:Greens Committee Meeting
DESCRIPTION:
URL:https://lakelimerick.com/event/greens-committee-meeting/2031-02-04/
LOCATION:LLCC Pro Shop\, 811 E Saint Andrews Drive\, Shelton\, WA\, 98584\, United States
CATEGORIES:Committee Meetings
END:VEVENT
BEGIN:VEVENT
DTSTART;TZID=America/Los_Angeles:20310205T143000
DTEND;TZID=America/Los_Angeles:20310205T163000
DTSTAMP:20260425T154203
CREATED:20250730T214820Z
LAST-MODIFIED:20250730T214820Z
UID:10006054-1928068200-1928075400@lakelimerick.com
SUMMARY:Inn Committee
DESCRIPTION:Time:  2:30pm-4:30pm \nLocation:  Crow’s Nest
URL:https://lakelimerick.com/event/inn-committee/2031-02-05/
LOCATION:The Crows Nest\, 790 E Saint Andrews Drive\, Shelton\, WA\, 98584\, United States
CATEGORIES:Committee Meetings
END:VEVENT
BEGIN:VEVENT
DTSTART;TZID=America/Los_Angeles:20310205T143000
DTEND;TZID=America/Los_Angeles:20310205T163000
DTSTAMP:20260425T154203
CREATED:20260330T160430Z
LAST-MODIFIED:20260330T160430Z
UID:10006314-1928068200-1928075400@lakelimerick.com
SUMMARY:Inn Committee Meeting
DESCRIPTION:Meets the first Wednesday of each month. \nTime:  2:30pm – 4:30pm \nGreat Hall
URL:https://lakelimerick.com/event/inn-committee-meeting/2031-02-05/
LOCATION:The Great Hall\, 790 E St Andrews Drive\, Shelton\, WA\, 98584\, United States
CATEGORIES:Committee Meetings
END:VEVENT
BEGIN:VEVENT
DTSTART;TZID=America/Los_Angeles:20310205T180000
DTEND;TZID=America/Los_Angeles:20310205T210000
DTSTAMP:20260425T154203
CREATED:20260416T162607Z
LAST-MODIFIED:20260416T162956Z
UID:10006348-1928080800-1928091600@lakelimerick.com
SUMMARY:Community Studio Time
DESCRIPTION:Bring a portable Art/Craft project.\nConnect with like-minded creatives and enjoy\nfood and beverage from The Inn Restaurant/Blarney Room. \nEvery Wednesday \nThe Great Hall \n6 pm – 9 pm \n  \n 
URL:https://lakelimerick.com/event/community-studio-time-2-2-2-2/2031-02-05/
LOCATION:The Great Hall\, 790 E St Andrews Drive\, Shelton\, WA\, 98584\, United States
CATEGORIES:Community Events
END:VEVENT
BEGIN:VEVENT
DTSTART;TZID=America/Los_Angeles:20310206T153000
DTEND;TZID=America/Los_Angeles:20310206T163000
DTSTAMP:20260425T154203
CREATED:20260424T172735Z
LAST-MODIFIED:20260424T172735Z
UID:10006937-1928158200-1928161800@lakelimerick.com
SUMMARY:Special Board Meeting
DESCRIPTION:2026 Special Board Meetings Agenda \nThis meeting takes place on the second Thursday of each month at 3:30 PM in the Crow’s Nest. \nMeeting ID: 820 7716 5853\nPasscode: 438634\n 
URL:https://lakelimerick.com/event/executive-committee-meeting-2-4/2031-02-06/
LOCATION:Virtual and Crow’s Nest\, 790 East Saint Andrews\, Shelton\, WA\, 98584\, United States
CATEGORIES:BoD Meetings
END:VEVENT
BEGIN:VEVENT
DTSTART;TZID=America/Los_Angeles:20310207T090000
DTEND;TZID=America/Los_Angeles:20310207T100000
DTSTAMP:20260425T154203
CREATED:20260424T201354Z
LAST-MODIFIED:20260424T201354Z
UID:10007493-1928221200-1928224800@lakelimerick.com
SUMMARY:Office Meeting
DESCRIPTION:
URL:https://lakelimerick.com/event/office-meeting/2031-02-07/
LOCATION:The Crows Nest\, 790 E Saint Andrews Drive\, Shelton\, WA\, 98584\, United States
CATEGORIES:Staff
END:VEVENT
BEGIN:VEVENT
DTSTART;TZID=America/Los_Angeles:20310207T100000
DTEND;TZID=America/Los_Angeles:20310207T110000
DTSTAMP:20260425T154203
CREATED:20260424T161730Z
LAST-MODIFIED:20260424T161730Z
UID:10006859-1928224800-1928228400@lakelimerick.com
SUMMARY:General Manager (Meeting)
DESCRIPTION:
URL:https://lakelimerick.com/event/general-manager-meeting-2/2031-02-07/
LOCATION:The Crows Nest\, 790 E Saint Andrews Drive\, Shelton\, WA\, 98584\, United States
CATEGORIES:Staff
END:VEVENT
BEGIN:VEVENT
DTSTART;TZID=America/Los_Angeles:20310211T090000
DTEND;TZID=America/Los_Angeles:20310211T100000
DTSTAMP:20260425T154203
CREATED:20260424T201354Z
LAST-MODIFIED:20260424T201354Z
UID:10007494-1928566800-1928570400@lakelimerick.com
SUMMARY:Office Meeting
DESCRIPTION:
URL:https://lakelimerick.com/event/office-meeting/2031-02-11/
LOCATION:The Crows Nest\, 790 E Saint Andrews Drive\, Shelton\, WA\, 98584\, United States
CATEGORIES:Staff
END:VEVENT
BEGIN:VEVENT
DTSTART;TZID=America/Los_Angeles:20310211T100000
DTEND;TZID=America/Los_Angeles:20310211T110000
DTSTAMP:20260425T154203
CREATED:20260424T161730Z
LAST-MODIFIED:20260424T161730Z
UID:10006860-1928570400-1928574000@lakelimerick.com
SUMMARY:General Manager (Meeting)
DESCRIPTION:
URL:https://lakelimerick.com/event/general-manager-meeting-2/2031-02-11/
LOCATION:The Crows Nest\, 790 E Saint Andrews Drive\, Shelton\, WA\, 98584\, United States
CATEGORIES:Staff
END:VEVENT
BEGIN:VEVENT
DTSTART;TZID=America/Los_Angeles:20310211T120000
DTEND;TZID=America/Los_Angeles:20310211T130000
DTSTAMP:20260425T154203
CREATED:20260424T201707Z
LAST-MODIFIED:20260424T201707Z
UID:10007765-1928577600-1928581200@lakelimerick.com
SUMMARY:Office Meeting
DESCRIPTION:
URL:https://lakelimerick.com/event/office-meeting-2/2031-02-11/
LOCATION:The Crows Nest\, 790 E Saint Andrews Drive\, Shelton\, WA\, 98584\, United States
CATEGORIES:Staff
END:VEVENT
BEGIN:VEVENT
DTSTART;TZID=America/Los_Angeles:20310212T153000
DTEND;TZID=America/Los_Angeles:20310212T163000
DTSTAMP:20260425T154203
CREATED:20260218T175358Z
LAST-MODIFIED:20260218T175358Z
UID:10005921-1928676600-1928680200@lakelimerick.com
SUMMARY:Committee Chair Meeting
DESCRIPTION:
URL:https://lakelimerick.com/event/committee-chair-meeting/2031-02-12/
LOCATION:The Crows Nest\, 790 E Saint Andrews Drive\, Shelton\, WA\, 98584\, United States
CATEGORIES:Committee Meetings
END:VEVENT
BEGIN:VEVENT
DTSTART;TZID=America/Los_Angeles:20310212T180000
DTEND;TZID=America/Los_Angeles:20310212T210000
DTSTAMP:20260425T154203
CREATED:20260416T162607Z
LAST-MODIFIED:20260416T162956Z
UID:10006349-1928685600-1928696400@lakelimerick.com
SUMMARY:Community Studio Time
DESCRIPTION:Bring a portable Art/Craft project.\nConnect with like-minded creatives and enjoy\nfood and beverage from The Inn Restaurant/Blarney Room. \nEvery Wednesday \nThe Great Hall \n6 pm – 9 pm \n  \n 
URL:https://lakelimerick.com/event/community-studio-time-2-2-2-2/2031-02-12/
LOCATION:The Great Hall\, 790 E St Andrews Drive\, Shelton\, WA\, 98584\, United States
CATEGORIES:Community Events
END:VEVENT
BEGIN:VEVENT
DTSTART;TZID=America/Los_Angeles:20310213T153000
DTEND;TZID=America/Los_Angeles:20310213T163000
DTSTAMP:20260425T154203
CREATED:20260212T230226Z
LAST-MODIFIED:20260424T173130Z
UID:10006990-1928763000-1928766600@lakelimerick.com
SUMMARY:Special Board Meeting (Hybrid)
DESCRIPTION:2026 Special Board Meetings Agenda \nThis meeting takes place on the second Thursday of each month at 3:30 PM in the Crow’s Nest. \nZOOM Link\nMeeting ID: 820 7716 5853\nPasscode: 438634
URL:https://lakelimerick.com/event/executive-committee-meeting-2/2031-02-13/
LOCATION:Virtual and Crow’s Nest\, 790 East Saint Andrews\, Shelton\, WA\, 98584\, United States
CATEGORIES:BoD Meetings
END:VEVENT
BEGIN:VEVENT
DTSTART;TZID=America/Los_Angeles:20310214T090000
DTEND;TZID=America/Los_Angeles:20310214T100000
DTSTAMP:20260425T154203
CREATED:20260424T201354Z
LAST-MODIFIED:20260424T201354Z
UID:10007495-1928826000-1928829600@lakelimerick.com
SUMMARY:Office Meeting
DESCRIPTION:
URL:https://lakelimerick.com/event/office-meeting/2031-02-14/
LOCATION:The Crows Nest\, 790 E Saint Andrews Drive\, Shelton\, WA\, 98584\, United States
CATEGORIES:Staff
END:VEVENT
BEGIN:VEVENT
DTSTART;TZID=America/Los_Angeles:20310214T100000
DTEND;TZID=America/Los_Angeles:20310214T110000
DTSTAMP:20260425T154203
CREATED:20260424T161730Z
LAST-MODIFIED:20260424T161730Z
UID:10006861-1928829600-1928833200@lakelimerick.com
SUMMARY:General Manager (Meeting)
DESCRIPTION:
URL:https://lakelimerick.com/event/general-manager-meeting-2/2031-02-14/
LOCATION:The Crows Nest\, 790 E Saint Andrews Drive\, Shelton\, WA\, 98584\, United States
CATEGORIES:Staff
END:VEVENT
BEGIN:VEVENT
DTSTART;TZID=America/Los_Angeles:20310215T090000
DTEND;TZID=America/Los_Angeles:20310215T113000
DTSTAMP:20260425T154203
CREATED:20260416T031026Z
LAST-MODIFIED:20260416T031026Z
UID:10005861-1928912400-1928921400@lakelimerick.com
SUMMARY:Board of Director's Meeting (Hybrid)
DESCRIPTION:Board of Directors Meeting\nBoard Meeting Agenda \nTime:  9AM-12PM \nLocation:  The Great Hall \nZoom Link: Link  \nMeeting ID: 893 7542 8274 \n Passcode: 208260
URL:https://lakelimerick.com/event/2375-3-3/2031-02-15/
LOCATION:The Great Hall\, 790 E St Andrews Drive\, Shelton\, WA\, 98584\, United States
CATEGORIES:BoD Meetings
END:VEVENT
BEGIN:VEVENT
DTSTART;TZID=America/Los_Angeles:20310215T113000
DTEND;TZID=America/Los_Angeles:20310215T140000
DTSTAMP:20260425T154203
CREATED:20251202T015134Z
LAST-MODIFIED:20251202T015134Z
UID:10005927-1928921400-1928930400@lakelimerick.com
SUMMARY:Board Meeting (Closed Session)
DESCRIPTION:
URL:https://lakelimerick.com/event/board-meeting-closed-session-2/2031-02-15/
LOCATION:Great Hall & Crow’s Nest\, 790 E Saint Andrews Drive\, Shelton\, WA\, 98584\, United States
CATEGORIES:BoD Meetings
END:VEVENT
BEGIN:VEVENT
DTSTART;TZID=America/Los_Angeles:20310218T090000
DTEND;TZID=America/Los_Angeles:20310218T100000
DTSTAMP:20260425T154203
CREATED:20260424T201354Z
LAST-MODIFIED:20260424T201354Z
UID:10007496-1929171600-1929175200@lakelimerick.com
SUMMARY:Office Meeting
DESCRIPTION:
URL:https://lakelimerick.com/event/office-meeting/2031-02-18/
LOCATION:The Crows Nest\, 790 E Saint Andrews Drive\, Shelton\, WA\, 98584\, United States
CATEGORIES:Staff
END:VEVENT
BEGIN:VEVENT
DTSTART;TZID=America/Los_Angeles:20310218T100000
DTEND;TZID=America/Los_Angeles:20310218T110000
DTSTAMP:20260425T154203
CREATED:20260424T161730Z
LAST-MODIFIED:20260424T161730Z
UID:10006862-1929175200-1929178800@lakelimerick.com
SUMMARY:General Manager (Meeting)
DESCRIPTION:
URL:https://lakelimerick.com/event/general-manager-meeting-2/2031-02-18/
LOCATION:The Crows Nest\, 790 E Saint Andrews Drive\, Shelton\, WA\, 98584\, United States
CATEGORIES:Staff
END:VEVENT
BEGIN:VEVENT
DTSTART;TZID=America/Los_Angeles:20310218T120000
DTEND;TZID=America/Los_Angeles:20310218T130000
DTSTAMP:20260425T154203
CREATED:20260424T201707Z
LAST-MODIFIED:20260424T201707Z
UID:10007766-1929182400-1929186000@lakelimerick.com
SUMMARY:Office Meeting
DESCRIPTION:
URL:https://lakelimerick.com/event/office-meeting-2/2031-02-18/
LOCATION:The Crows Nest\, 790 E Saint Andrews Drive\, Shelton\, WA\, 98584\, United States
CATEGORIES:Staff
END:VEVENT
BEGIN:VEVENT
DTSTART;TZID=America/Los_Angeles:20310219T180000
DTEND;TZID=America/Los_Angeles:20310219T210000
DTSTAMP:20260425T154203
CREATED:20260416T162607Z
LAST-MODIFIED:20260416T162956Z
UID:10006350-1929290400-1929301200@lakelimerick.com
SUMMARY:Community Studio Time
DESCRIPTION:Bring a portable Art/Craft project.\nConnect with like-minded creatives and enjoy\nfood and beverage from The Inn Restaurant/Blarney Room. \nEvery Wednesday \nThe Great Hall \n6 pm – 9 pm \n  \n 
URL:https://lakelimerick.com/event/community-studio-time-2-2-2-2/2031-02-19/
LOCATION:The Great Hall\, 790 E St Andrews Drive\, Shelton\, WA\, 98584\, United States
CATEGORIES:Community Events
END:VEVENT
BEGIN:VEVENT
DTSTART;TZID=America/Los_Angeles:20310221T090000
DTEND;TZID=America/Los_Angeles:20310221T100000
DTSTAMP:20260425T154203
CREATED:20260424T201354Z
LAST-MODIFIED:20260424T201354Z
UID:10007497-1929430800-1929434400@lakelimerick.com
SUMMARY:Office Meeting
DESCRIPTION:
URL:https://lakelimerick.com/event/office-meeting/2031-02-21/
LOCATION:The Crows Nest\, 790 E Saint Andrews Drive\, Shelton\, WA\, 98584\, United States
CATEGORIES:Staff
END:VEVENT
BEGIN:VEVENT
DTSTART;TZID=America/Los_Angeles:20310221T100000
DTEND;TZID=America/Los_Angeles:20310221T110000
DTSTAMP:20260425T154203
CREATED:20260424T161730Z
LAST-MODIFIED:20260424T161730Z
UID:10006863-1929434400-1929438000@lakelimerick.com
SUMMARY:General Manager (Meeting)
DESCRIPTION:
URL:https://lakelimerick.com/event/general-manager-meeting-2/2031-02-21/
LOCATION:The Crows Nest\, 790 E Saint Andrews Drive\, Shelton\, WA\, 98584\, United States
CATEGORIES:Staff
END:VEVENT
BEGIN:VEVENT
DTSTART;TZID=America/Los_Angeles:20310225T090000
DTEND;TZID=America/Los_Angeles:20310225T100000
DTSTAMP:20260425T154203
CREATED:20260424T201354Z
LAST-MODIFIED:20260424T201354Z
UID:10007498-1929776400-1929780000@lakelimerick.com
SUMMARY:Office Meeting
DESCRIPTION:
URL:https://lakelimerick.com/event/office-meeting/2031-02-25/
LOCATION:The Crows Nest\, 790 E Saint Andrews Drive\, Shelton\, WA\, 98584\, United States
CATEGORIES:Staff
END:VEVENT
END:VCALENDAR