BEGIN:VCALENDAR
VERSION:2.0
PRODID:-//Lake Limerick Country Club - ECPv6.15.20//NONSGML v1.0//EN
CALSCALE:GREGORIAN
METHOD:PUBLISH
X-WR-CALNAME:Lake Limerick Country Club
X-ORIGINAL-URL:https://lakelimerick.com
X-WR-CALDESC:Events for Lake Limerick Country Club
REFRESH-INTERVAL;VALUE=DURATION:PT1H
X-Robots-Tag:noindex
X-PUBLISHED-TTL:PT1H
BEGIN:VTIMEZONE
TZID:America/Los_Angeles
BEGIN:DAYLIGHT
TZOFFSETFROM:-0800
TZOFFSETTO:-0700
TZNAME:PDT
DTSTART:20260308T100000
END:DAYLIGHT
BEGIN:STANDARD
TZOFFSETFROM:-0700
TZOFFSETTO:-0800
TZNAME:PST
DTSTART:20261101T090000
END:STANDARD
BEGIN:DAYLIGHT
TZOFFSETFROM:-0800
TZOFFSETTO:-0700
TZNAME:PDT
DTSTART:20270314T100000
END:DAYLIGHT
BEGIN:STANDARD
TZOFFSETFROM:-0700
TZOFFSETTO:-0800
TZNAME:PST
DTSTART:20271107T090000
END:STANDARD
BEGIN:DAYLIGHT
TZOFFSETFROM:-0800
TZOFFSETTO:-0700
TZNAME:PDT
DTSTART:20280312T100000
END:DAYLIGHT
BEGIN:STANDARD
TZOFFSETFROM:-0700
TZOFFSETTO:-0800
TZNAME:PST
DTSTART:20281105T090000
END:STANDARD
END:VTIMEZONE
BEGIN:VEVENT
DTSTART;TZID=America/Los_Angeles:20270924T083000
DTEND;TZID=America/Los_Angeles:20270924T093000
DTSTAMP:20260425T040412
CREATED:20251109T165614Z
LAST-MODIFIED:20251109T165615Z
UID:10000601-1821774600-1821778200@lakelimerick.com
SUMMARY:Exercise Group
DESCRIPTION:Join the exercise group at 8:30 am on Monday\, Wednesday and Friday. \nNo charge\nJust bring your own mat and hand weights. \n \n\nThe Lake Limerick Exercise Class is for men and women.  It is held in the Great Hall of the Lake Limerick Inn.\nThe class duration is one hour\, starting at 8:30 am on Mondays\, Wednesdays\, and Fridays (excluding holidays).  Participants are encouraged to arrive at 8:15 to set up.  You are not required to make it to all classes – join when you can.\nThe class is an audio exercise routine and can be adapted for every level.  The class is not led by a trained fitness professional.  This class is for the community members who wish to improve and maintain their level of fitness and have a little fun at the same time.\nParticipants are encouraged to modify exercise routines according to ability and fitness capabilities.\nExercise equipment is not furnished.  Weights\, a mat\, a bench step are recommended.  Bring your own and take it with you when done.\nChairs are available for participants who do not have the ability to participate in the floor routines.\nContact class coordinator\, Robyn LaRoche with any questions or concerns.
URL:https://lakelimerick.com/event/exercise-group-2-2/2027-09-24/
LOCATION:The Great Hall\, 790 E St Andrews Drive\, Shelton\, WA\, 98584\, United States
CATEGORIES:Community Events
ORGANIZER;CN="Robyn LaRoche":MAILTO:rllaroche@yahoo.com
END:VEVENT
BEGIN:VEVENT
DTSTART;TZID=America/Los_Angeles:20270924T090000
DTEND;TZID=America/Los_Angeles:20270924T100000
DTSTAMP:20260425T040412
CREATED:20260424T201354Z
LAST-MODIFIED:20260424T201354Z
UID:10007141-1821776400-1821780000@lakelimerick.com
SUMMARY:Office Meeting
DESCRIPTION:
URL:https://lakelimerick.com/event/office-meeting/2027-09-24/
LOCATION:The Crows Nest\, 790 E Saint Andrews Drive\, Shelton\, WA\, 98584\, United States
CATEGORIES:Staff
END:VEVENT
BEGIN:VEVENT
DTSTART;TZID=America/Los_Angeles:20270924T100000
DTEND;TZID=America/Los_Angeles:20270924T110000
DTSTAMP:20260425T040412
CREATED:20260424T161730Z
LAST-MODIFIED:20260424T161730Z
UID:10006507-1821780000-1821783600@lakelimerick.com
SUMMARY:General Manager (Meeting)
DESCRIPTION:
URL:https://lakelimerick.com/event/general-manager-meeting-2/2027-09-24/
LOCATION:The Crows Nest\, 790 E Saint Andrews Drive\, Shelton\, WA\, 98584\, United States
CATEGORIES:Staff
END:VEVENT
BEGIN:VEVENT
DTSTART;TZID=America/Los_Angeles:20270925T090000
DTEND;TZID=America/Los_Angeles:20270925T130000
DTSTAMP:20260425T040412
CREATED:20260326T165545Z
LAST-MODIFIED:20260326T165730Z
UID:10006244-1821862800-1821877200@lakelimerick.com
SUMMARY:Water Committee Meeting (Hybrid)
DESCRIPTION:Water System Utility Committee Meeting \n \nCrow’s Nest or Zoom \nZoom Link \nMeeting ID:  882 7511 6055 \nPasscode:  822 423
URL:https://lakelimerick.com/event/water-committee-meeting-hybrid-2/2027-09-25/
LOCATION:The Blarney Room (Lounge)\, 790 E Saint Andrews Drive\, Shelton\, WA\, 98584\, United States
CATEGORIES:Committee Meetings
END:VEVENT
BEGIN:VEVENT
DTSTART;TZID=America/Los_Angeles:20270927T083000
DTEND;TZID=America/Los_Angeles:20270927T093000
DTSTAMP:20260425T040412
CREATED:20251109T165614Z
LAST-MODIFIED:20251109T165615Z
UID:10000602-1822033800-1822037400@lakelimerick.com
SUMMARY:Exercise Group
DESCRIPTION:Join the exercise group at 8:30 am on Monday\, Wednesday and Friday. \nNo charge\nJust bring your own mat and hand weights. \n \n\nThe Lake Limerick Exercise Class is for men and women.  It is held in the Great Hall of the Lake Limerick Inn.\nThe class duration is one hour\, starting at 8:30 am on Mondays\, Wednesdays\, and Fridays (excluding holidays).  Participants are encouraged to arrive at 8:15 to set up.  You are not required to make it to all classes – join when you can.\nThe class is an audio exercise routine and can be adapted for every level.  The class is not led by a trained fitness professional.  This class is for the community members who wish to improve and maintain their level of fitness and have a little fun at the same time.\nParticipants are encouraged to modify exercise routines according to ability and fitness capabilities.\nExercise equipment is not furnished.  Weights\, a mat\, a bench step are recommended.  Bring your own and take it with you when done.\nChairs are available for participants who do not have the ability to participate in the floor routines.\nContact class coordinator\, Robyn LaRoche with any questions or concerns.
URL:https://lakelimerick.com/event/exercise-group-2-2/2027-09-27/
LOCATION:The Great Hall\, 790 E St Andrews Drive\, Shelton\, WA\, 98584\, United States
CATEGORIES:Community Events
ORGANIZER;CN="Robyn LaRoche":MAILTO:rllaroche@yahoo.com
END:VEVENT
BEGIN:VEVENT
DTSTART;TZID=America/Los_Angeles:20270928T090000
DTEND;TZID=America/Los_Angeles:20270928T100000
DTSTAMP:20260425T040412
CREATED:20260424T201354Z
LAST-MODIFIED:20260424T201354Z
UID:10007142-1822122000-1822125600@lakelimerick.com
SUMMARY:Office Meeting
DESCRIPTION:
URL:https://lakelimerick.com/event/office-meeting/2027-09-28/
LOCATION:The Crows Nest\, 790 E Saint Andrews Drive\, Shelton\, WA\, 98584\, United States
CATEGORIES:Staff
END:VEVENT
BEGIN:VEVENT
DTSTART;TZID=America/Los_Angeles:20270928T100000
DTEND;TZID=America/Los_Angeles:20270928T110000
DTSTAMP:20260425T040412
CREATED:20260424T161730Z
LAST-MODIFIED:20260424T161730Z
UID:10006508-1822125600-1822129200@lakelimerick.com
SUMMARY:General Manager (Meeting)
DESCRIPTION:
URL:https://lakelimerick.com/event/general-manager-meeting-2/2027-09-28/
LOCATION:The Crows Nest\, 790 E Saint Andrews Drive\, Shelton\, WA\, 98584\, United States
CATEGORIES:Staff
END:VEVENT
BEGIN:VEVENT
DTSTART;TZID=America/Los_Angeles:20270928T120000
DTEND;TZID=America/Los_Angeles:20270928T130000
DTSTAMP:20260425T040412
CREATED:20260424T201707Z
LAST-MODIFIED:20260424T201707Z
UID:10007589-1822132800-1822136400@lakelimerick.com
SUMMARY:Office Meeting
DESCRIPTION:
URL:https://lakelimerick.com/event/office-meeting-2/2027-09-28/
LOCATION:The Crows Nest\, 790 E Saint Andrews Drive\, Shelton\, WA\, 98584\, United States
CATEGORIES:Staff
END:VEVENT
BEGIN:VEVENT
DTSTART;TZID=America/Los_Angeles:20270929T083000
DTEND;TZID=America/Los_Angeles:20270929T093000
DTSTAMP:20260425T040412
CREATED:20251109T165614Z
LAST-MODIFIED:20251109T165615Z
UID:10000603-1822206600-1822210200@lakelimerick.com
SUMMARY:Exercise Group
DESCRIPTION:Join the exercise group at 8:30 am on Monday\, Wednesday and Friday. \nNo charge\nJust bring your own mat and hand weights. \n \n\nThe Lake Limerick Exercise Class is for men and women.  It is held in the Great Hall of the Lake Limerick Inn.\nThe class duration is one hour\, starting at 8:30 am on Mondays\, Wednesdays\, and Fridays (excluding holidays).  Participants are encouraged to arrive at 8:15 to set up.  You are not required to make it to all classes – join when you can.\nThe class is an audio exercise routine and can be adapted for every level.  The class is not led by a trained fitness professional.  This class is for the community members who wish to improve and maintain their level of fitness and have a little fun at the same time.\nParticipants are encouraged to modify exercise routines according to ability and fitness capabilities.\nExercise equipment is not furnished.  Weights\, a mat\, a bench step are recommended.  Bring your own and take it with you when done.\nChairs are available for participants who do not have the ability to participate in the floor routines.\nContact class coordinator\, Robyn LaRoche with any questions or concerns.
URL:https://lakelimerick.com/event/exercise-group-2-2/2027-09-29/
LOCATION:The Great Hall\, 790 E St Andrews Drive\, Shelton\, WA\, 98584\, United States
CATEGORIES:Community Events
ORGANIZER;CN="Robyn LaRoche":MAILTO:rllaroche@yahoo.com
END:VEVENT
BEGIN:VEVENT
DTSTART;TZID=America/Los_Angeles:20270929T180000
DTEND;TZID=America/Los_Angeles:20270929T210000
DTSTAMP:20260425T040412
CREATED:20260416T162607Z
LAST-MODIFIED:20260416T162956Z
UID:10000117-1822240800-1822251600@lakelimerick.com
SUMMARY:Community Studio Time
DESCRIPTION:Bring a portable Art/Craft project.\nConnect with like-minded creatives and enjoy\nfood and beverage from The Inn Restaurant/Blarney Room. \nEvery Wednesday \nThe Great Hall \n6 pm – 9 pm \n  \n 
URL:https://lakelimerick.com/event/community-studio-time-2-2-2-2/2027-09-29/
LOCATION:The Great Hall\, 790 E St Andrews Drive\, Shelton\, WA\, 98584\, United States
CATEGORIES:Community Events
END:VEVENT
BEGIN:VEVENT
DTSTART;TZID=America/Los_Angeles:20271001T083000
DTEND;TZID=America/Los_Angeles:20271001T093000
DTSTAMP:20260425T040412
CREATED:20251109T165614Z
LAST-MODIFIED:20251109T165615Z
UID:10000604-1822379400-1822383000@lakelimerick.com
SUMMARY:Exercise Group
DESCRIPTION:Join the exercise group at 8:30 am on Monday\, Wednesday and Friday. \nNo charge\nJust bring your own mat and hand weights. \n \n\nThe Lake Limerick Exercise Class is for men and women.  It is held in the Great Hall of the Lake Limerick Inn.\nThe class duration is one hour\, starting at 8:30 am on Mondays\, Wednesdays\, and Fridays (excluding holidays).  Participants are encouraged to arrive at 8:15 to set up.  You are not required to make it to all classes – join when you can.\nThe class is an audio exercise routine and can be adapted for every level.  The class is not led by a trained fitness professional.  This class is for the community members who wish to improve and maintain their level of fitness and have a little fun at the same time.\nParticipants are encouraged to modify exercise routines according to ability and fitness capabilities.\nExercise equipment is not furnished.  Weights\, a mat\, a bench step are recommended.  Bring your own and take it with you when done.\nChairs are available for participants who do not have the ability to participate in the floor routines.\nContact class coordinator\, Robyn LaRoche with any questions or concerns.
URL:https://lakelimerick.com/event/exercise-group-2-2/2027-10-01/
LOCATION:The Great Hall\, 790 E St Andrews Drive\, Shelton\, WA\, 98584\, United States
CATEGORIES:Community Events
ORGANIZER;CN="Robyn LaRoche":MAILTO:rllaroche@yahoo.com
END:VEVENT
BEGIN:VEVENT
DTSTART;TZID=America/Los_Angeles:20271001T090000
DTEND;TZID=America/Los_Angeles:20271001T100000
DTSTAMP:20260425T040412
CREATED:20260424T201354Z
LAST-MODIFIED:20260424T201354Z
UID:10007143-1822381200-1822384800@lakelimerick.com
SUMMARY:Office Meeting
DESCRIPTION:
URL:https://lakelimerick.com/event/office-meeting/2027-10-01/
LOCATION:The Crows Nest\, 790 E Saint Andrews Drive\, Shelton\, WA\, 98584\, United States
CATEGORIES:Staff
END:VEVENT
BEGIN:VEVENT
DTSTART;TZID=America/Los_Angeles:20271001T100000
DTEND;TZID=America/Los_Angeles:20271001T110000
DTSTAMP:20260425T040412
CREATED:20260424T161730Z
LAST-MODIFIED:20260424T161730Z
UID:10006509-1822384800-1822388400@lakelimerick.com
SUMMARY:General Manager (Meeting)
DESCRIPTION:
URL:https://lakelimerick.com/event/general-manager-meeting-2/2027-10-01/
LOCATION:The Crows Nest\, 790 E Saint Andrews Drive\, Shelton\, WA\, 98584\, United States
CATEGORIES:Staff
END:VEVENT
BEGIN:VEVENT
DTSTART;TZID=America/Los_Angeles:20271002T093000
DTEND;TZID=America/Los_Angeles:20271002T130000
DTSTAMP:20260425T040412
CREATED:20250730T211155Z
LAST-MODIFIED:20251025T003719Z
UID:10001075-1822469400-1822482000@lakelimerick.com
SUMMARY:Lakes\, Dams\, & Parks Meeting
DESCRIPTION:
URL:https://lakelimerick.com/event/lakes-dams-parks-meeting/2027-10-02/
LOCATION:The Crows Nest\, 790 E Saint Andrews Drive\, Shelton\, WA\, 98584\, United States
CATEGORIES:Committee Meetings
END:VEVENT
BEGIN:VEVENT
DTSTART;TZID=America/Los_Angeles:20271004T083000
DTEND;TZID=America/Los_Angeles:20271004T093000
DTSTAMP:20260425T040412
CREATED:20251109T165614Z
LAST-MODIFIED:20251109T165615Z
UID:10000605-1822638600-1822642200@lakelimerick.com
SUMMARY:Exercise Group
DESCRIPTION:Join the exercise group at 8:30 am on Monday\, Wednesday and Friday. \nNo charge\nJust bring your own mat and hand weights. \n \n\nThe Lake Limerick Exercise Class is for men and women.  It is held in the Great Hall of the Lake Limerick Inn.\nThe class duration is one hour\, starting at 8:30 am on Mondays\, Wednesdays\, and Fridays (excluding holidays).  Participants are encouraged to arrive at 8:15 to set up.  You are not required to make it to all classes – join when you can.\nThe class is an audio exercise routine and can be adapted for every level.  The class is not led by a trained fitness professional.  This class is for the community members who wish to improve and maintain their level of fitness and have a little fun at the same time.\nParticipants are encouraged to modify exercise routines according to ability and fitness capabilities.\nExercise equipment is not furnished.  Weights\, a mat\, a bench step are recommended.  Bring your own and take it with you when done.\nChairs are available for participants who do not have the ability to participate in the floor routines.\nContact class coordinator\, Robyn LaRoche with any questions or concerns.
URL:https://lakelimerick.com/event/exercise-group-2-2/2027-10-04/
LOCATION:The Great Hall\, 790 E St Andrews Drive\, Shelton\, WA\, 98584\, United States
CATEGORIES:Community Events
ORGANIZER;CN="Robyn LaRoche":MAILTO:rllaroche@yahoo.com
END:VEVENT
BEGIN:VEVENT
DTSTART;TZID=America/Los_Angeles:20271004T090000
DTEND;TZID=America/Los_Angeles:20271004T130000
DTSTAMP:20260425T040412
CREATED:20260123T172931Z
LAST-MODIFIED:20260123T174201Z
UID:10005659-1822640400-1822654800@lakelimerick.com
SUMMARY:Water Committee
DESCRIPTION:  \nWater Committee Meeting Agenda \n \n9 am – 1 pm\nLocation: The Blarney Room or Zoom \nZoom Link Below \nMeeting ID: 882 7511 6055 \nPasscode: 822423
URL:https://lakelimerick.com/event/water-committee-2/2027-10-04/
LOCATION:The Blarney Room (Lounge)\, 790 E Saint Andrews Drive\, Shelton\, WA\, 98584\, United States
CATEGORIES:Committee Meetings
END:VEVENT
BEGIN:VEVENT
DTSTART;TZID=America/Los_Angeles:20271004T100000
DTEND;TZID=America/Los_Angeles:20271004T120000
DTSTAMP:20260425T040412
CREATED:20250730T212451Z
LAST-MODIFIED:20250730T212911Z
UID:10001197-1822644000-1822651200@lakelimerick.com
SUMMARY:Compliance Committee Meeting
DESCRIPTION:Time:  10am-12pm \nLocation (HYBRID):  Crow’s Nest or Zoom \nZoom Link: Zoom \nMeeting ID: 838 4345 1516 \nPasscode: 011276
URL:https://lakelimerick.com/event/compliance-committee-meeting/2027-10-04/
LOCATION:The Crows Nest\, 790 E Saint Andrews Drive\, Shelton\, WA\, 98584\, United States
CATEGORIES:Committee Meetings
END:VEVENT
BEGIN:VEVENT
DTSTART;TZID=America/Los_Angeles:20271005T090000
DTEND;TZID=America/Los_Angeles:20271005T100000
DTSTAMP:20260425T040412
CREATED:20260424T201354Z
LAST-MODIFIED:20260424T201354Z
UID:10007144-1822726800-1822730400@lakelimerick.com
SUMMARY:Office Meeting
DESCRIPTION:
URL:https://lakelimerick.com/event/office-meeting/2027-10-05/
LOCATION:The Crows Nest\, 790 E Saint Andrews Drive\, Shelton\, WA\, 98584\, United States
CATEGORIES:Staff
END:VEVENT
BEGIN:VEVENT
DTSTART;TZID=America/Los_Angeles:20271005T100000
DTEND;TZID=America/Los_Angeles:20271005T110000
DTSTAMP:20260425T040412
CREATED:20260424T161730Z
LAST-MODIFIED:20260424T161730Z
UID:10006510-1822730400-1822734000@lakelimerick.com
SUMMARY:General Manager (Meeting)
DESCRIPTION:
URL:https://lakelimerick.com/event/general-manager-meeting-2/2027-10-05/
LOCATION:The Crows Nest\, 790 E Saint Andrews Drive\, Shelton\, WA\, 98584\, United States
CATEGORIES:Staff
END:VEVENT
BEGIN:VEVENT
DTSTART;TZID=America/Los_Angeles:20271005T120000
DTEND;TZID=America/Los_Angeles:20271005T130000
DTSTAMP:20260425T040412
CREATED:20260424T201707Z
LAST-MODIFIED:20260424T201707Z
UID:10007590-1822737600-1822741200@lakelimerick.com
SUMMARY:Office Meeting
DESCRIPTION:
URL:https://lakelimerick.com/event/office-meeting-2/2027-10-05/
LOCATION:The Crows Nest\, 790 E Saint Andrews Drive\, Shelton\, WA\, 98584\, United States
CATEGORIES:Staff
END:VEVENT
BEGIN:VEVENT
DTSTART;TZID=America/Los_Angeles:20271005T133000
DTEND;TZID=America/Los_Angeles:20271005T153000
DTSTAMP:20260425T040412
CREATED:20250730T213312Z
LAST-MODIFIED:20250803T083113Z
UID:10001257-1822743000-1822750200@lakelimerick.com
SUMMARY:Greens Committee Meeting
DESCRIPTION:
URL:https://lakelimerick.com/event/greens-committee-meeting/2027-10-05/
LOCATION:LLCC Pro Shop\, 811 E Saint Andrews Drive\, Shelton\, WA\, 98584\, United States
CATEGORIES:Committee Meetings
END:VEVENT
BEGIN:VEVENT
DTSTART;TZID=America/Los_Angeles:20271006T083000
DTEND;TZID=America/Los_Angeles:20271006T093000
DTSTAMP:20260425T040412
CREATED:20251109T165614Z
LAST-MODIFIED:20251109T165615Z
UID:10000606-1822811400-1822815000@lakelimerick.com
SUMMARY:Exercise Group
DESCRIPTION:Join the exercise group at 8:30 am on Monday\, Wednesday and Friday. \nNo charge\nJust bring your own mat and hand weights. \n \n\nThe Lake Limerick Exercise Class is for men and women.  It is held in the Great Hall of the Lake Limerick Inn.\nThe class duration is one hour\, starting at 8:30 am on Mondays\, Wednesdays\, and Fridays (excluding holidays).  Participants are encouraged to arrive at 8:15 to set up.  You are not required to make it to all classes – join when you can.\nThe class is an audio exercise routine and can be adapted for every level.  The class is not led by a trained fitness professional.  This class is for the community members who wish to improve and maintain their level of fitness and have a little fun at the same time.\nParticipants are encouraged to modify exercise routines according to ability and fitness capabilities.\nExercise equipment is not furnished.  Weights\, a mat\, a bench step are recommended.  Bring your own and take it with you when done.\nChairs are available for participants who do not have the ability to participate in the floor routines.\nContact class coordinator\, Robyn LaRoche with any questions or concerns.
URL:https://lakelimerick.com/event/exercise-group-2-2/2027-10-06/
LOCATION:The Great Hall\, 790 E St Andrews Drive\, Shelton\, WA\, 98584\, United States
CATEGORIES:Community Events
ORGANIZER;CN="Robyn LaRoche":MAILTO:rllaroche@yahoo.com
END:VEVENT
BEGIN:VEVENT
DTSTART;TZID=America/Los_Angeles:20271006T143000
DTEND;TZID=America/Los_Angeles:20271006T163000
DTSTAMP:20260425T040412
CREATED:20250730T214820Z
LAST-MODIFIED:20250730T214820Z
UID:10001638-1822833000-1822840200@lakelimerick.com
SUMMARY:Inn Committee
DESCRIPTION:Time:  2:30pm-4:30pm \nLocation:  Crow’s Nest
URL:https://lakelimerick.com/event/inn-committee/2027-10-06/
LOCATION:The Crows Nest\, 790 E Saint Andrews Drive\, Shelton\, WA\, 98584\, United States
CATEGORIES:Committee Meetings
END:VEVENT
BEGIN:VEVENT
DTSTART;TZID=America/Los_Angeles:20271006T143000
DTEND;TZID=America/Los_Angeles:20271006T163000
DTSTAMP:20260425T040412
CREATED:20260330T160430Z
LAST-MODIFIED:20260330T160430Z
UID:10006274-1822833000-1822840200@lakelimerick.com
SUMMARY:Inn Committee Meeting
DESCRIPTION:Meets the first Wednesday of each month. \nTime:  2:30pm – 4:30pm \nGreat Hall
URL:https://lakelimerick.com/event/inn-committee-meeting/2027-10-06/
LOCATION:The Great Hall\, 790 E St Andrews Drive\, Shelton\, WA\, 98584\, United States
CATEGORIES:Committee Meetings
END:VEVENT
BEGIN:VEVENT
DTSTART;TZID=America/Los_Angeles:20271006T180000
DTEND;TZID=America/Los_Angeles:20271006T210000
DTSTAMP:20260425T040412
CREATED:20260416T162607Z
LAST-MODIFIED:20260416T162956Z
UID:10000118-1822845600-1822856400@lakelimerick.com
SUMMARY:Community Studio Time
DESCRIPTION:Bring a portable Art/Craft project.\nConnect with like-minded creatives and enjoy\nfood and beverage from The Inn Restaurant/Blarney Room. \nEvery Wednesday \nThe Great Hall \n6 pm – 9 pm \n  \n 
URL:https://lakelimerick.com/event/community-studio-time-2-2-2-2/2027-10-06/
LOCATION:The Great Hall\, 790 E St Andrews Drive\, Shelton\, WA\, 98584\, United States
CATEGORIES:Community Events
END:VEVENT
BEGIN:VEVENT
DTSTART;TZID=America/Los_Angeles:20271007T113000
DTEND;TZID=America/Los_Angeles:20271007T130000
DTSTAMP:20260425T040412
CREATED:20260112T201546Z
LAST-MODIFIED:20260112T201546Z
UID:10005114-1822908600-1822914000@lakelimerick.com
SUMMARY:Park Strategic Planning Sub-Team
DESCRIPTION:
URL:https://lakelimerick.com/event/park-strategic-planning-sub-team/2027-10-07/
LOCATION:The Crows Nest\, 790 E Saint Andrews Drive\, Shelton\, WA\, 98584\, United States
CATEGORIES:Committee Meetings
END:VEVENT
BEGIN:VEVENT
DTSTART;TZID=America/Los_Angeles:20271007T153000
DTEND;TZID=America/Los_Angeles:20271007T163000
DTSTAMP:20260425T040412
CREATED:20260424T172735Z
LAST-MODIFIED:20260424T172735Z
UID:10006897-1822923000-1822926600@lakelimerick.com
SUMMARY:Special Board Meeting
DESCRIPTION:2026 Special Board Meetings Agenda \nThis meeting takes place on the second Thursday of each month at 3:30 PM in the Crow’s Nest. \nMeeting ID: 820 7716 5853\nPasscode: 438634\n 
URL:https://lakelimerick.com/event/executive-committee-meeting-2-4/2027-10-07/
LOCATION:Virtual and Crow’s Nest\, 790 East Saint Andrews\, Shelton\, WA\, 98584\, United States
CATEGORIES:BoD Meetings
END:VEVENT
BEGIN:VEVENT
DTSTART;TZID=America/Los_Angeles:20271007T180000
DTEND;TZID=America/Los_Angeles:20271007T190000
DTSTAMP:20260425T040412
CREATED:20250730T214241Z
LAST-MODIFIED:20260129T202438Z
UID:10001578-1822932000-1822935600@lakelimerick.com
SUMMARY:Greenbelts & Trails Committee
DESCRIPTION:Meets 1st Thursday of each month at 6:00pm in the Crow’s Nest (Inn Upstairs) \nOur focus is to work on being more intentional with the appearance\, use\, & upkeep of our greenbelt areas and entranceways. Work to mitigate safety concerns.  Provide opportunities to volunteer on the committee\, and or\, in helping adopt various areas for upkeep and neighborhood watch as plans progress.
URL:https://lakelimerick.com/event/greenbelts-trees-trails-committee/2027-10-07/
LOCATION:The Crows Nest\, 790 E Saint Andrews Drive\, Shelton\, WA\, 98584\, United States
CATEGORIES:Committee Meetings
END:VEVENT
BEGIN:VEVENT
DTSTART;TZID=America/Los_Angeles:20271008T083000
DTEND;TZID=America/Los_Angeles:20271008T093000
DTSTAMP:20260425T040412
CREATED:20251109T165614Z
LAST-MODIFIED:20251109T165615Z
UID:10000607-1822984200-1822987800@lakelimerick.com
SUMMARY:Exercise Group
DESCRIPTION:Join the exercise group at 8:30 am on Monday\, Wednesday and Friday. \nNo charge\nJust bring your own mat and hand weights. \n \n\nThe Lake Limerick Exercise Class is for men and women.  It is held in the Great Hall of the Lake Limerick Inn.\nThe class duration is one hour\, starting at 8:30 am on Mondays\, Wednesdays\, and Fridays (excluding holidays).  Participants are encouraged to arrive at 8:15 to set up.  You are not required to make it to all classes – join when you can.\nThe class is an audio exercise routine and can be adapted for every level.  The class is not led by a trained fitness professional.  This class is for the community members who wish to improve and maintain their level of fitness and have a little fun at the same time.\nParticipants are encouraged to modify exercise routines according to ability and fitness capabilities.\nExercise equipment is not furnished.  Weights\, a mat\, a bench step are recommended.  Bring your own and take it with you when done.\nChairs are available for participants who do not have the ability to participate in the floor routines.\nContact class coordinator\, Robyn LaRoche with any questions or concerns.
URL:https://lakelimerick.com/event/exercise-group-2-2/2027-10-08/
LOCATION:The Great Hall\, 790 E St Andrews Drive\, Shelton\, WA\, 98584\, United States
CATEGORIES:Community Events
ORGANIZER;CN="Robyn LaRoche":MAILTO:rllaroche@yahoo.com
END:VEVENT
BEGIN:VEVENT
DTSTART;TZID=America/Los_Angeles:20271008T090000
DTEND;TZID=America/Los_Angeles:20271008T100000
DTSTAMP:20260425T040412
CREATED:20260424T201354Z
LAST-MODIFIED:20260424T201354Z
UID:10007145-1822986000-1822989600@lakelimerick.com
SUMMARY:Office Meeting
DESCRIPTION:
URL:https://lakelimerick.com/event/office-meeting/2027-10-08/
LOCATION:The Crows Nest\, 790 E Saint Andrews Drive\, Shelton\, WA\, 98584\, United States
CATEGORIES:Staff
END:VEVENT
END:VCALENDAR