BEGIN:VCALENDAR
VERSION:2.0
PRODID:-//Lake Limerick Country Club - ECPv6.15.20//NONSGML v1.0//EN
CALSCALE:GREGORIAN
METHOD:PUBLISH
X-WR-CALNAME:Lake Limerick Country Club
X-ORIGINAL-URL:https://lakelimerick.com
X-WR-CALDESC:Events for Lake Limerick Country Club
REFRESH-INTERVAL;VALUE=DURATION:PT1H
X-Robots-Tag:noindex
X-PUBLISHED-TTL:PT1H
BEGIN:VTIMEZONE
TZID:America/Los_Angeles
BEGIN:DAYLIGHT
TZOFFSETFROM:-0800
TZOFFSETTO:-0700
TZNAME:PDT
DTSTART:20270314T100000
END:DAYLIGHT
BEGIN:STANDARD
TZOFFSETFROM:-0700
TZOFFSETTO:-0800
TZNAME:PST
DTSTART:20271107T090000
END:STANDARD
BEGIN:DAYLIGHT
TZOFFSETFROM:-0800
TZOFFSETTO:-0700
TZNAME:PDT
DTSTART:20280312T100000
END:DAYLIGHT
BEGIN:STANDARD
TZOFFSETFROM:-0700
TZOFFSETTO:-0800
TZNAME:PST
DTSTART:20281105T090000
END:STANDARD
BEGIN:DAYLIGHT
TZOFFSETFROM:-0800
TZOFFSETTO:-0700
TZNAME:PDT
DTSTART:20290311T100000
END:DAYLIGHT
BEGIN:STANDARD
TZOFFSETFROM:-0700
TZOFFSETTO:-0800
TZNAME:PST
DTSTART:20291104T090000
END:STANDARD
BEGIN:DAYLIGHT
TZOFFSETFROM:-0800
TZOFFSETTO:-0700
TZNAME:PDT
DTSTART:20300310T100000
END:DAYLIGHT
BEGIN:STANDARD
TZOFFSETFROM:-0700
TZOFFSETTO:-0800
TZNAME:PST
DTSTART:20301103T090000
END:STANDARD
END:VTIMEZONE
BEGIN:VEVENT
DTSTART;TZID=America/Los_Angeles:20281216T113000
DTEND;TZID=America/Los_Angeles:20281216T140000
DTSTAMP:20260425T040416
CREATED:20251202T015134Z
LAST-MODIFIED:20251202T015134Z
UID:10003702-1860579000-1860588000@lakelimerick.com
SUMMARY:Board Meeting (Closed Session)
DESCRIPTION:
URL:https://lakelimerick.com/event/board-meeting-closed-session-2/2028-12-16/
LOCATION:Great Hall & Crow’s Nest\, 790 E Saint Andrews Drive\, Shelton\, WA\, 98584\, United States
CATEGORIES:BoD Meetings
END:VEVENT
BEGIN:VEVENT
DTSTART;TZID=America/Los_Angeles:20281217T173000
DTEND;TZID=America/Los_Angeles:20281217T190000
DTSTAMP:20260425T040416
CREATED:20251010T073645Z
LAST-MODIFIED:20251010T073646Z
UID:10002883-1860687000-1860692400@lakelimerick.com
SUMMARY:Trivia Night
DESCRIPTION:In the Restaurant and Lounge!\nA reminder\, participants must be accompanied by a Lake Limerick Member. \n  \n 
URL:https://lakelimerick.com/event/trivia-night-3/2028-12-17/
LOCATION:Inn Restaurant and Blarney Room\, 790 E Saint Andrews Drive\, Shelton\, WA\, 98584\, United States
CATEGORIES:Community Events
ATTACH;FMTTYPE=image/jpeg:https://lakelimerick.com/wp-content/uploads/2025/07/istockphoto-1303554344-612x612-1.jpg
END:VEVENT
BEGIN:VEVENT
DTSTART;TZID=America/Los_Angeles:20281218T083000
DTEND;TZID=America/Los_Angeles:20281218T093000
DTSTAMP:20260425T040416
CREATED:20251109T165614Z
LAST-MODIFIED:20251109T165615Z
UID:10000794-1860741000-1860744600@lakelimerick.com
SUMMARY:Exercise Group
DESCRIPTION:Join the exercise group at 8:30 am on Monday\, Wednesday and Friday. \nNo charge\nJust bring your own mat and hand weights. \n \n\nThe Lake Limerick Exercise Class is for men and women.  It is held in the Great Hall of the Lake Limerick Inn.\nThe class duration is one hour\, starting at 8:30 am on Mondays\, Wednesdays\, and Fridays (excluding holidays).  Participants are encouraged to arrive at 8:15 to set up.  You are not required to make it to all classes – join when you can.\nThe class is an audio exercise routine and can be adapted for every level.  The class is not led by a trained fitness professional.  This class is for the community members who wish to improve and maintain their level of fitness and have a little fun at the same time.\nParticipants are encouraged to modify exercise routines according to ability and fitness capabilities.\nExercise equipment is not furnished.  Weights\, a mat\, a bench step are recommended.  Bring your own and take it with you when done.\nChairs are available for participants who do not have the ability to participate in the floor routines.\nContact class coordinator\, Robyn LaRoche with any questions or concerns.
URL:https://lakelimerick.com/event/exercise-group-2-2/2028-12-18/
LOCATION:The Great Hall\, 790 E St Andrews Drive\, Shelton\, WA\, 98584\, United States
CATEGORIES:Community Events
ORGANIZER;CN="Robyn LaRoche":MAILTO:rllaroche@yahoo.com
END:VEVENT
BEGIN:VEVENT
DTSTART;TZID=America/Los_Angeles:20281219T090000
DTEND;TZID=America/Los_Angeles:20281219T100000
DTSTAMP:20260425T040416
CREATED:20260424T201354Z
LAST-MODIFIED:20260424T201354Z
UID:10007270-1860829200-1860832800@lakelimerick.com
SUMMARY:Office Meeting
DESCRIPTION:
URL:https://lakelimerick.com/event/office-meeting/2028-12-19/
LOCATION:The Crows Nest\, 790 E Saint Andrews Drive\, Shelton\, WA\, 98584\, United States
CATEGORIES:Staff
END:VEVENT
BEGIN:VEVENT
DTSTART;TZID=America/Los_Angeles:20281219T100000
DTEND;TZID=America/Los_Angeles:20281219T110000
DTSTAMP:20260425T040416
CREATED:20260424T161730Z
LAST-MODIFIED:20260424T161730Z
UID:10006636-1860832800-1860836400@lakelimerick.com
SUMMARY:General Manager (Meeting)
DESCRIPTION:
URL:https://lakelimerick.com/event/general-manager-meeting-2/2028-12-19/
LOCATION:The Crows Nest\, 790 E Saint Andrews Drive\, Shelton\, WA\, 98584\, United States
CATEGORIES:Staff
END:VEVENT
BEGIN:VEVENT
DTSTART;TZID=America/Los_Angeles:20281219T120000
DTEND;TZID=America/Los_Angeles:20281219T130000
DTSTAMP:20260425T040416
CREATED:20260424T201707Z
LAST-MODIFIED:20260424T201707Z
UID:10007653-1860840000-1860843600@lakelimerick.com
SUMMARY:Office Meeting
DESCRIPTION:
URL:https://lakelimerick.com/event/office-meeting-2/2028-12-19/
LOCATION:The Crows Nest\, 790 E Saint Andrews Drive\, Shelton\, WA\, 98584\, United States
CATEGORIES:Staff
END:VEVENT
BEGIN:VEVENT
DTSTART;TZID=America/Los_Angeles:20281220T083000
DTEND;TZID=America/Los_Angeles:20281220T093000
DTSTAMP:20260425T040416
CREATED:20251109T165614Z
LAST-MODIFIED:20251109T165615Z
UID:10000795-1860913800-1860917400@lakelimerick.com
SUMMARY:Exercise Group
DESCRIPTION:Join the exercise group at 8:30 am on Monday\, Wednesday and Friday. \nNo charge\nJust bring your own mat and hand weights. \n \n\nThe Lake Limerick Exercise Class is for men and women.  It is held in the Great Hall of the Lake Limerick Inn.\nThe class duration is one hour\, starting at 8:30 am on Mondays\, Wednesdays\, and Fridays (excluding holidays).  Participants are encouraged to arrive at 8:15 to set up.  You are not required to make it to all classes – join when you can.\nThe class is an audio exercise routine and can be adapted for every level.  The class is not led by a trained fitness professional.  This class is for the community members who wish to improve and maintain their level of fitness and have a little fun at the same time.\nParticipants are encouraged to modify exercise routines according to ability and fitness capabilities.\nExercise equipment is not furnished.  Weights\, a mat\, a bench step are recommended.  Bring your own and take it with you when done.\nChairs are available for participants who do not have the ability to participate in the floor routines.\nContact class coordinator\, Robyn LaRoche with any questions or concerns.
URL:https://lakelimerick.com/event/exercise-group-2-2/2028-12-20/
LOCATION:The Great Hall\, 790 E St Andrews Drive\, Shelton\, WA\, 98584\, United States
CATEGORIES:Community Events
ORGANIZER;CN="Robyn LaRoche":MAILTO:rllaroche@yahoo.com
END:VEVENT
BEGIN:VEVENT
DTSTART;TZID=America/Los_Angeles:20281220T180000
DTEND;TZID=America/Los_Angeles:20281220T210000
DTSTAMP:20260425T040416
CREATED:20260416T162607Z
LAST-MODIFIED:20260416T162956Z
UID:10000181-1860948000-1860958800@lakelimerick.com
SUMMARY:Community Studio Time
DESCRIPTION:Bring a portable Art/Craft project.\nConnect with like-minded creatives and enjoy\nfood and beverage from The Inn Restaurant/Blarney Room. \nEvery Wednesday \nThe Great Hall \n6 pm – 9 pm \n  \n 
URL:https://lakelimerick.com/event/community-studio-time-2-2-2-2/2028-12-20/
LOCATION:The Great Hall\, 790 E St Andrews Drive\, Shelton\, WA\, 98584\, United States
CATEGORIES:Community Events
END:VEVENT
BEGIN:VEVENT
DTSTART;TZID=America/Los_Angeles:20281221T183000
DTEND;TZID=America/Los_Angeles:20281221T200000
DTSTAMP:20260425T040416
CREATED:20250731T174944Z
LAST-MODIFIED:20250807T190117Z
UID:10001956-1861036200-1861041600@lakelimerick.com
SUMMARY:Bingo
DESCRIPTION:Free Bingo\nEvery 3rd Thursday \nIn the Restaurant and Lounge \nand on the Patio \nFamily Fun for Everyone!
URL:https://lakelimerick.com/event/bingo/2028-12-21/
LOCATION:Inn Restaurant and Blarney Room\, 790 E Saint Andrews Drive\, Shelton\, WA\, 98584\, United States
CATEGORIES:Community Events
ATTACH;FMTTYPE=image/jpeg:https://lakelimerick.com/wp-content/uploads/2025/07/NEW-BINGO.jpg
END:VEVENT
BEGIN:VEVENT
DTSTART;TZID=America/Los_Angeles:20281222T083000
DTEND;TZID=America/Los_Angeles:20281222T093000
DTSTAMP:20260425T040416
CREATED:20251109T165614Z
LAST-MODIFIED:20251109T165615Z
UID:10000796-1861086600-1861090200@lakelimerick.com
SUMMARY:Exercise Group
DESCRIPTION:Join the exercise group at 8:30 am on Monday\, Wednesday and Friday. \nNo charge\nJust bring your own mat and hand weights. \n \n\nThe Lake Limerick Exercise Class is for men and women.  It is held in the Great Hall of the Lake Limerick Inn.\nThe class duration is one hour\, starting at 8:30 am on Mondays\, Wednesdays\, and Fridays (excluding holidays).  Participants are encouraged to arrive at 8:15 to set up.  You are not required to make it to all classes – join when you can.\nThe class is an audio exercise routine and can be adapted for every level.  The class is not led by a trained fitness professional.  This class is for the community members who wish to improve and maintain their level of fitness and have a little fun at the same time.\nParticipants are encouraged to modify exercise routines according to ability and fitness capabilities.\nExercise equipment is not furnished.  Weights\, a mat\, a bench step are recommended.  Bring your own and take it with you when done.\nChairs are available for participants who do not have the ability to participate in the floor routines.\nContact class coordinator\, Robyn LaRoche with any questions or concerns.
URL:https://lakelimerick.com/event/exercise-group-2-2/2028-12-22/
LOCATION:The Great Hall\, 790 E St Andrews Drive\, Shelton\, WA\, 98584\, United States
CATEGORIES:Community Events
ORGANIZER;CN="Robyn LaRoche":MAILTO:rllaroche@yahoo.com
END:VEVENT
BEGIN:VEVENT
DTSTART;TZID=America/Los_Angeles:20281222T090000
DTEND;TZID=America/Los_Angeles:20281222T100000
DTSTAMP:20260425T040416
CREATED:20260424T201354Z
LAST-MODIFIED:20260424T201354Z
UID:10007271-1861088400-1861092000@lakelimerick.com
SUMMARY:Office Meeting
DESCRIPTION:
URL:https://lakelimerick.com/event/office-meeting/2028-12-22/
LOCATION:The Crows Nest\, 790 E Saint Andrews Drive\, Shelton\, WA\, 98584\, United States
CATEGORIES:Staff
END:VEVENT
BEGIN:VEVENT
DTSTART;TZID=America/Los_Angeles:20281222T100000
DTEND;TZID=America/Los_Angeles:20281222T110000
DTSTAMP:20260425T040416
CREATED:20260424T161730Z
LAST-MODIFIED:20260424T161730Z
UID:10006637-1861092000-1861095600@lakelimerick.com
SUMMARY:General Manager (Meeting)
DESCRIPTION:
URL:https://lakelimerick.com/event/general-manager-meeting-2/2028-12-22/
LOCATION:The Crows Nest\, 790 E Saint Andrews Drive\, Shelton\, WA\, 98584\, United States
CATEGORIES:Staff
END:VEVENT
BEGIN:VEVENT
DTSTART;TZID=America/Los_Angeles:20281225T083000
DTEND;TZID=America/Los_Angeles:20281225T093000
DTSTAMP:20260425T040416
CREATED:20251109T165614Z
LAST-MODIFIED:20251109T165615Z
UID:10000797-1861345800-1861349400@lakelimerick.com
SUMMARY:Exercise Group
DESCRIPTION:Join the exercise group at 8:30 am on Monday\, Wednesday and Friday. \nNo charge\nJust bring your own mat and hand weights. \n \n\nThe Lake Limerick Exercise Class is for men and women.  It is held in the Great Hall of the Lake Limerick Inn.\nThe class duration is one hour\, starting at 8:30 am on Mondays\, Wednesdays\, and Fridays (excluding holidays).  Participants are encouraged to arrive at 8:15 to set up.  You are not required to make it to all classes – join when you can.\nThe class is an audio exercise routine and can be adapted for every level.  The class is not led by a trained fitness professional.  This class is for the community members who wish to improve and maintain their level of fitness and have a little fun at the same time.\nParticipants are encouraged to modify exercise routines according to ability and fitness capabilities.\nExercise equipment is not furnished.  Weights\, a mat\, a bench step are recommended.  Bring your own and take it with you when done.\nChairs are available for participants who do not have the ability to participate in the floor routines.\nContact class coordinator\, Robyn LaRoche with any questions or concerns.
URL:https://lakelimerick.com/event/exercise-group-2-2/2028-12-25/
LOCATION:The Great Hall\, 790 E St Andrews Drive\, Shelton\, WA\, 98584\, United States
CATEGORIES:Community Events
ORGANIZER;CN="Robyn LaRoche":MAILTO:rllaroche@yahoo.com
END:VEVENT
BEGIN:VEVENT
DTSTART;TZID=America/Los_Angeles:20281226T090000
DTEND;TZID=America/Los_Angeles:20281226T100000
DTSTAMP:20260425T040416
CREATED:20260424T201354Z
LAST-MODIFIED:20260424T201354Z
UID:10007272-1861434000-1861437600@lakelimerick.com
SUMMARY:Office Meeting
DESCRIPTION:
URL:https://lakelimerick.com/event/office-meeting/2028-12-26/
LOCATION:The Crows Nest\, 790 E Saint Andrews Drive\, Shelton\, WA\, 98584\, United States
CATEGORIES:Staff
END:VEVENT
BEGIN:VEVENT
DTSTART;TZID=America/Los_Angeles:20281226T100000
DTEND;TZID=America/Los_Angeles:20281226T110000
DTSTAMP:20260425T040416
CREATED:20260424T161730Z
LAST-MODIFIED:20260424T161730Z
UID:10006638-1861437600-1861441200@lakelimerick.com
SUMMARY:General Manager (Meeting)
DESCRIPTION:
URL:https://lakelimerick.com/event/general-manager-meeting-2/2028-12-26/
LOCATION:The Crows Nest\, 790 E Saint Andrews Drive\, Shelton\, WA\, 98584\, United States
CATEGORIES:Staff
END:VEVENT
BEGIN:VEVENT
DTSTART;TZID=America/Los_Angeles:20281226T120000
DTEND;TZID=America/Los_Angeles:20281226T130000
DTSTAMP:20260425T040416
CREATED:20260424T201707Z
LAST-MODIFIED:20260424T201707Z
UID:10007654-1861444800-1861448400@lakelimerick.com
SUMMARY:Office Meeting
DESCRIPTION:
URL:https://lakelimerick.com/event/office-meeting-2/2028-12-26/
LOCATION:The Crows Nest\, 790 E Saint Andrews Drive\, Shelton\, WA\, 98584\, United States
CATEGORIES:Staff
END:VEVENT
BEGIN:VEVENT
DTSTART;TZID=America/Los_Angeles:20281227T083000
DTEND;TZID=America/Los_Angeles:20281227T093000
DTSTAMP:20260425T040416
CREATED:20251109T165614Z
LAST-MODIFIED:20251109T165615Z
UID:10000798-1861518600-1861522200@lakelimerick.com
SUMMARY:Exercise Group
DESCRIPTION:Join the exercise group at 8:30 am on Monday\, Wednesday and Friday. \nNo charge\nJust bring your own mat and hand weights. \n \n\nThe Lake Limerick Exercise Class is for men and women.  It is held in the Great Hall of the Lake Limerick Inn.\nThe class duration is one hour\, starting at 8:30 am on Mondays\, Wednesdays\, and Fridays (excluding holidays).  Participants are encouraged to arrive at 8:15 to set up.  You are not required to make it to all classes – join when you can.\nThe class is an audio exercise routine and can be adapted for every level.  The class is not led by a trained fitness professional.  This class is for the community members who wish to improve and maintain their level of fitness and have a little fun at the same time.\nParticipants are encouraged to modify exercise routines according to ability and fitness capabilities.\nExercise equipment is not furnished.  Weights\, a mat\, a bench step are recommended.  Bring your own and take it with you when done.\nChairs are available for participants who do not have the ability to participate in the floor routines.\nContact class coordinator\, Robyn LaRoche with any questions or concerns.
URL:https://lakelimerick.com/event/exercise-group-2-2/2028-12-27/
LOCATION:The Great Hall\, 790 E St Andrews Drive\, Shelton\, WA\, 98584\, United States
CATEGORIES:Community Events
ORGANIZER;CN="Robyn LaRoche":MAILTO:rllaroche@yahoo.com
END:VEVENT
BEGIN:VEVENT
DTSTART;TZID=America/Los_Angeles:20281227T180000
DTEND;TZID=America/Los_Angeles:20281227T210000
DTSTAMP:20260425T040416
CREATED:20260416T162607Z
LAST-MODIFIED:20260416T162956Z
UID:10000182-1861552800-1861563600@lakelimerick.com
SUMMARY:Community Studio Time
DESCRIPTION:Bring a portable Art/Craft project.\nConnect with like-minded creatives and enjoy\nfood and beverage from The Inn Restaurant/Blarney Room. \nEvery Wednesday \nThe Great Hall \n6 pm – 9 pm \n  \n 
URL:https://lakelimerick.com/event/community-studio-time-2-2-2-2/2028-12-27/
LOCATION:The Great Hall\, 790 E St Andrews Drive\, Shelton\, WA\, 98584\, United States
CATEGORIES:Community Events
END:VEVENT
BEGIN:VEVENT
DTSTART;TZID=America/Los_Angeles:20281228T113000
DTEND;TZID=America/Los_Angeles:20281228T130000
DTSTAMP:20260425T040416
CREATED:20260112T201546Z
LAST-MODIFIED:20260112T201546Z
UID:10005146-1861615800-1861621200@lakelimerick.com
SUMMARY:Park Strategic Planning Sub-Team
DESCRIPTION:
URL:https://lakelimerick.com/event/park-strategic-planning-sub-team/2028-12-28/
LOCATION:The Crows Nest\, 790 E Saint Andrews Drive\, Shelton\, WA\, 98584\, United States
CATEGORIES:Committee Meetings
END:VEVENT
BEGIN:VEVENT
DTSTART;TZID=America/Los_Angeles:20281229T083000
DTEND;TZID=America/Los_Angeles:20281229T093000
DTSTAMP:20260425T040416
CREATED:20251109T165614Z
LAST-MODIFIED:20251109T165615Z
UID:10000799-1861691400-1861695000@lakelimerick.com
SUMMARY:Exercise Group
DESCRIPTION:Join the exercise group at 8:30 am on Monday\, Wednesday and Friday. \nNo charge\nJust bring your own mat and hand weights. \n \n\nThe Lake Limerick Exercise Class is for men and women.  It is held in the Great Hall of the Lake Limerick Inn.\nThe class duration is one hour\, starting at 8:30 am on Mondays\, Wednesdays\, and Fridays (excluding holidays).  Participants are encouraged to arrive at 8:15 to set up.  You are not required to make it to all classes – join when you can.\nThe class is an audio exercise routine and can be adapted for every level.  The class is not led by a trained fitness professional.  This class is for the community members who wish to improve and maintain their level of fitness and have a little fun at the same time.\nParticipants are encouraged to modify exercise routines according to ability and fitness capabilities.\nExercise equipment is not furnished.  Weights\, a mat\, a bench step are recommended.  Bring your own and take it with you when done.\nChairs are available for participants who do not have the ability to participate in the floor routines.\nContact class coordinator\, Robyn LaRoche with any questions or concerns.
URL:https://lakelimerick.com/event/exercise-group-2-2/2028-12-29/
LOCATION:The Great Hall\, 790 E St Andrews Drive\, Shelton\, WA\, 98584\, United States
CATEGORIES:Community Events
ORGANIZER;CN="Robyn LaRoche":MAILTO:rllaroche@yahoo.com
END:VEVENT
BEGIN:VEVENT
DTSTART;TZID=America/Los_Angeles:20281229T090000
DTEND;TZID=America/Los_Angeles:20281229T100000
DTSTAMP:20260425T040416
CREATED:20260424T201354Z
LAST-MODIFIED:20260424T201354Z
UID:10007273-1861693200-1861696800@lakelimerick.com
SUMMARY:Office Meeting
DESCRIPTION:
URL:https://lakelimerick.com/event/office-meeting/2028-12-29/
LOCATION:The Crows Nest\, 790 E Saint Andrews Drive\, Shelton\, WA\, 98584\, United States
CATEGORIES:Staff
END:VEVENT
BEGIN:VEVENT
DTSTART;TZID=America/Los_Angeles:20281229T100000
DTEND;TZID=America/Los_Angeles:20281229T110000
DTSTAMP:20260425T040416
CREATED:20260424T161730Z
LAST-MODIFIED:20260424T161730Z
UID:10006639-1861696800-1861700400@lakelimerick.com
SUMMARY:General Manager (Meeting)
DESCRIPTION:
URL:https://lakelimerick.com/event/general-manager-meeting-2/2028-12-29/
LOCATION:The Crows Nest\, 790 E Saint Andrews Drive\, Shelton\, WA\, 98584\, United States
CATEGORIES:Staff
END:VEVENT
BEGIN:VEVENT
DTSTART;TZID=America/Los_Angeles:20290101T083000
DTEND;TZID=America/Los_Angeles:20290101T093000
DTSTAMP:20260425T040416
CREATED:20251109T165614Z
LAST-MODIFIED:20251109T165615Z
UID:10000800-1861950600-1861954200@lakelimerick.com
SUMMARY:Exercise Group
DESCRIPTION:Join the exercise group at 8:30 am on Monday\, Wednesday and Friday. \nNo charge\nJust bring your own mat and hand weights. \n \n\nThe Lake Limerick Exercise Class is for men and women.  It is held in the Great Hall of the Lake Limerick Inn.\nThe class duration is one hour\, starting at 8:30 am on Mondays\, Wednesdays\, and Fridays (excluding holidays).  Participants are encouraged to arrive at 8:15 to set up.  You are not required to make it to all classes – join when you can.\nThe class is an audio exercise routine and can be adapted for every level.  The class is not led by a trained fitness professional.  This class is for the community members who wish to improve and maintain their level of fitness and have a little fun at the same time.\nParticipants are encouraged to modify exercise routines according to ability and fitness capabilities.\nExercise equipment is not furnished.  Weights\, a mat\, a bench step are recommended.  Bring your own and take it with you when done.\nChairs are available for participants who do not have the ability to participate in the floor routines.\nContact class coordinator\, Robyn LaRoche with any questions or concerns.
URL:https://lakelimerick.com/event/exercise-group-2-2/2029-01-01/
LOCATION:The Great Hall\, 790 E St Andrews Drive\, Shelton\, WA\, 98584\, United States
CATEGORIES:Community Events
ORGANIZER;CN="Robyn LaRoche":MAILTO:rllaroche@yahoo.com
END:VEVENT
BEGIN:VEVENT
DTSTART;TZID=America/Los_Angeles:20290101T090000
DTEND;TZID=America/Los_Angeles:20290101T130000
DTSTAMP:20260425T040416
CREATED:20260123T172931Z
LAST-MODIFIED:20260123T174201Z
UID:10005674-1861952400-1861966800@lakelimerick.com
SUMMARY:Water Committee
DESCRIPTION:  \nWater Committee Meeting Agenda \n \n9 am – 1 pm\nLocation: The Blarney Room or Zoom \nZoom Link Below \nMeeting ID: 882 7511 6055 \nPasscode: 822423
URL:https://lakelimerick.com/event/water-committee-2/2029-01-01/
LOCATION:The Blarney Room (Lounge)\, 790 E Saint Andrews Drive\, Shelton\, WA\, 98584\, United States
CATEGORIES:Committee Meetings
END:VEVENT
BEGIN:VEVENT
DTSTART;TZID=America/Los_Angeles:20290101T100000
DTEND;TZID=America/Los_Angeles:20290101T120000
DTSTAMP:20260425T040416
CREATED:20250730T212451Z
LAST-MODIFIED:20250730T212911Z
UID:10001212-1861956000-1861963200@lakelimerick.com
SUMMARY:Compliance Committee Meeting
DESCRIPTION:Time:  10am-12pm \nLocation (HYBRID):  Crow’s Nest or Zoom \nZoom Link: Zoom \nMeeting ID: 838 4345 1516 \nPasscode: 011276
URL:https://lakelimerick.com/event/compliance-committee-meeting/2029-01-01/
LOCATION:The Crows Nest\, 790 E Saint Andrews Drive\, Shelton\, WA\, 98584\, United States
CATEGORIES:Committee Meetings
END:VEVENT
BEGIN:VEVENT
DTSTART;TZID=America/Los_Angeles:20290102T090000
DTEND;TZID=America/Los_Angeles:20290102T100000
DTSTAMP:20260425T040416
CREATED:20260424T201354Z
LAST-MODIFIED:20260424T201354Z
UID:10007274-1862038800-1862042400@lakelimerick.com
SUMMARY:Office Meeting
DESCRIPTION:
URL:https://lakelimerick.com/event/office-meeting/2029-01-02/
LOCATION:The Crows Nest\, 790 E Saint Andrews Drive\, Shelton\, WA\, 98584\, United States
CATEGORIES:Staff
END:VEVENT
BEGIN:VEVENT
DTSTART;TZID=America/Los_Angeles:20290102T100000
DTEND;TZID=America/Los_Angeles:20290102T110000
DTSTAMP:20260425T040416
CREATED:20260424T161730Z
LAST-MODIFIED:20260424T161730Z
UID:10006640-1862042400-1862046000@lakelimerick.com
SUMMARY:General Manager (Meeting)
DESCRIPTION:
URL:https://lakelimerick.com/event/general-manager-meeting-2/2029-01-02/
LOCATION:The Crows Nest\, 790 E Saint Andrews Drive\, Shelton\, WA\, 98584\, United States
CATEGORIES:Staff
END:VEVENT
BEGIN:VEVENT
DTSTART;TZID=America/Los_Angeles:20290102T120000
DTEND;TZID=America/Los_Angeles:20290102T130000
DTSTAMP:20260425T040416
CREATED:20260424T201707Z
LAST-MODIFIED:20260424T201707Z
UID:10007655-1862049600-1862053200@lakelimerick.com
SUMMARY:Office Meeting
DESCRIPTION:
URL:https://lakelimerick.com/event/office-meeting-2/2029-01-02/
LOCATION:The Crows Nest\, 790 E Saint Andrews Drive\, Shelton\, WA\, 98584\, United States
CATEGORIES:Staff
END:VEVENT
BEGIN:VEVENT
DTSTART;TZID=America/Los_Angeles:20290102T133000
DTEND;TZID=America/Los_Angeles:20290102T153000
DTSTAMP:20260425T040416
CREATED:20250730T213312Z
LAST-MODIFIED:20250803T083113Z
UID:10001272-1862055000-1862062200@lakelimerick.com
SUMMARY:Greens Committee Meeting
DESCRIPTION:
URL:https://lakelimerick.com/event/greens-committee-meeting/2029-01-02/
LOCATION:LLCC Pro Shop\, 811 E Saint Andrews Drive\, Shelton\, WA\, 98584\, United States
CATEGORIES:Committee Meetings
END:VEVENT
BEGIN:VEVENT
DTSTART;TZID=America/Los_Angeles:20290103T083000
DTEND;TZID=America/Los_Angeles:20290103T093000
DTSTAMP:20260425T040416
CREATED:20251109T165614Z
LAST-MODIFIED:20251109T165615Z
UID:10000801-1862123400-1862127000@lakelimerick.com
SUMMARY:Exercise Group
DESCRIPTION:Join the exercise group at 8:30 am on Monday\, Wednesday and Friday. \nNo charge\nJust bring your own mat and hand weights. \n \n\nThe Lake Limerick Exercise Class is for men and women.  It is held in the Great Hall of the Lake Limerick Inn.\nThe class duration is one hour\, starting at 8:30 am on Mondays\, Wednesdays\, and Fridays (excluding holidays).  Participants are encouraged to arrive at 8:15 to set up.  You are not required to make it to all classes – join when you can.\nThe class is an audio exercise routine and can be adapted for every level.  The class is not led by a trained fitness professional.  This class is for the community members who wish to improve and maintain their level of fitness and have a little fun at the same time.\nParticipants are encouraged to modify exercise routines according to ability and fitness capabilities.\nExercise equipment is not furnished.  Weights\, a mat\, a bench step are recommended.  Bring your own and take it with you when done.\nChairs are available for participants who do not have the ability to participate in the floor routines.\nContact class coordinator\, Robyn LaRoche with any questions or concerns.
URL:https://lakelimerick.com/event/exercise-group-2-2/2029-01-03/
LOCATION:The Great Hall\, 790 E St Andrews Drive\, Shelton\, WA\, 98584\, United States
CATEGORIES:Community Events
ORGANIZER;CN="Robyn LaRoche":MAILTO:rllaroche@yahoo.com
END:VEVENT
END:VCALENDAR