BEGIN:VCALENDAR
VERSION:2.0
PRODID:-//Lake Limerick Country Club - ECPv6.15.20//NONSGML v1.0//EN
CALSCALE:GREGORIAN
METHOD:PUBLISH
X-WR-CALNAME:Lake Limerick Country Club
X-ORIGINAL-URL:https://lakelimerick.com
X-WR-CALDESC:Events for Lake Limerick Country Club
REFRESH-INTERVAL;VALUE=DURATION:PT1H
X-Robots-Tag:noindex
X-PUBLISHED-TTL:PT1H
BEGIN:VTIMEZONE
TZID:America/Los_Angeles
BEGIN:DAYLIGHT
TZOFFSETFROM:-0800
TZOFFSETTO:-0700
TZNAME:PDT
DTSTART:20290311T100000
END:DAYLIGHT
BEGIN:STANDARD
TZOFFSETFROM:-0700
TZOFFSETTO:-0800
TZNAME:PST
DTSTART:20291104T090000
END:STANDARD
BEGIN:DAYLIGHT
TZOFFSETFROM:-0800
TZOFFSETTO:-0700
TZNAME:PDT
DTSTART:20300310T100000
END:DAYLIGHT
BEGIN:STANDARD
TZOFFSETFROM:-0700
TZOFFSETTO:-0800
TZNAME:PST
DTSTART:20301103T090000
END:STANDARD
BEGIN:DAYLIGHT
TZOFFSETFROM:-0800
TZOFFSETTO:-0700
TZNAME:PDT
DTSTART:20310309T100000
END:DAYLIGHT
BEGIN:STANDARD
TZOFFSETFROM:-0700
TZOFFSETTO:-0800
TZNAME:PST
DTSTART:20311102T090000
END:STANDARD
END:VTIMEZONE
BEGIN:VEVENT
DTSTART;TZID=America/Los_Angeles:20301204T143000
DTEND;TZID=America/Los_Angeles:20301204T163000
DTSTAMP:20260425T035004
CREATED:20250730T214820Z
LAST-MODIFIED:20250730T214820Z
UID:10006052-1922625000-1922632200@lakelimerick.com
SUMMARY:Inn Committee
DESCRIPTION:Time:  2:30pm-4:30pm \nLocation:  Crow’s Nest
URL:https://lakelimerick.com/event/inn-committee/2030-12-04/
LOCATION:The Crows Nest\, 790 E Saint Andrews Drive\, Shelton\, WA\, 98584\, United States
CATEGORIES:Committee Meetings
END:VEVENT
BEGIN:VEVENT
DTSTART;TZID=America/Los_Angeles:20301204T143000
DTEND;TZID=America/Los_Angeles:20301204T163000
DTSTAMP:20260425T035004
CREATED:20260330T160430Z
LAST-MODIFIED:20260330T160430Z
UID:10006312-1922625000-1922632200@lakelimerick.com
SUMMARY:Inn Committee Meeting
DESCRIPTION:Meets the first Wednesday of each month. \nTime:  2:30pm – 4:30pm \nGreat Hall
URL:https://lakelimerick.com/event/inn-committee-meeting/2030-12-04/
LOCATION:The Great Hall\, 790 E St Andrews Drive\, Shelton\, WA\, 98584\, United States
CATEGORIES:Committee Meetings
END:VEVENT
BEGIN:VEVENT
DTSTART;TZID=America/Los_Angeles:20301204T180000
DTEND;TZID=America/Los_Angeles:20301204T210000
DTSTAMP:20260425T035004
CREATED:20260416T162607Z
LAST-MODIFIED:20260416T162956Z
UID:10006339-1922637600-1922648400@lakelimerick.com
SUMMARY:Community Studio Time
DESCRIPTION:Bring a portable Art/Craft project.\nConnect with like-minded creatives and enjoy\nfood and beverage from The Inn Restaurant/Blarney Room. \nEvery Wednesday \nThe Great Hall \n6 pm – 9 pm \n  \n 
URL:https://lakelimerick.com/event/community-studio-time-2-2-2-2/2030-12-04/
LOCATION:The Great Hall\, 790 E St Andrews Drive\, Shelton\, WA\, 98584\, United States
CATEGORIES:Community Events
END:VEVENT
BEGIN:VEVENT
DTSTART;TZID=America/Los_Angeles:20301205T153000
DTEND;TZID=America/Los_Angeles:20301205T163000
DTSTAMP:20260425T035004
CREATED:20260424T172735Z
LAST-MODIFIED:20260424T172735Z
UID:10006935-1922715000-1922718600@lakelimerick.com
SUMMARY:Special Board Meeting
DESCRIPTION:2026 Special Board Meetings Agenda \nThis meeting takes place on the second Thursday of each month at 3:30 PM in the Crow’s Nest. \nMeeting ID: 820 7716 5853\nPasscode: 438634\n 
URL:https://lakelimerick.com/event/executive-committee-meeting-2-4/2030-12-05/
LOCATION:Virtual and Crow’s Nest\, 790 East Saint Andrews\, Shelton\, WA\, 98584\, United States
CATEGORIES:BoD Meetings
END:VEVENT
BEGIN:VEVENT
DTSTART;TZID=America/Los_Angeles:20301205T180000
DTEND;TZID=America/Los_Angeles:20301205T190000
DTSTAMP:20260425T035004
CREATED:20250730T214241Z
LAST-MODIFIED:20260129T202438Z
UID:10005714-1922724000-1922727600@lakelimerick.com
SUMMARY:Greenbelts & Trails Committee
DESCRIPTION:Meets 1st Thursday of each month at 6:00pm in the Crow’s Nest (Inn Upstairs) \nOur focus is to work on being more intentional with the appearance\, use\, & upkeep of our greenbelt areas and entranceways. Work to mitigate safety concerns.  Provide opportunities to volunteer on the committee\, and or\, in helping adopt various areas for upkeep and neighborhood watch as plans progress.
URL:https://lakelimerick.com/event/greenbelts-trees-trails-committee/2030-12-05/
LOCATION:The Crows Nest\, 790 E Saint Andrews Drive\, Shelton\, WA\, 98584\, United States
CATEGORIES:Committee Meetings
END:VEVENT
BEGIN:VEVENT
DTSTART;TZID=America/Los_Angeles:20301206T090000
DTEND;TZID=America/Los_Angeles:20301206T100000
DTSTAMP:20260425T035004
CREATED:20260424T201354Z
LAST-MODIFIED:20260424T201354Z
UID:10007475-1922778000-1922781600@lakelimerick.com
SUMMARY:Office Meeting
DESCRIPTION:
URL:https://lakelimerick.com/event/office-meeting/2030-12-06/
LOCATION:The Crows Nest\, 790 E Saint Andrews Drive\, Shelton\, WA\, 98584\, United States
CATEGORIES:Staff
END:VEVENT
BEGIN:VEVENT
DTSTART;TZID=America/Los_Angeles:20301206T100000
DTEND;TZID=America/Los_Angeles:20301206T110000
DTSTAMP:20260425T035004
CREATED:20260424T161730Z
LAST-MODIFIED:20260424T161730Z
UID:10006841-1922781600-1922785200@lakelimerick.com
SUMMARY:General Manager (Meeting)
DESCRIPTION:
URL:https://lakelimerick.com/event/general-manager-meeting-2/2030-12-06/
LOCATION:The Crows Nest\, 790 E Saint Andrews Drive\, Shelton\, WA\, 98584\, United States
CATEGORIES:Staff
END:VEVENT
BEGIN:VEVENT
DTSTART;TZID=America/Los_Angeles:20301207T093000
DTEND;TZID=America/Los_Angeles:20301207T130000
DTSTAMP:20260425T035004
CREATED:20250730T211155Z
LAST-MODIFIED:20251025T003719Z
UID:10005701-1922866200-1922878800@lakelimerick.com
SUMMARY:Lakes\, Dams\, & Parks Meeting
DESCRIPTION:
URL:https://lakelimerick.com/event/lakes-dams-parks-meeting/2030-12-07/
LOCATION:The Crows Nest\, 790 E Saint Andrews Drive\, Shelton\, WA\, 98584\, United States
CATEGORIES:Committee Meetings
END:VEVENT
BEGIN:VEVENT
DTSTART;TZID=America/Los_Angeles:20301210T090000
DTEND;TZID=America/Los_Angeles:20301210T100000
DTSTAMP:20260425T035004
CREATED:20260424T201354Z
LAST-MODIFIED:20260424T201354Z
UID:10007476-1923123600-1923127200@lakelimerick.com
SUMMARY:Office Meeting
DESCRIPTION:
URL:https://lakelimerick.com/event/office-meeting/2030-12-10/
LOCATION:The Crows Nest\, 790 E Saint Andrews Drive\, Shelton\, WA\, 98584\, United States
CATEGORIES:Staff
END:VEVENT
BEGIN:VEVENT
DTSTART;TZID=America/Los_Angeles:20301210T100000
DTEND;TZID=America/Los_Angeles:20301210T110000
DTSTAMP:20260425T035004
CREATED:20260424T161730Z
LAST-MODIFIED:20260424T161730Z
UID:10006842-1923127200-1923130800@lakelimerick.com
SUMMARY:General Manager (Meeting)
DESCRIPTION:
URL:https://lakelimerick.com/event/general-manager-meeting-2/2030-12-10/
LOCATION:The Crows Nest\, 790 E Saint Andrews Drive\, Shelton\, WA\, 98584\, United States
CATEGORIES:Staff
END:VEVENT
BEGIN:VEVENT
DTSTART;TZID=America/Los_Angeles:20301210T100000
DTEND;TZID=America/Los_Angeles:20301210T120000
DTSTAMP:20260425T035004
CREATED:20260210T214236Z
LAST-MODIFIED:20260210T214236Z
UID:10005797-1923127200-1923134400@lakelimerick.com
SUMMARY:Mason Water Group
DESCRIPTION:
URL:https://lakelimerick.com/event/mason-water-group/2030-12-10/
LOCATION:Great Hall & Crow’s Nest\, 790 E Saint Andrews Drive\, Shelton\, WA\, 98584\, United States
CATEGORIES:Staff
END:VEVENT
BEGIN:VEVENT
DTSTART;TZID=America/Los_Angeles:20301210T120000
DTEND;TZID=America/Los_Angeles:20301210T130000
DTSTAMP:20260425T035004
CREATED:20260424T201707Z
LAST-MODIFIED:20260424T201707Z
UID:10007756-1923134400-1923138000@lakelimerick.com
SUMMARY:Office Meeting
DESCRIPTION:
URL:https://lakelimerick.com/event/office-meeting-2/2030-12-10/
LOCATION:The Crows Nest\, 790 E Saint Andrews Drive\, Shelton\, WA\, 98584\, United States
CATEGORIES:Staff
END:VEVENT
BEGIN:VEVENT
DTSTART;TZID=America/Los_Angeles:20301211T153000
DTEND;TZID=America/Los_Angeles:20301211T163000
DTSTAMP:20260425T035004
CREATED:20260218T175358Z
LAST-MODIFIED:20260218T175358Z
UID:10005919-1923233400-1923237000@lakelimerick.com
SUMMARY:Committee Chair Meeting
DESCRIPTION:
URL:https://lakelimerick.com/event/committee-chair-meeting/2030-12-11/
LOCATION:The Crows Nest\, 790 E Saint Andrews Drive\, Shelton\, WA\, 98584\, United States
CATEGORIES:Committee Meetings
END:VEVENT
BEGIN:VEVENT
DTSTART;TZID=America/Los_Angeles:20301211T180000
DTEND;TZID=America/Los_Angeles:20301211T210000
DTSTAMP:20260425T035004
CREATED:20260416T162607Z
LAST-MODIFIED:20260416T162956Z
UID:10006340-1923242400-1923253200@lakelimerick.com
SUMMARY:Community Studio Time
DESCRIPTION:Bring a portable Art/Craft project.\nConnect with like-minded creatives and enjoy\nfood and beverage from The Inn Restaurant/Blarney Room. \nEvery Wednesday \nThe Great Hall \n6 pm – 9 pm \n  \n 
URL:https://lakelimerick.com/event/community-studio-time-2-2-2-2/2030-12-11/
LOCATION:The Great Hall\, 790 E St Andrews Drive\, Shelton\, WA\, 98584\, United States
CATEGORIES:Community Events
END:VEVENT
BEGIN:VEVENT
DTSTART;TZID=America/Los_Angeles:20301212T113000
DTEND;TZID=America/Los_Angeles:20301212T130000
DTSTAMP:20260425T035004
CREATED:20260112T201546Z
LAST-MODIFIED:20260112T201546Z
UID:10005197-1923305400-1923310800@lakelimerick.com
SUMMARY:Park Strategic Planning Sub-Team
DESCRIPTION:
URL:https://lakelimerick.com/event/park-strategic-planning-sub-team/2030-12-12/
LOCATION:The Crows Nest\, 790 E Saint Andrews Drive\, Shelton\, WA\, 98584\, United States
CATEGORIES:Committee Meetings
END:VEVENT
BEGIN:VEVENT
DTSTART;TZID=America/Los_Angeles:20301212T153000
DTEND;TZID=America/Los_Angeles:20301212T163000
DTSTAMP:20260425T035004
CREATED:20260212T230226Z
LAST-MODIFIED:20260424T173130Z
UID:10006988-1923319800-1923323400@lakelimerick.com
SUMMARY:Special Board Meeting (Hybrid)
DESCRIPTION:2026 Special Board Meetings Agenda \nThis meeting takes place on the second Thursday of each month at 3:30 PM in the Crow’s Nest. \nZOOM Link\nMeeting ID: 820 7716 5853\nPasscode: 438634
URL:https://lakelimerick.com/event/executive-committee-meeting-2/2030-12-12/
LOCATION:Virtual and Crow’s Nest\, 790 East Saint Andrews\, Shelton\, WA\, 98584\, United States
CATEGORIES:BoD Meetings
END:VEVENT
BEGIN:VEVENT
DTSTART;TZID=America/Los_Angeles:20301213T090000
DTEND;TZID=America/Los_Angeles:20301213T100000
DTSTAMP:20260425T035004
CREATED:20260424T201354Z
LAST-MODIFIED:20260424T201354Z
UID:10007477-1923382800-1923386400@lakelimerick.com
SUMMARY:Office Meeting
DESCRIPTION:
URL:https://lakelimerick.com/event/office-meeting/2030-12-13/
LOCATION:The Crows Nest\, 790 E Saint Andrews Drive\, Shelton\, WA\, 98584\, United States
CATEGORIES:Staff
END:VEVENT
BEGIN:VEVENT
DTSTART;TZID=America/Los_Angeles:20301213T100000
DTEND;TZID=America/Los_Angeles:20301213T110000
DTSTAMP:20260425T035004
CREATED:20260424T161730Z
LAST-MODIFIED:20260424T161730Z
UID:10006843-1923386400-1923390000@lakelimerick.com
SUMMARY:General Manager (Meeting)
DESCRIPTION:
URL:https://lakelimerick.com/event/general-manager-meeting-2/2030-12-13/
LOCATION:The Crows Nest\, 790 E Saint Andrews Drive\, Shelton\, WA\, 98584\, United States
CATEGORIES:Staff
END:VEVENT
BEGIN:VEVENT
DTSTART;TZID=America/Los_Angeles:20301217T090000
DTEND;TZID=America/Los_Angeles:20301217T100000
DTSTAMP:20260425T035004
CREATED:20260424T201354Z
LAST-MODIFIED:20260424T201354Z
UID:10007478-1923728400-1923732000@lakelimerick.com
SUMMARY:Office Meeting
DESCRIPTION:
URL:https://lakelimerick.com/event/office-meeting/2030-12-17/
LOCATION:The Crows Nest\, 790 E Saint Andrews Drive\, Shelton\, WA\, 98584\, United States
CATEGORIES:Staff
END:VEVENT
BEGIN:VEVENT
DTSTART;TZID=America/Los_Angeles:20301217T100000
DTEND;TZID=America/Los_Angeles:20301217T110000
DTSTAMP:20260425T035004
CREATED:20260424T161730Z
LAST-MODIFIED:20260424T161730Z
UID:10006844-1923732000-1923735600@lakelimerick.com
SUMMARY:General Manager (Meeting)
DESCRIPTION:
URL:https://lakelimerick.com/event/general-manager-meeting-2/2030-12-17/
LOCATION:The Crows Nest\, 790 E Saint Andrews Drive\, Shelton\, WA\, 98584\, United States
CATEGORIES:Staff
END:VEVENT
BEGIN:VEVENT
DTSTART;TZID=America/Los_Angeles:20301217T120000
DTEND;TZID=America/Los_Angeles:20301217T130000
DTSTAMP:20260425T035004
CREATED:20260424T201707Z
LAST-MODIFIED:20260424T201707Z
UID:10007757-1923739200-1923742800@lakelimerick.com
SUMMARY:Office Meeting
DESCRIPTION:
URL:https://lakelimerick.com/event/office-meeting-2/2030-12-17/
LOCATION:The Crows Nest\, 790 E Saint Andrews Drive\, Shelton\, WA\, 98584\, United States
CATEGORIES:Staff
END:VEVENT
BEGIN:VEVENT
DTSTART;TZID=America/Los_Angeles:20301218T180000
DTEND;TZID=America/Los_Angeles:20301218T210000
DTSTAMP:20260425T035004
CREATED:20260416T162607Z
LAST-MODIFIED:20260416T162956Z
UID:10006341-1923847200-1923858000@lakelimerick.com
SUMMARY:Community Studio Time
DESCRIPTION:Bring a portable Art/Craft project.\nConnect with like-minded creatives and enjoy\nfood and beverage from The Inn Restaurant/Blarney Room. \nEvery Wednesday \nThe Great Hall \n6 pm – 9 pm \n  \n 
URL:https://lakelimerick.com/event/community-studio-time-2-2-2-2/2030-12-18/
LOCATION:The Great Hall\, 790 E St Andrews Drive\, Shelton\, WA\, 98584\, United States
CATEGORIES:Community Events
END:VEVENT
BEGIN:VEVENT
DTSTART;TZID=America/Los_Angeles:20301220T090000
DTEND;TZID=America/Los_Angeles:20301220T100000
DTSTAMP:20260425T035004
CREATED:20260424T201354Z
LAST-MODIFIED:20260424T201354Z
UID:10007479-1923987600-1923991200@lakelimerick.com
SUMMARY:Office Meeting
DESCRIPTION:
URL:https://lakelimerick.com/event/office-meeting/2030-12-20/
LOCATION:The Crows Nest\, 790 E Saint Andrews Drive\, Shelton\, WA\, 98584\, United States
CATEGORIES:Staff
END:VEVENT
BEGIN:VEVENT
DTSTART;TZID=America/Los_Angeles:20301220T100000
DTEND;TZID=America/Los_Angeles:20301220T110000
DTSTAMP:20260425T035004
CREATED:20260424T161730Z
LAST-MODIFIED:20260424T161730Z
UID:10006845-1923991200-1923994800@lakelimerick.com
SUMMARY:General Manager (Meeting)
DESCRIPTION:
URL:https://lakelimerick.com/event/general-manager-meeting-2/2030-12-20/
LOCATION:The Crows Nest\, 790 E Saint Andrews Drive\, Shelton\, WA\, 98584\, United States
CATEGORIES:Staff
END:VEVENT
BEGIN:VEVENT
DTSTART;TZID=America/Los_Angeles:20301221T090000
DTEND;TZID=America/Los_Angeles:20301221T113000
DTSTAMP:20260425T035004
CREATED:20260416T031026Z
LAST-MODIFIED:20260416T031026Z
UID:10005204-1924074000-1924083000@lakelimerick.com
SUMMARY:Board of Director's Meeting (Hybrid)
DESCRIPTION:Board of Directors Meeting\nBoard Meeting Agenda \nTime:  9AM-12PM \nLocation:  The Great Hall \nZoom Link: Link  \nMeeting ID: 893 7542 8274 \n Passcode: 208260
URL:https://lakelimerick.com/event/2375-3-3/2030-12-21/
LOCATION:The Great Hall\, 790 E St Andrews Drive\, Shelton\, WA\, 98584\, United States
CATEGORIES:BoD Meetings
END:VEVENT
BEGIN:VEVENT
DTSTART;TZID=America/Los_Angeles:20301221T113000
DTEND;TZID=America/Los_Angeles:20301221T140000
DTSTAMP:20260425T035004
CREATED:20251202T015134Z
LAST-MODIFIED:20251202T015134Z
UID:10005925-1924083000-1924092000@lakelimerick.com
SUMMARY:Board Meeting (Closed Session)
DESCRIPTION:
URL:https://lakelimerick.com/event/board-meeting-closed-session-2/2030-12-21/
LOCATION:Great Hall & Crow’s Nest\, 790 E Saint Andrews Drive\, Shelton\, WA\, 98584\, United States
CATEGORIES:BoD Meetings
END:VEVENT
BEGIN:VEVENT
DTSTART;TZID=America/Los_Angeles:20301224T090000
DTEND;TZID=America/Los_Angeles:20301224T100000
DTSTAMP:20260425T035004
CREATED:20260424T201354Z
LAST-MODIFIED:20260424T201354Z
UID:10007480-1924333200-1924336800@lakelimerick.com
SUMMARY:Office Meeting
DESCRIPTION:
URL:https://lakelimerick.com/event/office-meeting/2030-12-24/
LOCATION:The Crows Nest\, 790 E Saint Andrews Drive\, Shelton\, WA\, 98584\, United States
CATEGORIES:Staff
END:VEVENT
BEGIN:VEVENT
DTSTART;TZID=America/Los_Angeles:20301224T100000
DTEND;TZID=America/Los_Angeles:20301224T110000
DTSTAMP:20260425T035004
CREATED:20260424T161730Z
LAST-MODIFIED:20260424T161730Z
UID:10006846-1924336800-1924340400@lakelimerick.com
SUMMARY:General Manager (Meeting)
DESCRIPTION:
URL:https://lakelimerick.com/event/general-manager-meeting-2/2030-12-24/
LOCATION:The Crows Nest\, 790 E Saint Andrews Drive\, Shelton\, WA\, 98584\, United States
CATEGORIES:Staff
END:VEVENT
BEGIN:VEVENT
DTSTART;TZID=America/Los_Angeles:20301224T120000
DTEND;TZID=America/Los_Angeles:20301224T130000
DTSTAMP:20260425T035004
CREATED:20260424T201707Z
LAST-MODIFIED:20260424T201707Z
UID:10007758-1924344000-1924347600@lakelimerick.com
SUMMARY:Office Meeting
DESCRIPTION:
URL:https://lakelimerick.com/event/office-meeting-2/2030-12-24/
LOCATION:The Crows Nest\, 790 E Saint Andrews Drive\, Shelton\, WA\, 98584\, United States
CATEGORIES:Staff
END:VEVENT
BEGIN:VEVENT
DTSTART;TZID=America/Los_Angeles:20301225T180000
DTEND;TZID=America/Los_Angeles:20301225T210000
DTSTAMP:20260425T035004
CREATED:20260416T162607Z
LAST-MODIFIED:20260416T162956Z
UID:10006342-1924452000-1924462800@lakelimerick.com
SUMMARY:Community Studio Time
DESCRIPTION:Bring a portable Art/Craft project.\nConnect with like-minded creatives and enjoy\nfood and beverage from The Inn Restaurant/Blarney Room. \nEvery Wednesday \nThe Great Hall \n6 pm – 9 pm \n  \n 
URL:https://lakelimerick.com/event/community-studio-time-2-2-2-2/2030-12-25/
LOCATION:The Great Hall\, 790 E St Andrews Drive\, Shelton\, WA\, 98584\, United States
CATEGORIES:Community Events
END:VEVENT
END:VCALENDAR