BEGIN:VCALENDAR
VERSION:2.0
PRODID:-//Lake Limerick Country Club - ECPv6.15.20//NONSGML v1.0//EN
CALSCALE:GREGORIAN
METHOD:PUBLISH
X-WR-CALNAME:Lake Limerick Country Club
X-ORIGINAL-URL:https://lakelimerick.com
X-WR-CALDESC:Events for Lake Limerick Country Club
REFRESH-INTERVAL;VALUE=DURATION:PT1H
X-Robots-Tag:noindex
X-PUBLISHED-TTL:PT1H
BEGIN:VTIMEZONE
TZID:America/Los_Angeles
BEGIN:DAYLIGHT
TZOFFSETFROM:-0800
TZOFFSETTO:-0700
TZNAME:PDT
DTSTART:20300310T100000
END:DAYLIGHT
BEGIN:STANDARD
TZOFFSETFROM:-0700
TZOFFSETTO:-0800
TZNAME:PST
DTSTART:20301103T090000
END:STANDARD
BEGIN:DAYLIGHT
TZOFFSETFROM:-0800
TZOFFSETTO:-0700
TZNAME:PDT
DTSTART:20310309T100000
END:DAYLIGHT
BEGIN:STANDARD
TZOFFSETFROM:-0700
TZOFFSETTO:-0800
TZNAME:PST
DTSTART:20311102T090000
END:STANDARD
BEGIN:DAYLIGHT
TZOFFSETFROM:-0800
TZOFFSETTO:-0700
TZNAME:PDT
DTSTART:20320314T100000
END:DAYLIGHT
BEGIN:STANDARD
TZOFFSETFROM:-0700
TZOFFSETTO:-0800
TZNAME:PST
DTSTART:20321107T090000
END:STANDARD
END:VTIMEZONE
BEGIN:VEVENT
DTSTART;TZID=America/Los_Angeles:20310109T113000
DTEND;TZID=America/Los_Angeles:20310109T130000
DTSTAMP:20260425T052048
CREATED:20260112T201546Z
LAST-MODIFIED:20260112T201546Z
UID:10005199-1925724600-1925730000@lakelimerick.com
SUMMARY:Park Strategic Planning Sub-Team
DESCRIPTION:
URL:https://lakelimerick.com/event/park-strategic-planning-sub-team/2031-01-09/
LOCATION:The Crows Nest\, 790 E Saint Andrews Drive\, Shelton\, WA\, 98584\, United States
CATEGORIES:Committee Meetings
END:VEVENT
BEGIN:VEVENT
DTSTART;TZID=America/Los_Angeles:20310109T153000
DTEND;TZID=America/Los_Angeles:20310109T163000
DTSTAMP:20260425T052048
CREATED:20260212T230226Z
LAST-MODIFIED:20260424T173130Z
UID:10006989-1925739000-1925742600@lakelimerick.com
SUMMARY:Special Board Meeting (Hybrid)
DESCRIPTION:2026 Special Board Meetings Agenda \nThis meeting takes place on the second Thursday of each month at 3:30 PM in the Crow’s Nest. \nZOOM Link\nMeeting ID: 820 7716 5853\nPasscode: 438634
URL:https://lakelimerick.com/event/executive-committee-meeting-2/2031-01-09/
LOCATION:Virtual and Crow’s Nest\, 790 East Saint Andrews\, Shelton\, WA\, 98584\, United States
CATEGORIES:BoD Meetings
END:VEVENT
BEGIN:VEVENT
DTSTART;TZID=America/Los_Angeles:20310110T090000
DTEND;TZID=America/Los_Angeles:20310110T100000
DTSTAMP:20260425T052048
CREATED:20260424T201354Z
LAST-MODIFIED:20260424T201354Z
UID:10007485-1925802000-1925805600@lakelimerick.com
SUMMARY:Office Meeting
DESCRIPTION:
URL:https://lakelimerick.com/event/office-meeting/2031-01-10/
LOCATION:The Crows Nest\, 790 E Saint Andrews Drive\, Shelton\, WA\, 98584\, United States
CATEGORIES:Staff
END:VEVENT
BEGIN:VEVENT
DTSTART;TZID=America/Los_Angeles:20310110T100000
DTEND;TZID=America/Los_Angeles:20310110T110000
DTSTAMP:20260425T052048
CREATED:20260424T161730Z
LAST-MODIFIED:20260424T161730Z
UID:10006851-1925805600-1925809200@lakelimerick.com
SUMMARY:General Manager (Meeting)
DESCRIPTION:
URL:https://lakelimerick.com/event/general-manager-meeting-2/2031-01-10/
LOCATION:The Crows Nest\, 790 E Saint Andrews Drive\, Shelton\, WA\, 98584\, United States
CATEGORIES:Staff
END:VEVENT
BEGIN:VEVENT
DTSTART;TZID=America/Los_Angeles:20310114T090000
DTEND;TZID=America/Los_Angeles:20310114T100000
DTSTAMP:20260425T052048
CREATED:20260424T201354Z
LAST-MODIFIED:20260424T201354Z
UID:10007486-1926147600-1926151200@lakelimerick.com
SUMMARY:Office Meeting
DESCRIPTION:
URL:https://lakelimerick.com/event/office-meeting/2031-01-14/
LOCATION:The Crows Nest\, 790 E Saint Andrews Drive\, Shelton\, WA\, 98584\, United States
CATEGORIES:Staff
END:VEVENT
BEGIN:VEVENT
DTSTART;TZID=America/Los_Angeles:20310114T100000
DTEND;TZID=America/Los_Angeles:20310114T110000
DTSTAMP:20260425T052048
CREATED:20260424T161730Z
LAST-MODIFIED:20260424T161730Z
UID:10006852-1926151200-1926154800@lakelimerick.com
SUMMARY:General Manager (Meeting)
DESCRIPTION:
URL:https://lakelimerick.com/event/general-manager-meeting-2/2031-01-14/
LOCATION:The Crows Nest\, 790 E Saint Andrews Drive\, Shelton\, WA\, 98584\, United States
CATEGORIES:Staff
END:VEVENT
BEGIN:VEVENT
DTSTART;TZID=America/Los_Angeles:20310114T100000
DTEND;TZID=America/Los_Angeles:20310114T120000
DTSTAMP:20260425T052048
CREATED:20260210T214236Z
LAST-MODIFIED:20260210T214236Z
UID:10005798-1926151200-1926158400@lakelimerick.com
SUMMARY:Mason Water Group
DESCRIPTION:
URL:https://lakelimerick.com/event/mason-water-group/2031-01-14/
LOCATION:Great Hall & Crow’s Nest\, 790 E Saint Andrews Drive\, Shelton\, WA\, 98584\, United States
CATEGORIES:Staff
END:VEVENT
BEGIN:VEVENT
DTSTART;TZID=America/Los_Angeles:20310114T120000
DTEND;TZID=America/Los_Angeles:20310114T130000
DTSTAMP:20260425T052048
CREATED:20260424T201707Z
LAST-MODIFIED:20260424T201707Z
UID:10007761-1926158400-1926162000@lakelimerick.com
SUMMARY:Office Meeting
DESCRIPTION:
URL:https://lakelimerick.com/event/office-meeting-2/2031-01-14/
LOCATION:The Crows Nest\, 790 E Saint Andrews Drive\, Shelton\, WA\, 98584\, United States
CATEGORIES:Staff
END:VEVENT
BEGIN:VEVENT
DTSTART;TZID=America/Los_Angeles:20310115T180000
DTEND;TZID=America/Los_Angeles:20310115T210000
DTSTAMP:20260425T052048
CREATED:20260416T162607Z
LAST-MODIFIED:20260416T162956Z
UID:10006345-1926266400-1926277200@lakelimerick.com
SUMMARY:Community Studio Time
DESCRIPTION:Bring a portable Art/Craft project.\nConnect with like-minded creatives and enjoy\nfood and beverage from The Inn Restaurant/Blarney Room. \nEvery Wednesday \nThe Great Hall \n6 pm – 9 pm \n  \n 
URL:https://lakelimerick.com/event/community-studio-time-2-2-2-2/2031-01-15/
LOCATION:The Great Hall\, 790 E St Andrews Drive\, Shelton\, WA\, 98584\, United States
CATEGORIES:Community Events
END:VEVENT
BEGIN:VEVENT
DTSTART;TZID=America/Los_Angeles:20310117T090000
DTEND;TZID=America/Los_Angeles:20310117T100000
DTSTAMP:20260425T052048
CREATED:20260424T201354Z
LAST-MODIFIED:20260424T201354Z
UID:10007487-1926406800-1926410400@lakelimerick.com
SUMMARY:Office Meeting
DESCRIPTION:
URL:https://lakelimerick.com/event/office-meeting/2031-01-17/
LOCATION:The Crows Nest\, 790 E Saint Andrews Drive\, Shelton\, WA\, 98584\, United States
CATEGORIES:Staff
END:VEVENT
BEGIN:VEVENT
DTSTART;TZID=America/Los_Angeles:20310117T100000
DTEND;TZID=America/Los_Angeles:20310117T110000
DTSTAMP:20260425T052048
CREATED:20260424T161730Z
LAST-MODIFIED:20260424T161730Z
UID:10006853-1926410400-1926414000@lakelimerick.com
SUMMARY:General Manager (Meeting)
DESCRIPTION:
URL:https://lakelimerick.com/event/general-manager-meeting-2/2031-01-17/
LOCATION:The Crows Nest\, 790 E Saint Andrews Drive\, Shelton\, WA\, 98584\, United States
CATEGORIES:Staff
END:VEVENT
BEGIN:VEVENT
DTSTART;TZID=America/Los_Angeles:20310118T090000
DTEND;TZID=America/Los_Angeles:20310118T113000
DTSTAMP:20260425T052048
CREATED:20260416T031026Z
LAST-MODIFIED:20260416T031026Z
UID:10005858-1926493200-1926502200@lakelimerick.com
SUMMARY:Board of Director's Meeting (Hybrid)
DESCRIPTION:Board of Directors Meeting\nBoard Meeting Agenda \nTime:  9AM-12PM \nLocation:  The Great Hall \nZoom Link: Link  \nMeeting ID: 893 7542 8274 \n Passcode: 208260
URL:https://lakelimerick.com/event/2375-3-3/2031-01-18/
LOCATION:The Great Hall\, 790 E St Andrews Drive\, Shelton\, WA\, 98584\, United States
CATEGORIES:BoD Meetings
END:VEVENT
BEGIN:VEVENT
DTSTART;TZID=America/Los_Angeles:20310118T113000
DTEND;TZID=America/Los_Angeles:20310118T140000
DTSTAMP:20260425T052048
CREATED:20251202T015134Z
LAST-MODIFIED:20251202T015134Z
UID:10005926-1926502200-1926511200@lakelimerick.com
SUMMARY:Board Meeting (Closed Session)
DESCRIPTION:
URL:https://lakelimerick.com/event/board-meeting-closed-session-2/2031-01-18/
LOCATION:Great Hall & Crow’s Nest\, 790 E Saint Andrews Drive\, Shelton\, WA\, 98584\, United States
CATEGORIES:BoD Meetings
END:VEVENT
BEGIN:VEVENT
DTSTART;TZID=America/Los_Angeles:20310121T090000
DTEND;TZID=America/Los_Angeles:20310121T100000
DTSTAMP:20260425T052048
CREATED:20260424T201354Z
LAST-MODIFIED:20260424T201354Z
UID:10007488-1926752400-1926756000@lakelimerick.com
SUMMARY:Office Meeting
DESCRIPTION:
URL:https://lakelimerick.com/event/office-meeting/2031-01-21/
LOCATION:The Crows Nest\, 790 E Saint Andrews Drive\, Shelton\, WA\, 98584\, United States
CATEGORIES:Staff
END:VEVENT
BEGIN:VEVENT
DTSTART;TZID=America/Los_Angeles:20310121T100000
DTEND;TZID=America/Los_Angeles:20310121T110000
DTSTAMP:20260425T052048
CREATED:20260424T161730Z
LAST-MODIFIED:20260424T161730Z
UID:10006854-1926756000-1926759600@lakelimerick.com
SUMMARY:General Manager (Meeting)
DESCRIPTION:
URL:https://lakelimerick.com/event/general-manager-meeting-2/2031-01-21/
LOCATION:The Crows Nest\, 790 E Saint Andrews Drive\, Shelton\, WA\, 98584\, United States
CATEGORIES:Staff
END:VEVENT
BEGIN:VEVENT
DTSTART;TZID=America/Los_Angeles:20310121T120000
DTEND;TZID=America/Los_Angeles:20310121T130000
DTSTAMP:20260425T052048
CREATED:20260424T201707Z
LAST-MODIFIED:20260424T201707Z
UID:10007762-1926763200-1926766800@lakelimerick.com
SUMMARY:Office Meeting
DESCRIPTION:
URL:https://lakelimerick.com/event/office-meeting-2/2031-01-21/
LOCATION:The Crows Nest\, 790 E Saint Andrews Drive\, Shelton\, WA\, 98584\, United States
CATEGORIES:Staff
END:VEVENT
BEGIN:VEVENT
DTSTART;TZID=America/Los_Angeles:20310122T180000
DTEND;TZID=America/Los_Angeles:20310122T210000
DTSTAMP:20260425T052048
CREATED:20260416T162607Z
LAST-MODIFIED:20260416T162956Z
UID:10006346-1926871200-1926882000@lakelimerick.com
SUMMARY:Community Studio Time
DESCRIPTION:Bring a portable Art/Craft project.\nConnect with like-minded creatives and enjoy\nfood and beverage from The Inn Restaurant/Blarney Room. \nEvery Wednesday \nThe Great Hall \n6 pm – 9 pm \n  \n 
URL:https://lakelimerick.com/event/community-studio-time-2-2-2-2/2031-01-22/
LOCATION:The Great Hall\, 790 E St Andrews Drive\, Shelton\, WA\, 98584\, United States
CATEGORIES:Community Events
END:VEVENT
BEGIN:VEVENT
DTSTART;TZID=America/Los_Angeles:20310124T090000
DTEND;TZID=America/Los_Angeles:20310124T100000
DTSTAMP:20260425T052048
CREATED:20260424T201354Z
LAST-MODIFIED:20260424T201354Z
UID:10007489-1927011600-1927015200@lakelimerick.com
SUMMARY:Office Meeting
DESCRIPTION:
URL:https://lakelimerick.com/event/office-meeting/2031-01-24/
LOCATION:The Crows Nest\, 790 E Saint Andrews Drive\, Shelton\, WA\, 98584\, United States
CATEGORIES:Staff
END:VEVENT
BEGIN:VEVENT
DTSTART;TZID=America/Los_Angeles:20310124T100000
DTEND;TZID=America/Los_Angeles:20310124T110000
DTSTAMP:20260425T052048
CREATED:20260424T161730Z
LAST-MODIFIED:20260424T161730Z
UID:10006855-1927015200-1927018800@lakelimerick.com
SUMMARY:General Manager (Meeting)
DESCRIPTION:
URL:https://lakelimerick.com/event/general-manager-meeting-2/2031-01-24/
LOCATION:The Crows Nest\, 790 E Saint Andrews Drive\, Shelton\, WA\, 98584\, United States
CATEGORIES:Staff
END:VEVENT
BEGIN:VEVENT
DTSTART;TZID=America/Los_Angeles:20310125T090000
DTEND;TZID=America/Los_Angeles:20310125T130000
DTSTAMP:20260425T052048
CREATED:20260326T165545Z
LAST-MODIFIED:20260326T165730Z
UID:10006254-1927098000-1927112400@lakelimerick.com
SUMMARY:Water Committee Meeting (Hybrid)
DESCRIPTION:Water System Utility Committee Meeting \n \nCrow’s Nest or Zoom \nZoom Link \nMeeting ID:  882 7511 6055 \nPasscode:  822 423
URL:https://lakelimerick.com/event/water-committee-meeting-hybrid-2/2031-01-25/
LOCATION:The Blarney Room (Lounge)\, 790 E Saint Andrews Drive\, Shelton\, WA\, 98584\, United States
CATEGORIES:Committee Meetings
END:VEVENT
BEGIN:VEVENT
DTSTART;TZID=America/Los_Angeles:20310128T090000
DTEND;TZID=America/Los_Angeles:20310128T100000
DTSTAMP:20260425T052048
CREATED:20260424T201354Z
LAST-MODIFIED:20260424T201354Z
UID:10007490-1927357200-1927360800@lakelimerick.com
SUMMARY:Office Meeting
DESCRIPTION:
URL:https://lakelimerick.com/event/office-meeting/2031-01-28/
LOCATION:The Crows Nest\, 790 E Saint Andrews Drive\, Shelton\, WA\, 98584\, United States
CATEGORIES:Staff
END:VEVENT
BEGIN:VEVENT
DTSTART;TZID=America/Los_Angeles:20310128T100000
DTEND;TZID=America/Los_Angeles:20310128T110000
DTSTAMP:20260425T052048
CREATED:20260424T161730Z
LAST-MODIFIED:20260424T161730Z
UID:10006856-1927360800-1927364400@lakelimerick.com
SUMMARY:General Manager (Meeting)
DESCRIPTION:
URL:https://lakelimerick.com/event/general-manager-meeting-2/2031-01-28/
LOCATION:The Crows Nest\, 790 E Saint Andrews Drive\, Shelton\, WA\, 98584\, United States
CATEGORIES:Staff
END:VEVENT
BEGIN:VEVENT
DTSTART;TZID=America/Los_Angeles:20310128T120000
DTEND;TZID=America/Los_Angeles:20310128T130000
DTSTAMP:20260425T052048
CREATED:20260424T201707Z
LAST-MODIFIED:20260424T201707Z
UID:10007763-1927368000-1927371600@lakelimerick.com
SUMMARY:Office Meeting
DESCRIPTION:
URL:https://lakelimerick.com/event/office-meeting-2/2031-01-28/
LOCATION:The Crows Nest\, 790 E Saint Andrews Drive\, Shelton\, WA\, 98584\, United States
CATEGORIES:Staff
END:VEVENT
BEGIN:VEVENT
DTSTART;TZID=America/Los_Angeles:20310129T180000
DTEND;TZID=America/Los_Angeles:20310129T210000
DTSTAMP:20260425T052048
CREATED:20260416T162607Z
LAST-MODIFIED:20260416T162956Z
UID:10006347-1927476000-1927486800@lakelimerick.com
SUMMARY:Community Studio Time
DESCRIPTION:Bring a portable Art/Craft project.\nConnect with like-minded creatives and enjoy\nfood and beverage from The Inn Restaurant/Blarney Room. \nEvery Wednesday \nThe Great Hall \n6 pm – 9 pm \n  \n 
URL:https://lakelimerick.com/event/community-studio-time-2-2-2-2/2031-01-29/
LOCATION:The Great Hall\, 790 E St Andrews Drive\, Shelton\, WA\, 98584\, United States
CATEGORIES:Community Events
END:VEVENT
BEGIN:VEVENT
DTSTART;TZID=America/Los_Angeles:20310131T090000
DTEND;TZID=America/Los_Angeles:20310131T100000
DTSTAMP:20260425T052048
CREATED:20260424T201354Z
LAST-MODIFIED:20260424T201354Z
UID:10007491-1927616400-1927620000@lakelimerick.com
SUMMARY:Office Meeting
DESCRIPTION:
URL:https://lakelimerick.com/event/office-meeting/2031-01-31/
LOCATION:The Crows Nest\, 790 E Saint Andrews Drive\, Shelton\, WA\, 98584\, United States
CATEGORIES:Staff
END:VEVENT
BEGIN:VEVENT
DTSTART;TZID=America/Los_Angeles:20310131T100000
DTEND;TZID=America/Los_Angeles:20310131T110000
DTSTAMP:20260425T052048
CREATED:20260424T161730Z
LAST-MODIFIED:20260424T161730Z
UID:10006857-1927620000-1927623600@lakelimerick.com
SUMMARY:General Manager (Meeting)
DESCRIPTION:
URL:https://lakelimerick.com/event/general-manager-meeting-2/2031-01-31/
LOCATION:The Crows Nest\, 790 E Saint Andrews Drive\, Shelton\, WA\, 98584\, United States
CATEGORIES:Staff
END:VEVENT
BEGIN:VEVENT
DTSTART;TZID=America/Los_Angeles:20310203T090000
DTEND;TZID=America/Los_Angeles:20310203T130000
DTSTAMP:20260425T052048
CREATED:20260123T172931Z
LAST-MODIFIED:20260123T174201Z
UID:10006045-1927875600-1927890000@lakelimerick.com
SUMMARY:Water Committee
DESCRIPTION:  \nWater Committee Meeting Agenda \n \n9 am – 1 pm\nLocation: The Blarney Room or Zoom \nZoom Link Below \nMeeting ID: 882 7511 6055 \nPasscode: 822423
URL:https://lakelimerick.com/event/water-committee-2/2031-02-03/
LOCATION:The Blarney Room (Lounge)\, 790 E Saint Andrews Drive\, Shelton\, WA\, 98584\, United States
CATEGORIES:Committee Meetings
END:VEVENT
BEGIN:VEVENT
DTSTART;TZID=America/Los_Angeles:20310204T090000
DTEND;TZID=America/Los_Angeles:20310204T100000
DTSTAMP:20260425T052048
CREATED:20260424T201354Z
LAST-MODIFIED:20260424T201354Z
UID:10007492-1927962000-1927965600@lakelimerick.com
SUMMARY:Office Meeting
DESCRIPTION:
URL:https://lakelimerick.com/event/office-meeting/2031-02-04/
LOCATION:The Crows Nest\, 790 E Saint Andrews Drive\, Shelton\, WA\, 98584\, United States
CATEGORIES:Staff
END:VEVENT
BEGIN:VEVENT
DTSTART;TZID=America/Los_Angeles:20310204T100000
DTEND;TZID=America/Los_Angeles:20310204T110000
DTSTAMP:20260425T052048
CREATED:20260424T161730Z
LAST-MODIFIED:20260424T161730Z
UID:10006858-1927965600-1927969200@lakelimerick.com
SUMMARY:General Manager (Meeting)
DESCRIPTION:
URL:https://lakelimerick.com/event/general-manager-meeting-2/2031-02-04/
LOCATION:The Crows Nest\, 790 E Saint Andrews Drive\, Shelton\, WA\, 98584\, United States
CATEGORIES:Staff
END:VEVENT
BEGIN:VEVENT
DTSTART;TZID=America/Los_Angeles:20310204T120000
DTEND;TZID=America/Los_Angeles:20310204T130000
DTSTAMP:20260425T052048
CREATED:20260424T201707Z
LAST-MODIFIED:20260424T201707Z
UID:10007764-1927972800-1927976400@lakelimerick.com
SUMMARY:Office Meeting
DESCRIPTION:
URL:https://lakelimerick.com/event/office-meeting-2/2031-02-04/
LOCATION:The Crows Nest\, 790 E Saint Andrews Drive\, Shelton\, WA\, 98584\, United States
CATEGORIES:Staff
END:VEVENT
END:VCALENDAR