BEGIN:VCALENDAR
VERSION:2.0
PRODID:-//Lake Limerick Country Club - ECPv6.15.20//NONSGML v1.0//EN
CALSCALE:GREGORIAN
METHOD:PUBLISH
X-WR-CALNAME:Lake Limerick Country Club
X-ORIGINAL-URL:https://lakelimerick.com
X-WR-CALDESC:Events for Lake Limerick Country Club
REFRESH-INTERVAL;VALUE=DURATION:PT1H
X-Robots-Tag:noindex
X-PUBLISHED-TTL:PT1H
BEGIN:VTIMEZONE
TZID:America/Los_Angeles
BEGIN:DAYLIGHT
TZOFFSETFROM:-0800
TZOFFSETTO:-0700
TZNAME:PDT
DTSTART:20260308T100000
END:DAYLIGHT
BEGIN:STANDARD
TZOFFSETFROM:-0700
TZOFFSETTO:-0800
TZNAME:PST
DTSTART:20261101T090000
END:STANDARD
BEGIN:DAYLIGHT
TZOFFSETFROM:-0800
TZOFFSETTO:-0700
TZNAME:PDT
DTSTART:20270314T100000
END:DAYLIGHT
BEGIN:STANDARD
TZOFFSETFROM:-0700
TZOFFSETTO:-0800
TZNAME:PST
DTSTART:20271107T090000
END:STANDARD
BEGIN:DAYLIGHT
TZOFFSETFROM:-0800
TZOFFSETTO:-0700
TZNAME:PDT
DTSTART:20280312T100000
END:DAYLIGHT
BEGIN:STANDARD
TZOFFSETFROM:-0700
TZOFFSETTO:-0800
TZNAME:PST
DTSTART:20281105T090000
END:STANDARD
BEGIN:DAYLIGHT
TZOFFSETFROM:-0800
TZOFFSETTO:-0700
TZNAME:PDT
DTSTART:20290311T100000
END:DAYLIGHT
BEGIN:STANDARD
TZOFFSETFROM:-0700
TZOFFSETTO:-0800
TZNAME:PST
DTSTART:20291104T090000
END:STANDARD
END:VTIMEZONE
BEGIN:VEVENT
DTSTART;TZID=America/Los_Angeles:20271103T143000
DTEND;TZID=America/Los_Angeles:20271103T163000
DTSTAMP:20260420T010924
CREATED:20250730T214820Z
LAST-MODIFIED:20250730T214820Z
UID:10001639-1825252200-1825259400@lakelimerick.com
SUMMARY:Inn Committee
DESCRIPTION:Time:  2:30pm-4:30pm \nLocation:  Crow’s Nest
URL:https://lakelimerick.com/event/inn-committee/2027-11-03/
LOCATION:The Crows Nest\, 790 E Saint Andrews Drive\, Shelton\, WA\, 98584\, United States
CATEGORIES:Committee Meetings
END:VEVENT
BEGIN:VEVENT
DTSTART;TZID=America/Los_Angeles:20271104T113000
DTEND;TZID=America/Los_Angeles:20271104T130000
DTSTAMP:20260420T010924
CREATED:20260112T201546Z
LAST-MODIFIED:20260112T201546Z
UID:10005116-1825327800-1825333200@lakelimerick.com
SUMMARY:Park Strategic Planning Sub-Team
DESCRIPTION:
URL:https://lakelimerick.com/event/park-strategic-planning-sub-team/2027-11-04/
LOCATION:The Crows Nest\, 790 E Saint Andrews Drive\, Shelton\, WA\, 98584\, United States
CATEGORIES:Committee Meetings
END:VEVENT
BEGIN:VEVENT
DTSTART;TZID=America/Los_Angeles:20271104T180000
DTEND;TZID=America/Los_Angeles:20271104T190000
DTSTAMP:20260420T010924
CREATED:20250730T214241Z
LAST-MODIFIED:20260129T202438Z
UID:10001579-1825351200-1825354800@lakelimerick.com
SUMMARY:Greenbelts & Trails Committee
DESCRIPTION:Meets 1st Thursday of each month at 6:00pm in the Crow’s Nest (Inn Upstairs) \nOur focus is to work on being more intentional with the appearance\, use\, & upkeep of our greenbelt areas and entranceways. Work to mitigate safety concerns.  Provide opportunities to volunteer on the committee\, and or\, in helping adopt various areas for upkeep and neighborhood watch as plans progress.
URL:https://lakelimerick.com/event/greenbelts-trees-trails-committee/2027-11-04/
LOCATION:The Crows Nest\, 790 E Saint Andrews Drive\, Shelton\, WA\, 98584\, United States
CATEGORIES:Committee Meetings
END:VEVENT
BEGIN:VEVENT
DTSTART;TZID=America/Los_Angeles:20271106T093000
DTEND;TZID=America/Los_Angeles:20271106T130000
DTSTAMP:20260420T010924
CREATED:20250730T211155Z
LAST-MODIFIED:20251025T003719Z
UID:10001076-1825493400-1825506000@lakelimerick.com
SUMMARY:Lakes\, Dams\, & Parks Meeting
DESCRIPTION:
URL:https://lakelimerick.com/event/lakes-dams-parks-meeting/2027-11-06/
LOCATION:The Crows Nest\, 790 E Saint Andrews Drive\, Shelton\, WA\, 98584\, United States
CATEGORIES:Committee Meetings
END:VEVENT
BEGIN:VEVENT
DTSTART;TZID=America/Los_Angeles:20271109T140000
DTEND;TZID=America/Los_Angeles:20271109T153000
DTSTAMP:20260420T010924
CREATED:20250731T203306Z
LAST-MODIFIED:20250831T023524Z
UID:10002065-1825768800-1825774200@lakelimerick.com
SUMMARY:Socrates Café
DESCRIPTION:Join the Conversation!\nMeetings are held on the 2nd Tuesday of each month at 2:00 pm\nin the Crows Nest\, upstairs from the Great Hall. \n \n  \nWhat is Socrates Café? \nIt is a gathering of people interested in examining philosophical and ethical questions by challenging commonly held beliefs\, dogmas\, theories\, and convictions using critical thinking and the Socratic method or Socrates debate.  (Named after the Greek philosopher\, Socrates\, this is “a form of cooperative argumentative dialogue between individuals\, based on asking and answering questions to stimulate critical thinking and to draw our ideas and underlying presumptions.”) \nPlease consider joining us to listen\, participate\, contribute\, or provide your most provocative insights and thoughts!
URL:https://lakelimerick.com/event/socrates-cafe/2027-11-09/
LOCATION:The Crows Nest\, 790 E Saint Andrews Drive\, Shelton\, WA\, 98584\, United States
CATEGORIES:Community Events
END:VEVENT
BEGIN:VEVENT
DTSTART;TZID=America/Los_Angeles:20271110T153000
DTEND;TZID=America/Los_Angeles:20271110T163000
DTSTAMP:20260420T010924
CREATED:20260218T175358Z
LAST-MODIFIED:20260218T175358Z
UID:10005882-1825860600-1825864200@lakelimerick.com
SUMMARY:Committee Chair Meeting
DESCRIPTION:
URL:https://lakelimerick.com/event/committee-chair-meeting/2027-11-10/
LOCATION:The Crows Nest\, 790 E Saint Andrews Drive\, Shelton\, WA\, 98584\, United States
CATEGORIES:Committee Meetings
END:VEVENT
BEGIN:VEVENT
DTSTART;TZID=America/Los_Angeles:20271112T153000
DTEND;TZID=America/Los_Angeles:20271112T170000
DTSTAMP:20260420T010924
CREATED:20251204T194744Z
LAST-MODIFIED:20251204T194813Z
UID:10003752-1826033400-1826038800@lakelimerick.com
SUMMARY:Architectural Committee
DESCRIPTION:\
URL:https://lakelimerick.com/event/architecture-committee-2-2/2027-11-12/
LOCATION:The Crows Nest\, 790 E Saint Andrews Drive\, Shelton\, WA\, 98584\, United States
CATEGORIES:Committee Meetings
ORGANIZER;CN="Architecture Committee":MAILTO:arch@lakelimerick.net
END:VEVENT
BEGIN:VEVENT
DTSTART;TZID=America/Los_Angeles:20271118T113000
DTEND;TZID=America/Los_Angeles:20271118T130000
DTSTAMP:20260420T010924
CREATED:20260112T201546Z
LAST-MODIFIED:20260112T201546Z
UID:10005117-1826537400-1826542800@lakelimerick.com
SUMMARY:Park Strategic Planning Sub-Team
DESCRIPTION:
URL:https://lakelimerick.com/event/park-strategic-planning-sub-team/2027-11-18/
LOCATION:The Crows Nest\, 790 E Saint Andrews Drive\, Shelton\, WA\, 98584\, United States
CATEGORIES:Committee Meetings
END:VEVENT
BEGIN:VEVENT
DTSTART;TZID=America/Los_Angeles:20271201T143000
DTEND;TZID=America/Los_Angeles:20271201T163000
DTSTAMP:20260420T010924
CREATED:20250730T214820Z
LAST-MODIFIED:20250730T214820Z
UID:10001640-1827671400-1827678600@lakelimerick.com
SUMMARY:Inn Committee
DESCRIPTION:Time:  2:30pm-4:30pm \nLocation:  Crow’s Nest
URL:https://lakelimerick.com/event/inn-committee/2027-12-01/
LOCATION:The Crows Nest\, 790 E Saint Andrews Drive\, Shelton\, WA\, 98584\, United States
CATEGORIES:Committee Meetings
END:VEVENT
BEGIN:VEVENT
DTSTART;TZID=America/Los_Angeles:20271202T113000
DTEND;TZID=America/Los_Angeles:20271202T130000
DTSTAMP:20260420T010924
CREATED:20260112T201546Z
LAST-MODIFIED:20260112T201546Z
UID:10005118-1827747000-1827752400@lakelimerick.com
SUMMARY:Park Strategic Planning Sub-Team
DESCRIPTION:
URL:https://lakelimerick.com/event/park-strategic-planning-sub-team/2027-12-02/
LOCATION:The Crows Nest\, 790 E Saint Andrews Drive\, Shelton\, WA\, 98584\, United States
CATEGORIES:Committee Meetings
END:VEVENT
BEGIN:VEVENT
DTSTART;TZID=America/Los_Angeles:20271202T180000
DTEND;TZID=America/Los_Angeles:20271202T190000
DTSTAMP:20260420T010924
CREATED:20250730T214241Z
LAST-MODIFIED:20260129T202438Z
UID:10001580-1827770400-1827774000@lakelimerick.com
SUMMARY:Greenbelts & Trails Committee
DESCRIPTION:Meets 1st Thursday of each month at 6:00pm in the Crow’s Nest (Inn Upstairs) \nOur focus is to work on being more intentional with the appearance\, use\, & upkeep of our greenbelt areas and entranceways. Work to mitigate safety concerns.  Provide opportunities to volunteer on the committee\, and or\, in helping adopt various areas for upkeep and neighborhood watch as plans progress.
URL:https://lakelimerick.com/event/greenbelts-trees-trails-committee/2027-12-02/
LOCATION:The Crows Nest\, 790 E Saint Andrews Drive\, Shelton\, WA\, 98584\, United States
CATEGORIES:Committee Meetings
END:VEVENT
BEGIN:VEVENT
DTSTART;TZID=America/Los_Angeles:20271204T093000
DTEND;TZID=America/Los_Angeles:20271204T130000
DTSTAMP:20260420T010924
CREATED:20250730T211155Z
LAST-MODIFIED:20251025T003719Z
UID:10001077-1827912600-1827925200@lakelimerick.com
SUMMARY:Lakes\, Dams\, & Parks Meeting
DESCRIPTION:
URL:https://lakelimerick.com/event/lakes-dams-parks-meeting/2027-12-04/
LOCATION:The Crows Nest\, 790 E Saint Andrews Drive\, Shelton\, WA\, 98584\, United States
CATEGORIES:Committee Meetings
END:VEVENT
BEGIN:VEVENT
DTSTART;TZID=America/Los_Angeles:20271206T100000
DTEND;TZID=America/Los_Angeles:20271206T120000
DTSTAMP:20260420T010924
CREATED:20250730T212451Z
LAST-MODIFIED:20250730T212911Z
UID:10001199-1828087200-1828094400@lakelimerick.com
SUMMARY:Compliance Committee Meeting
DESCRIPTION:Time:  10am-12pm \nLocation (HYBRID):  Crow’s Nest or Zoom \nZoom Link: Zoom \nMeeting ID: 838 4345 1516 \nPasscode: 011276
URL:https://lakelimerick.com/event/compliance-committee-meeting/2027-12-06/
LOCATION:The Crows Nest\, 790 E Saint Andrews Drive\, Shelton\, WA\, 98584\, United States
CATEGORIES:Committee Meetings
END:VEVENT
BEGIN:VEVENT
DTSTART;TZID=America/Los_Angeles:20271208T153000
DTEND;TZID=America/Los_Angeles:20271208T163000
DTSTAMP:20260420T010924
CREATED:20260218T175358Z
LAST-MODIFIED:20260218T175358Z
UID:10005883-1828279800-1828283400@lakelimerick.com
SUMMARY:Committee Chair Meeting
DESCRIPTION:
URL:https://lakelimerick.com/event/committee-chair-meeting/2027-12-08/
LOCATION:The Crows Nest\, 790 E Saint Andrews Drive\, Shelton\, WA\, 98584\, United States
CATEGORIES:Committee Meetings
END:VEVENT
BEGIN:VEVENT
DTSTART;TZID=America/Los_Angeles:20271210T153000
DTEND;TZID=America/Los_Angeles:20271210T170000
DTSTAMP:20260420T010924
CREATED:20251204T194744Z
LAST-MODIFIED:20251204T194813Z
UID:10003753-1828452600-1828458000@lakelimerick.com
SUMMARY:Architectural Committee
DESCRIPTION:\
URL:https://lakelimerick.com/event/architecture-committee-2-2/2027-12-10/
LOCATION:The Crows Nest\, 790 E Saint Andrews Drive\, Shelton\, WA\, 98584\, United States
CATEGORIES:Committee Meetings
ORGANIZER;CN="Architecture Committee":MAILTO:arch@lakelimerick.net
END:VEVENT
BEGIN:VEVENT
DTSTART;TZID=America/Los_Angeles:20271214T140000
DTEND;TZID=America/Los_Angeles:20271214T153000
DTSTAMP:20260420T010924
CREATED:20250731T203306Z
LAST-MODIFIED:20250831T023524Z
UID:10002066-1828792800-1828798200@lakelimerick.com
SUMMARY:Socrates Café
DESCRIPTION:Join the Conversation!\nMeetings are held on the 2nd Tuesday of each month at 2:00 pm\nin the Crows Nest\, upstairs from the Great Hall. \n \n  \nWhat is Socrates Café? \nIt is a gathering of people interested in examining philosophical and ethical questions by challenging commonly held beliefs\, dogmas\, theories\, and convictions using critical thinking and the Socratic method or Socrates debate.  (Named after the Greek philosopher\, Socrates\, this is “a form of cooperative argumentative dialogue between individuals\, based on asking and answering questions to stimulate critical thinking and to draw our ideas and underlying presumptions.”) \nPlease consider joining us to listen\, participate\, contribute\, or provide your most provocative insights and thoughts!
URL:https://lakelimerick.com/event/socrates-cafe/2027-12-14/
LOCATION:The Crows Nest\, 790 E Saint Andrews Drive\, Shelton\, WA\, 98584\, United States
CATEGORIES:Community Events
END:VEVENT
BEGIN:VEVENT
DTSTART;TZID=America/Los_Angeles:20271216T113000
DTEND;TZID=America/Los_Angeles:20271216T130000
DTSTAMP:20260420T010924
CREATED:20260112T201546Z
LAST-MODIFIED:20260112T201546Z
UID:10005119-1828956600-1828962000@lakelimerick.com
SUMMARY:Park Strategic Planning Sub-Team
DESCRIPTION:
URL:https://lakelimerick.com/event/park-strategic-planning-sub-team/2027-12-16/
LOCATION:The Crows Nest\, 790 E Saint Andrews Drive\, Shelton\, WA\, 98584\, United States
CATEGORIES:Committee Meetings
END:VEVENT
BEGIN:VEVENT
DTSTART;TZID=America/Los_Angeles:20271230T113000
DTEND;TZID=America/Los_Angeles:20271230T130000
DTSTAMP:20260420T010924
CREATED:20260112T201546Z
LAST-MODIFIED:20260112T201546Z
UID:10005120-1830166200-1830171600@lakelimerick.com
SUMMARY:Park Strategic Planning Sub-Team
DESCRIPTION:
URL:https://lakelimerick.com/event/park-strategic-planning-sub-team/2027-12-30/
LOCATION:The Crows Nest\, 790 E Saint Andrews Drive\, Shelton\, WA\, 98584\, United States
CATEGORIES:Committee Meetings
END:VEVENT
BEGIN:VEVENT
DTSTART;TZID=America/Los_Angeles:20280101T093000
DTEND;TZID=America/Los_Angeles:20280101T130000
DTSTAMP:20260420T010924
CREATED:20250730T211155Z
LAST-MODIFIED:20251025T003719Z
UID:10001078-1830331800-1830344400@lakelimerick.com
SUMMARY:Lakes\, Dams\, & Parks Meeting
DESCRIPTION:
URL:https://lakelimerick.com/event/lakes-dams-parks-meeting/2028-01-01/
LOCATION:The Crows Nest\, 790 E Saint Andrews Drive\, Shelton\, WA\, 98584\, United States
CATEGORIES:Committee Meetings
END:VEVENT
BEGIN:VEVENT
DTSTART;TZID=America/Los_Angeles:20280103T100000
DTEND;TZID=America/Los_Angeles:20280103T120000
DTSTAMP:20260420T010924
CREATED:20250730T212451Z
LAST-MODIFIED:20250730T212911Z
UID:10001200-1830506400-1830513600@lakelimerick.com
SUMMARY:Compliance Committee Meeting
DESCRIPTION:Time:  10am-12pm \nLocation (HYBRID):  Crow’s Nest or Zoom \nZoom Link: Zoom \nMeeting ID: 838 4345 1516 \nPasscode: 011276
URL:https://lakelimerick.com/event/compliance-committee-meeting/2028-01-03/
LOCATION:The Crows Nest\, 790 E Saint Andrews Drive\, Shelton\, WA\, 98584\, United States
CATEGORIES:Committee Meetings
END:VEVENT
BEGIN:VEVENT
DTSTART;TZID=America/Los_Angeles:20280105T143000
DTEND;TZID=America/Los_Angeles:20280105T163000
DTSTAMP:20260420T010924
CREATED:20250730T214820Z
LAST-MODIFIED:20250730T214820Z
UID:10001641-1830695400-1830702600@lakelimerick.com
SUMMARY:Inn Committee
DESCRIPTION:Time:  2:30pm-4:30pm \nLocation:  Crow’s Nest
URL:https://lakelimerick.com/event/inn-committee/2028-01-05/
LOCATION:The Crows Nest\, 790 E Saint Andrews Drive\, Shelton\, WA\, 98584\, United States
CATEGORIES:Committee Meetings
END:VEVENT
BEGIN:VEVENT
DTSTART;TZID=America/Los_Angeles:20280106T180000
DTEND;TZID=America/Los_Angeles:20280106T190000
DTSTAMP:20260420T010924
CREATED:20250730T214241Z
LAST-MODIFIED:20260129T202438Z
UID:10001581-1830794400-1830798000@lakelimerick.com
SUMMARY:Greenbelts & Trails Committee
DESCRIPTION:Meets 1st Thursday of each month at 6:00pm in the Crow’s Nest (Inn Upstairs) \nOur focus is to work on being more intentional with the appearance\, use\, & upkeep of our greenbelt areas and entranceways. Work to mitigate safety concerns.  Provide opportunities to volunteer on the committee\, and or\, in helping adopt various areas for upkeep and neighborhood watch as plans progress.
URL:https://lakelimerick.com/event/greenbelts-trees-trails-committee/2028-01-06/
LOCATION:The Crows Nest\, 790 E Saint Andrews Drive\, Shelton\, WA\, 98584\, United States
CATEGORIES:Committee Meetings
END:VEVENT
BEGIN:VEVENT
DTSTART;TZID=America/Los_Angeles:20280111T140000
DTEND;TZID=America/Los_Angeles:20280111T153000
DTSTAMP:20260420T010924
CREATED:20250731T203306Z
LAST-MODIFIED:20250831T023524Z
UID:10002067-1831212000-1831217400@lakelimerick.com
SUMMARY:Socrates Café
DESCRIPTION:Join the Conversation!\nMeetings are held on the 2nd Tuesday of each month at 2:00 pm\nin the Crows Nest\, upstairs from the Great Hall. \n \n  \nWhat is Socrates Café? \nIt is a gathering of people interested in examining philosophical and ethical questions by challenging commonly held beliefs\, dogmas\, theories\, and convictions using critical thinking and the Socratic method or Socrates debate.  (Named after the Greek philosopher\, Socrates\, this is “a form of cooperative argumentative dialogue between individuals\, based on asking and answering questions to stimulate critical thinking and to draw our ideas and underlying presumptions.”) \nPlease consider joining us to listen\, participate\, contribute\, or provide your most provocative insights and thoughts!
URL:https://lakelimerick.com/event/socrates-cafe/2028-01-11/
LOCATION:The Crows Nest\, 790 E Saint Andrews Drive\, Shelton\, WA\, 98584\, United States
CATEGORIES:Community Events
END:VEVENT
BEGIN:VEVENT
DTSTART;TZID=America/Los_Angeles:20280112T153000
DTEND;TZID=America/Los_Angeles:20280112T163000
DTSTAMP:20260420T010924
CREATED:20260218T175358Z
LAST-MODIFIED:20260218T175358Z
UID:10005884-1831303800-1831307400@lakelimerick.com
SUMMARY:Committee Chair Meeting
DESCRIPTION:
URL:https://lakelimerick.com/event/committee-chair-meeting/2028-01-12/
LOCATION:The Crows Nest\, 790 E Saint Andrews Drive\, Shelton\, WA\, 98584\, United States
CATEGORIES:Committee Meetings
END:VEVENT
BEGIN:VEVENT
DTSTART;TZID=America/Los_Angeles:20280113T113000
DTEND;TZID=America/Los_Angeles:20280113T130000
DTSTAMP:20260420T010924
CREATED:20260112T201546Z
LAST-MODIFIED:20260112T201546Z
UID:10005121-1831375800-1831381200@lakelimerick.com
SUMMARY:Park Strategic Planning Sub-Team
DESCRIPTION:
URL:https://lakelimerick.com/event/park-strategic-planning-sub-team/2028-01-13/
LOCATION:The Crows Nest\, 790 E Saint Andrews Drive\, Shelton\, WA\, 98584\, United States
CATEGORIES:Committee Meetings
END:VEVENT
BEGIN:VEVENT
DTSTART;TZID=America/Los_Angeles:20280114T153000
DTEND;TZID=America/Los_Angeles:20280114T170000
DTSTAMP:20260420T010924
CREATED:20251204T194744Z
LAST-MODIFIED:20251204T194813Z
UID:10003754-1831476600-1831482000@lakelimerick.com
SUMMARY:Architectural Committee
DESCRIPTION:\
URL:https://lakelimerick.com/event/architecture-committee-2-2/2028-01-14/
LOCATION:The Crows Nest\, 790 E Saint Andrews Drive\, Shelton\, WA\, 98584\, United States
CATEGORIES:Committee Meetings
ORGANIZER;CN="Architecture Committee":MAILTO:arch@lakelimerick.net
END:VEVENT
BEGIN:VEVENT
DTSTART;TZID=America/Los_Angeles:20280127T113000
DTEND;TZID=America/Los_Angeles:20280127T130000
DTSTAMP:20260420T010924
CREATED:20260112T201546Z
LAST-MODIFIED:20260112T201546Z
UID:10005122-1832585400-1832590800@lakelimerick.com
SUMMARY:Park Strategic Planning Sub-Team
DESCRIPTION:
URL:https://lakelimerick.com/event/park-strategic-planning-sub-team/2028-01-27/
LOCATION:The Crows Nest\, 790 E Saint Andrews Drive\, Shelton\, WA\, 98584\, United States
CATEGORIES:Committee Meetings
END:VEVENT
BEGIN:VEVENT
DTSTART;TZID=America/Los_Angeles:20280202T143000
DTEND;TZID=America/Los_Angeles:20280202T163000
DTSTAMP:20260420T010924
CREATED:20250730T214820Z
LAST-MODIFIED:20250730T214820Z
UID:10001642-1833114600-1833121800@lakelimerick.com
SUMMARY:Inn Committee
DESCRIPTION:Time:  2:30pm-4:30pm \nLocation:  Crow’s Nest
URL:https://lakelimerick.com/event/inn-committee/2028-02-02/
LOCATION:The Crows Nest\, 790 E Saint Andrews Drive\, Shelton\, WA\, 98584\, United States
CATEGORIES:Committee Meetings
END:VEVENT
BEGIN:VEVENT
DTSTART;TZID=America/Los_Angeles:20280203T180000
DTEND;TZID=America/Los_Angeles:20280203T190000
DTSTAMP:20260420T010924
CREATED:20250730T214241Z
LAST-MODIFIED:20260129T202438Z
UID:10001582-1833213600-1833217200@lakelimerick.com
SUMMARY:Greenbelts & Trails Committee
DESCRIPTION:Meets 1st Thursday of each month at 6:00pm in the Crow’s Nest (Inn Upstairs) \nOur focus is to work on being more intentional with the appearance\, use\, & upkeep of our greenbelt areas and entranceways. Work to mitigate safety concerns.  Provide opportunities to volunteer on the committee\, and or\, in helping adopt various areas for upkeep and neighborhood watch as plans progress.
URL:https://lakelimerick.com/event/greenbelts-trees-trails-committee/2028-02-03/
LOCATION:The Crows Nest\, 790 E Saint Andrews Drive\, Shelton\, WA\, 98584\, United States
CATEGORIES:Committee Meetings
END:VEVENT
BEGIN:VEVENT
DTSTART;TZID=America/Los_Angeles:20280205T093000
DTEND;TZID=America/Los_Angeles:20280205T130000
DTSTAMP:20260420T010924
CREATED:20250730T211155Z
LAST-MODIFIED:20251025T003719Z
UID:10001079-1833355800-1833368400@lakelimerick.com
SUMMARY:Lakes\, Dams\, & Parks Meeting
DESCRIPTION:
URL:https://lakelimerick.com/event/lakes-dams-parks-meeting/2028-02-05/
LOCATION:The Crows Nest\, 790 E Saint Andrews Drive\, Shelton\, WA\, 98584\, United States
CATEGORIES:Committee Meetings
END:VEVENT
END:VCALENDAR